BEGIN:VCALENDAR
VERSION:2.0
PRODID:-//C3SC - Cardiff Third Sector Council - ECPv6.15.17//NONSGML v1.0//EN
CALSCALE:GREGORIAN
METHOD:PUBLISH
X-ORIGINAL-URL:https://c3sc.org.uk
X-WR-CALDESC:Events for C3SC - Cardiff Third Sector Council
REFRESH-INTERVAL;VALUE=DURATION:PT1H
X-Robots-Tag:noindex
X-PUBLISHED-TTL:PT1H
BEGIN:VTIMEZONE
TZID:Africa/Abidjan
BEGIN:STANDARD
TZOFFSETFROM:+0000
TZOFFSETTO:+0000
TZNAME:GMT
DTSTART:20250101T000000
END:STANDARD
END:VTIMEZONE
BEGIN:VEVENT
DTSTART;TZID=Africa/Abidjan:20260422T133000
DTEND;TZID=Africa/Abidjan:20260422T143000
DTSTAMP:20260422T230842
CREATED:20260327T135126Z
LAST-MODIFIED:20260422T135132Z
UID:76326-1776864600-1776868200@c3sc.org.uk
SUMMARY:DTA Wales Egin Programme: Meet the Funder Event
DESCRIPTION:C3SC hosts a new Meet the Funder event for 2026\, as DTA Wales feature in a session introducing their Egin Grant Scheme\n\n\nC3SC is delighted to host a new Meet the Funder event for 2026! \nEgin is unlocking the collective power of communities in Wales to tackle climate change. \nThrough Egin\, community groups can access Peer Mentor support to take their first steps towards taking action on climate change and living more sustainably. Our main focus is on helping those who will be the most impacted by climate change\, yet may often feel they are not part of conversations around climate. \nLouisa Addiscott from DTA Wales will present a Meet the Funder session aimed at grassroot groups and organisations interested in Climate Change activities/ projects. \nFor any further enquiries contact C3SC on 02920 485722 or enquiries@c3sc.org.uk
URL:https://c3sc.org.uk/event-single/dta-wales-egin-programme-meet-the-funder-event/
LOCATION:Online Event
CATEGORIES:Event
ATTACH;FMTTYPE=image/png:https://c3sc.org.uk/wp-content/uploads/70946_image.png
END:VEVENT
BEGIN:VEVENT
DTSTART;TZID=Africa/Abidjan:20260425T143000
DTEND;TZID=Africa/Abidjan:20260425T163000
DTSTAMP:20260422T230842
CREATED:20260313T135125Z
LAST-MODIFIED:20260422T135131Z
UID:76234-1777127400-1777134600@c3sc.org.uk
SUMMARY:Cardiff Community Schools Networking Meeting
DESCRIPTION:A  space for community schools in Cardiff to meet\, share their experiences\, and collaborate on solutions to common challenges.\n\n\nJoin us for our next Cardiff Community Schools Networking Meeting\, hosted by C3SC at the location of one of our members – ROUCA Romanian School on Saturday 25th April 2:30pm-4:30pm at Llanishen Baptist Church\, Fidlas Road\, Cardiff CF14 5LZ. \nThis session will provide updates from C3SC and local community schools\, highlight available support\, and create space for collaboration\, shared learning\, and collective planning. \nThrough presentations\, small-group discussions\, and open dialogue\, we will continue exploring common challenges\, strategic priorities\, and opportunities to work together across community schools.
URL:https://c3sc.org.uk/event-single/cardiff-community-schools-networking-meeting-2/
LOCATION:Llanishen Baptist Church\, Fidlas\, Cardiff\, CF14 5LZ\, Cardiff\, CF14 5LZ\, GB
CATEGORIES:Event
ATTACH;FMTTYPE=image/png:https://c3sc.org.uk/wp-content/uploads/70946_image.png
END:VEVENT
END:VCALENDAR