BEGIN:VCALENDAR
VERSION:2.0
PRODID:-//C3SC - Cardiff Third Sector Council - ECPv6.15.17//NONSGML v1.0//EN
CALSCALE:GREGORIAN
METHOD:PUBLISH
X-ORIGINAL-URL:https://c3sc.org.uk
X-WR-CALDESC:Events for C3SC - Cardiff Third Sector Council
REFRESH-INTERVAL;VALUE=DURATION:PT1H
X-Robots-Tag:noindex
X-PUBLISHED-TTL:PT1H
BEGIN:VTIMEZONE
TZID:Europe/London
BEGIN:DAYLIGHT
TZOFFSETFROM:+0000
TZOFFSETTO:+0100
TZNAME:BST
DTSTART:20230326T010000
END:DAYLIGHT
BEGIN:STANDARD
TZOFFSETFROM:+0100
TZOFFSETTO:+0000
TZNAME:GMT
DTSTART:20231029T010000
END:STANDARD
BEGIN:DAYLIGHT
TZOFFSETFROM:+0000
TZOFFSETTO:+0100
TZNAME:BST
DTSTART:20240331T010000
END:DAYLIGHT
BEGIN:STANDARD
TZOFFSETFROM:+0100
TZOFFSETTO:+0000
TZNAME:GMT
DTSTART:20241027T010000
END:STANDARD
BEGIN:DAYLIGHT
TZOFFSETFROM:+0000
TZOFFSETTO:+0100
TZNAME:BST
DTSTART:20250330T010000
END:DAYLIGHT
BEGIN:STANDARD
TZOFFSETFROM:+0100
TZOFFSETTO:+0000
TZNAME:GMT
DTSTART:20251026T010000
END:STANDARD
END:VTIMEZONE
BEGIN:VEVENT
DTSTART;TZID=Europe/London:20240305T133000
DTEND;TZID=Europe/London:20240305T170000
DTSTAMP:20260419T172444
CREATED:20231026T152512Z
LAST-MODIFIED:20240226T105636Z
UID:68153-1709645400-1709658000@c3sc.org.uk
SUMMARY:C3SC AGM and Members' Meeting 2023 (Hybrid Event)
DESCRIPTION:C3SC’s AGM is a chance for members to hear about what’s been happening at C3SC in the past year and help shape plans for the next 12 months. \nAbout this event \nC3SC AGM and Members’ Meeting 2023 \n“Inspiring Communities” – Tuesday 5th March 2024 from 1:30pm in person and on Zoom. \nC3SC AGM and Networking Lunch from 1:30pm \nThis is an exciting opportunity for our members and supporters to participate in our Annual Members Meeting\, meet with our staff and trustees and help shape our plans for the next 12 months. The event will be participative\, and you will have the opportunity to hear from our key speaker\, join our discussion workshops as we explore some of the things we have been working on in the last 12 months\, and take a forward look at some of the challenges and opportunities facing our communities and community organisations at this challenging and important time. \nMore information will follow with regards to an agenda\, resolutions and proxy forms. \nThe agenda\, resolutions and proxy forms will be updated here\, where proxy forms are to be returned by: 10:00am on Friday 1 March 2024. \nThe official AGM proceedings will be followed by complementary food\, including vegan and halal options. \nHosted in hybrid format. In person at Butetown Community Centre. Online via Zoom. \nSign up here \nPlease note that a joining link will be sent to you prior to the event. \nFollow us @C3SC and @CdfVolCentre on Facebook\, Instagram\, Twitter and LinkedIn – we welcome your messages of support! \nWe hope you can join us.
URL:https://c3sc.org.uk/event-single/c3sc-agm-and-members-meeting-2023/
LOCATION:Butetown Community Centre\, 40 Loudoun Square\, Cardiff CF10 5JA\, Butetown Community Centre\, 40 Loudoun Square\, Cardiff CF10 5JA
CATEGORIES:Event,Meeting,Workshop and Surgery
ATTACH;FMTTYPE=image/jpeg:https://c3sc.org.uk/wp-content/uploads/C3SC-AGM-2023-6.jpg
END:VEVENT
BEGIN:VEVENT
DTSTART;TZID=Europe/London:20240314T123000
DTEND;TZID=Europe/London:20240314T143000
DTSTAMP:20260419T172444
CREATED:20240307T163357Z
LAST-MODIFIED:20240307T163357Z
UID:68852-1710419400-1710426600@c3sc.org.uk
SUMMARY:Community Action for Nature in Cardiff
DESCRIPTION:The Cardiff Local Nature Partnership (LNP) and C3SC would like to invite you to join us for a forum on Action for Nature in Cardiff. \nAre you a Cardiff community-based group or a third sector organisation with an interest in taking action on nature\, climate change or tackling biodiversity loss? \nJoin us in a conversation on what we can do in partnership and as a collective to improve nature across the City and engage with the Cardiff Nature Recovery Action Plan. The event will provide an opportunity to find out more about: \n\nCardiff’s Nature Recovery plan and related partnership opportunities.\nEngaging and managing volunteers.\nAccessing funding and resources.\nRaising awareness and accessing training.\n\nDate: Thursday 14th March 2024 \nTime: 12:30 to 14:30 \nLocation: This will be a hybrid event at Butetown Community Centre and on Microsoft Teams \nSign up here \nLight lunch and refreshments will be available for those attending in-person. \nPlease ensure you book the correct ticket for your intended joining method: in-person or virtual. The joining link will be sent out to you 24 hours before the event if you will be joining us virtually. \nPlease contact Anna at C3SC on 02920 485722 or enquiries@c3sc.org.uk if you have any questions or for further information. We hope you can join us.
URL:https://c3sc.org.uk/event-single/community-action-for-nature-in-cardiff/
LOCATION:Butetown Community Centre\, 40 Loudoun Square\, Cardiff CF10 5JA\, Butetown Community Centre\, 40 Loudoun Square\, Cardiff CF10 5JA
CATEGORIES:Event
ATTACH;FMTTYPE=image/jpeg:https://c3sc.org.uk/wp-content/uploads/Cardiff-Local-Nature-Partnership-x-C3SC-thumbnail.jpg
END:VEVENT
BEGIN:VEVENT
DTSTART;TZID=Europe/London:20240320T133000
DTEND;TZID=Europe/London:20240320T160000
DTSTAMP:20260419T172444
CREATED:20240202T162335Z
LAST-MODIFIED:20240202T162335Z
UID:68676-1710941400-1710950400@c3sc.org.uk
SUMMARY:Getting the Best from Your Volunteers
DESCRIPTION:The training will help you improve your knowledge on Getting the Best from your Volunteers. It would be suitable for volunteer managers\, coordinators\, supervisors\, team leaders and individuals who have responsibility for recruiting\, training and managing volunteers. Volunteers are welcome to apply and will be allocated a space\, on a first come first served basis. By the end of the course\, you will: \n\nUnderstand what motivates and de-motivates volunteers\nUnderstand good practice in relation support and supervision\nRecognise and be able to manage a variety of difficult situations\nKnow when and how to terminate a volunteering relationship\nBe able to assess needs for training and development and recognise different ways of meeting these\nKnow how to give appropriate recognition to volunteers\n\nDate: Wednesday 20th March 2024 \nTime: 1:30 pm – 4:00 pm \nThe training will be a hybrid event. In-person attendees will participate at Butetown Community Centre. Online participants will join the training via Microsoft Teams. \nW e will send the joining link through 24 hours before the course – please check your ‘Spam’ inbox if you do not see it. \nFor further enquiries\, contact C3SC on 07973 725 335 or volunteer@c3sc.org.uk \nYou can book your space here.
URL:https://c3sc.org.uk/event-single/getting-the-best-from-your-volunteers-5/
LOCATION:Butetown Community Centre\, 40 Loudoun Square\, Cardiff\, CF10 5UZ\, Cardiff\, CF10 5UZ\, GB
CATEGORIES:Training
ATTACH;FMTTYPE=image/png:https://c3sc.org.uk/wp-content/uploads/WEBSITE-THUMBNAIL-1000-×-1000-px-10-1.png
ORGANIZER;CN="C3SC":MAILTO:enquiries@c3sc.org.uk
END:VEVENT
BEGIN:VEVENT
DTSTART;TZID=Europe/London:20240321T100000
DTEND;TZID=Europe/London:20240321T120000
DTSTAMP:20260419T172444
CREATED:20240308T132641Z
LAST-MODIFIED:20240308T132851Z
UID:68857-1711015200-1711022400@c3sc.org.uk
SUMMARY:Health\, Social Care and Wellbeing Network Event
DESCRIPTION:An opportunity for voluntary and community groups to share good practice and provide support around health and wellbeing. \nThis event will provide an opportunity for third sector organisations with an interest in improving the health and wellbeing of community members to share information \, as well as highlight and discuss current issues. \nDuring the first half of the meeting we will focus on developing a third sector response to the current Welsh Government consultation on mandating the use of health impact assessments in Wales. An overview will be provided on the consultation documents and following on from this participants will be invited to contribute their observations. A summary of the discussion will then be written up and submitted to the Welsh Government (submissions need to be sent by March 27th). \nThe link to these consultation documents can be found here \nDuring the second half of the meeting we will share a range of updates from the third sector\, and participants will have an opportunity to share information about initiatives that they are involved in. As part of this discussion we will be focussing on how we can make best use of the network\, and these network meetings\, over the next 12 months. \nThe event will be taking place online and the link will be sent through within 24 hours of the event taking place. \nSign up here \nFor any further enquiry\, contact duncan.i@c3sc.org.uk or enquiries@c3sc.org.uk
URL:https://c3sc.org.uk/event-single/health-social-care-and-wellbeing-network-event/
LOCATION:Online
CATEGORIES:Event,Meeting,Network Meeting
ATTACH;FMTTYPE=image/png:https://c3sc.org.uk/wp-content/uploads/C3SC-Eventbrite-Main-Event-Image-4-600x600-3.png
END:VEVENT
BEGIN:VEVENT
DTSTART;TZID=Europe/London:20240327T140000
DTEND;TZID=Europe/London:20240327T160000
DTSTAMP:20260419T172444
CREATED:20240312T155251Z
LAST-MODIFIED:20240312T155251Z
UID:68878-1711548000-1711555200@c3sc.org.uk
SUMMARY:C3SC Children\, Young People and Families Network: March 2024
DESCRIPTION:C3SC’s Children\, Young People and Families Network: meeting 27th March \nCardiff Third Sector Council will reconvene their Children\, Young People and Families Network meeting on Wednesday 27th March\, with a two hour online session between 2-4pm. \nThe session will feature a presentation from Cheryl Pinheiro\, Funding Officer at the National Lottery Community Fund\, who will be discussing their new Sustainable Steps Green Careers programme. The session will look at ways in which community groups can get involved in the scheme\, which aims to help young people (aged between 16 and 30) in Wales into green careers\, with a focus on young people with disabilities and/or young people from ethnically minoritised communities. \nThe Forum gives an opportunity to Third Sector groups working with Children\, Young People and Families to meet other groups\, share ideas and learning\, make alliances and receive up to date information from guest speakers and presenters. They will also help to co-produce the agenda going forward. \nAlongside networking opportunities\, the CYPF Network meetings are an opportunity for members of C3SC to come together with like-minded peers and connect with partners to provide insight\, influence\, and develop solutions to local challenges. If you have any suggestions of current or emerging items to discuss or explore at these meetings\, please email Thomas Crockett at thomas.c@c3sc.org.uk. \nSign up here \nFor any further enquiries\, please contact C3SC on 07973 725335 or enquiries@c3sc.org.uk. \nWe look forward to seeing you!
URL:https://c3sc.org.uk/event-single/c3sc-children-young-people-and-families-network-march-2024/
CATEGORIES:Network Meeting
ATTACH;FMTTYPE=image/png:https://c3sc.org.uk/wp-content/uploads/C3SC-Eventbrite-Main-Event-Image-4-600x600-3.png
END:VEVENT
BEGIN:VEVENT
DTSTART;TZID=Europe/London:20240327T163000
DTEND;TZID=Europe/London:20240327T200000
DTSTAMP:20260419T172444
CREATED:20240311T140647Z
LAST-MODIFIED:20240311T140647Z
UID:68866-1711557000-1711569600@c3sc.org.uk
SUMMARY:Healthy Lives Ramadan - Women and Children only
DESCRIPTION:This event is in collaboration with Public Health Wales to promote health and wellness during Ramadan. \nWe cordially invite women and children to join us for an exclusive Iftar event in collaboration with Public Health Wales. This event aims to promote discussions and provide valuable insights into immunisations and vaccinations\, facilitated by GPs\, consultants\, and specialists. Parents can sign up their children when signing up to this event. Each entry corresponds to one child. \nPlease ensure that you provide accurate information for registration purposes. This event offers a platform for open conversations and engaging activities for both children and adults\, promoting health and wellness during Ramadan. \nBook your place here \nWe look forward to welcoming you to an enriching and insightful evening at the Ramadan Wellness event for Women and Children. \nFor any enquiries or additional information\, please contact Olivia.Headley-grant@wales.nhs.uk or Jalal.g@c3sc.org.uk
URL:https://c3sc.org.uk/event-single/healthy-lives-ramadan-women-and-children-only/
LOCATION:: Cardiff City Stadium\, Leckwith Road\, Cardiff CF11 8AZ\,  : Cardiff City Stadium\, Leckwith Road\, Cardiff CF11 8AZ
CATEGORIES:Event
ATTACH;FMTTYPE=image/jpeg:https://c3sc.org.uk/wp-content/uploads/C3SC-x-Public-Health-Wales-thumbnail.jpg
END:VEVENT
END:VCALENDAR