BEGIN:VCALENDAR
VERSION:2.0
PRODID:-//C3SC - Cardiff Third Sector Council - ECPv6.15.17//NONSGML v1.0//EN
CALSCALE:GREGORIAN
METHOD:PUBLISH
X-WR-CALNAME:C3SC - Cardiff Third Sector Council
X-ORIGINAL-URL:https://c3sc.org.uk
X-WR-CALDESC:Events for C3SC - Cardiff Third Sector Council
REFRESH-INTERVAL;VALUE=DURATION:PT1H
X-Robots-Tag:noindex
X-PUBLISHED-TTL:PT1H
BEGIN:VTIMEZONE
TZID:Europe/London
BEGIN:DAYLIGHT
TZOFFSETFROM:+0000
TZOFFSETTO:+0100
TZNAME:BST
DTSTART:20220327T010000
END:DAYLIGHT
BEGIN:STANDARD
TZOFFSETFROM:+0100
TZOFFSETTO:+0000
TZNAME:GMT
DTSTART:20221030T010000
END:STANDARD
BEGIN:DAYLIGHT
TZOFFSETFROM:+0000
TZOFFSETTO:+0100
TZNAME:BST
DTSTART:20230326T010000
END:DAYLIGHT
BEGIN:STANDARD
TZOFFSETFROM:+0100
TZOFFSETTO:+0000
TZNAME:GMT
DTSTART:20231029T010000
END:STANDARD
BEGIN:DAYLIGHT
TZOFFSETFROM:+0000
TZOFFSETTO:+0100
TZNAME:BST
DTSTART:20240331T010000
END:DAYLIGHT
BEGIN:STANDARD
TZOFFSETFROM:+0100
TZOFFSETTO:+0000
TZNAME:GMT
DTSTART:20241027T010000
END:STANDARD
END:VTIMEZONE
BEGIN:VEVENT
DTSTART;TZID=Europe/London:20230516T133000
DTEND;TZID=Europe/London:20230516T160000
DTSTAMP:20260422T230229
CREATED:20230320T105229Z
LAST-MODIFIED:20230320T105229Z
UID:66512-1684243800-1684252800@c3sc.org.uk
SUMMARY:Introduction to Volunteering
DESCRIPTION:The training will help you improve your knowledge on welcoming volunteers to your organisation. It would be suitable for volunteer managers\, coordinators\, supervisors\, team leaders and individuals who have responsibility for recruiting\, training and managing volunteers. Volunteers are welcome to apply and will be allocated a space\, on a first come first served basis. By the end of the course\, you will:  \n\nUnderstand the nature and scope of volunteering and how it differs from paid work​\nRecognise how and why organisations involve volunteers in their work\nAppreciate the resource implications of involving volunteers\n\nDate: Tuesday 16th May 2023 \nTime: 1:30 pm – 4:00 pm \nThe training will be hybrid\, taking place on Microsoft Teams and In person at Butetown Communitty Centre. The link will be sent through within 24 hours of the training taking place.  \nTo Register for this event click here \nFor further enquiries\, contact C3SC on 07973 725 335 or enquiries@c3sc.org.uk
URL:https://c3sc.org.uk/event-single/introduction-to-volunteering/
LOCATION:Butetown Community Centre\, 40 Loudoun Square\, Cardiff\, CF10 5UZ\, Cardiff\, CF10 5UZ\, GB
CATEGORIES:Training
ATTACH;FMTTYPE=image/png:https://c3sc.org.uk/wp-content/uploads/WEBSITE-THUMBNAIL-1000-×-1000-px-10-1.png
ORGANIZER;CN="C3SC":MAILTO:enquiries@c3sc.org.uk
END:VEVENT
BEGIN:VEVENT
DTSTART;TZID=Europe/London:20230517T130000
DTEND;TZID=Europe/London:20230517T150000
DTSTAMP:20260422T230229
CREATED:20230504T082426Z
LAST-MODIFIED:20230516T155536Z
UID:66735-1684328400-1684335600@c3sc.org.uk
SUMMARY:What is Community Development training course
DESCRIPTION:C3SC is hosting this online training session on ‘What is Community Development’ \nThe learning outcomes from the session are to: \n\nUnderstand that community development has a key purpose and a statement of values and principles\nAppreciate the skills required to undertake community development\n\nThe event will take place on Microsoft Teams and the link will be sent through within 24 hours of the event taking place. \nPlease click here to register your attendance to this training course. \nFor any further enquiry contact C3SC on 02920 485 722 or enquiries@c3sc.org.uk
URL:https://c3sc.org.uk/event-single/what-is-community-development-training-course-2/
LOCATION:Online
CATEGORIES:Training
ATTACH;FMTTYPE=image/png:https://c3sc.org.uk/wp-content/uploads/66013_image.png
END:VEVENT
BEGIN:VEVENT
DTSTART;TZID=Europe/London:20230518T163000
DTEND;TZID=Europe/London:20230518T183000
DTSTAMP:20260422T230229
CREATED:20230516T152836Z
LAST-MODIFIED:20230516T155256Z
UID:66816-1684427400-1684434600@c3sc.org.uk
SUMMARY:Being a Trustee
DESCRIPTION:Being a Trustee will help new and existing Trustees improve their understanding of best practice in governance. \nThe aims and objectives of the course are that attendees: \n\nUnderstand the key principles of governance\nUnderstand how trustees as a board are collectively responsible and accountable for ensuring that the organisation is well-run\nUnderstand the roles and responsibilities of the Board in good governance\nBe aware of good practice guidance in relation to governance\n\nThe event will be taking place on Teams and the link will be sent through the day prior to the event. \nParticipants are invited to bring their organisation’s governing document to the session\, if available. \nRegister for this training on our Eventbrite here. \nPlease contact C3SC on 029 2048 5722 or enquiries@c3sc.org.uk for more information or with any further enquiries
URL:https://c3sc.org.uk/event-single/being-a-trustee-2/
LOCATION:Online
CATEGORIES:Training
ATTACH;FMTTYPE=image/png:https://c3sc.org.uk/wp-content/uploads/65986_image.png
ORGANIZER;CN="C3SC":MAILTO:enquiries@c3sc.org.uk
END:VEVENT
BEGIN:VEVENT
DTSTART;TZID=Europe/London:20230522T130000
DTEND;TZID=Europe/London:20230522T150000
DTSTAMP:20260422T230229
CREATED:20230516T153421Z
LAST-MODIFIED:20230516T155032Z
UID:66817-1684760400-1684767600@c3sc.org.uk
SUMMARY:Taking Minutes Training Course
DESCRIPTION:Taking minutes training course delivered by C3SC is for Trustees/staff of organisations to improve their understanding of how best to take minutes recording meetings. \nThe learning outcomes from this session are:  \n\nUnderstand why meetings are needed\, what makes a good meeting\, the need for minutes and accuracy of reporting.\nUnderstand the planning of an agenda and the preparation required\nExplore practical tips and useful words for producing good minutes\nConsider the blocks to participation\n\nThe event will be taking place on Microsoft Teams and the link will be sent through within 24 hours of the event taking place. \nYou can book your place for this course on our Eventbrite page here.  \nFor any further enquiry contact C3SC on 029 2048 5722 or enquiries@c3sc.org.uk
URL:https://c3sc.org.uk/event-single/taking-minutes-training-course-2/
LOCATION:Online
CATEGORIES:Training
ATTACH;FMTTYPE=image/png:https://c3sc.org.uk/wp-content/uploads/65986_image.png
ORGANIZER;CN="C3SC":MAILTO:enquiries@c3sc.org.uk
END:VEVENT
BEGIN:VEVENT
DTSTART;TZID=Europe/London:20230531T100000
DTEND;TZID=Europe/London:20230531T120000
DTSTAMP:20260422T230229
CREATED:20230516T154027Z
LAST-MODIFIED:20230516T154312Z
UID:66818-1685527200-1685534400@c3sc.org.uk
SUMMARY:Writing Successful Funding Bids
DESCRIPTION:C3SC hosts a training event which aims to support Third Sector organisations in Cardiff to wrote better funding bids. \nThe course objectives are for participants to have an improved knowledge of: \n\nThe tools and techniques you need to plan\, write and present winning bids\nHow to Understand and meet the expectations of funders\n\nThe event will be taking place on Microsoft Teams and the link will be sent through 24 hours prior to the event taking place. If you do not see the joining information in your inbox\, please ensure you check your ‘Spam’ folder. \nYou can register for this event on our Eventbrite here. \nFor more information please contact C3SC on 029 2048 5722 or enquiries@c3sc.org.uk.
URL:https://c3sc.org.uk/event-single/writing-successful-funding-bids-6/
LOCATION:Online
CATEGORIES:Training
ATTACH;FMTTYPE=image/png:https://c3sc.org.uk/wp-content/uploads/65992_image.png
ORGANIZER;CN="C3SC":MAILTO:enquiries@c3sc.org.uk
END:VEVENT
END:VCALENDAR