BEGIN:VCALENDAR
VERSION:2.0
PRODID:-//C3SC - Cardiff Third Sector Council - ECPv6.15.17//NONSGML v1.0//EN
CALSCALE:GREGORIAN
METHOD:PUBLISH
X-WR-CALNAME:C3SC - Cardiff Third Sector Council
X-ORIGINAL-URL:https://c3sc.org.uk
X-WR-CALDESC:Events for C3SC - Cardiff Third Sector Council
REFRESH-INTERVAL;VALUE=DURATION:PT1H
X-Robots-Tag:noindex
X-PUBLISHED-TTL:PT1H
BEGIN:VTIMEZONE
TZID:Europe/London
BEGIN:DAYLIGHT
TZOFFSETFROM:+0000
TZOFFSETTO:+0100
TZNAME:BST
DTSTART:20220327T010000
END:DAYLIGHT
BEGIN:STANDARD
TZOFFSETFROM:+0100
TZOFFSETTO:+0000
TZNAME:GMT
DTSTART:20221030T010000
END:STANDARD
BEGIN:DAYLIGHT
TZOFFSETFROM:+0000
TZOFFSETTO:+0100
TZNAME:BST
DTSTART:20230326T010000
END:DAYLIGHT
BEGIN:STANDARD
TZOFFSETFROM:+0100
TZOFFSETTO:+0000
TZNAME:GMT
DTSTART:20231029T010000
END:STANDARD
BEGIN:DAYLIGHT
TZOFFSETFROM:+0000
TZOFFSETTO:+0100
TZNAME:BST
DTSTART:20240331T010000
END:DAYLIGHT
BEGIN:STANDARD
TZOFFSETFROM:+0100
TZOFFSETTO:+0000
TZNAME:GMT
DTSTART:20241027T010000
END:STANDARD
END:VTIMEZONE
BEGIN:VEVENT
DTSTART;TZID=Europe/London:20230301T100000
DTEND;TZID=Europe/London:20230301T140000
DTSTAMP:20260423T061806
CREATED:20230130T144441Z
LAST-MODIFIED:20230215T151438Z
UID:66243-1677664800-1677679200@c3sc.org.uk
SUMMARY:Cardiff Third Sector Council AGM and Annual Members' Meeting
DESCRIPTION:We are pleased to invite you to C3SC’s Annual General Meeting and Member’s Networking Event – which will include \n\nOur AGM\nAn opportunity to hear from our guest speaker\, Dr Neil Wooding CBE\, new Chair of WCVA\nA discussion with C3SC’s Trustees and the Senior Team\nWorkshop on co-creating a shared voluntary sector approach to local challenges\nA variety of stalls\nNetworking lunch and opportunities to make connections\, and share experience and knowledge\n\nTo book a stall please e-mail enquiries@c3sc.org.uk. Please book early – stalls will be allocated on a first come\, first served basis. \nYou can find the agenda and AGM papers – including the proxy form if needed – on our website by clicking here. \nWe hope you can join us.
URL:https://c3sc.org.uk/event-single/cardiff-third-sector-council-agm-and-annual-members-meeting/
LOCATION:Butetown Community Centre\, 40 Loudoun Square\, Cardiff\, CF10 5UZ\, Cardiff\, CF10 5UZ\, GB
CATEGORIES:Event
ATTACH;FMTTYPE=image/png:https://c3sc.org.uk/wp-content/uploads/Untitled-design-39-2.png
END:VEVENT
BEGIN:VEVENT
DTSTART;TZID=Europe/London:20230302T100000
DTEND;TZID=Europe/London:20230302T123000
DTSTAMP:20260423T061806
CREATED:20221226T160216Z
LAST-MODIFIED:20221226T160216Z
UID:66010-1677751200-1677760200@c3sc.org.uk
SUMMARY:Governing Your Organisation Training
DESCRIPTION:Governing Your Organisation: An online training session for new and existing Trustees in Cardiff\n\n\nAn online training session for new and existing Trustees in Cardiff to learn more about best practice in governance\, delivered by C3SC \nAbout this event \nGoverning Your Organisation will help new and existing Trustees improve their understanding of best practice in governance. \nThe aims and objectives of the course are that attendees: \nUnderstand the key principles of governance​ \nUnderstand how trustees as a board are collectively responsible and accountable for ensuring that the organisation is well-run​ \nUnderstand the roles and responsibilities of the Board in good governance​ \nBe aware of good practice guidance in relation to governance​ \nThe event will be taking place on  Teams or Zoom and the link will be sent through the day prior to the event. \nParticipants are advised to bring their organisation’s governing document to the session\, if available. \nPlease contact C3SC on 07973725335 or enquiries@c3sc.org.uk for more information or with any further enquiries
URL:https://c3sc.org.uk/event-single/governing-your-organisation-training/
ATTACH;FMTTYPE=image/png:https://c3sc.org.uk/wp-content/uploads/66010_image.png
END:VEVENT
BEGIN:VEVENT
DTSTART;TZID=Europe/London:20230308T100000
DTEND;TZID=Europe/London:20230308T120000
DTSTAMP:20260423T061806
CREATED:20221226T160231Z
LAST-MODIFIED:20221226T160231Z
UID:66013-1678269600-1678276800@c3sc.org.uk
SUMMARY:Writing Successful Funding Bids
DESCRIPTION:Writing Successful Funding Bids: online training for Charities and non profit organisations in Cardiff\n\n\nWriting Successful  Funding Bids: online training session \nHosted by Cardiff Third Sector Council \nC3SC hosts a training event which aims to support Third Sector organisations in Cardiff to wrote better funding bids. \nThe course objectives are for participants to have an improved knowledge of \n\nThe tools and techniques you need to plan\, write and present winning bids\nHow to Understand and meet the expectations of funders \n\nThe event will be taking place on Teams and the link will be sent through 24 hours prior to the event taking place. \nFor more information please contact C3SC on 07973725335 or enquiries@c3sc.org.uk
URL:https://c3sc.org.uk/event-single/writing-successful-funding-bids-5/
ATTACH;FMTTYPE=image/png:https://c3sc.org.uk/wp-content/uploads/66013_image.png
END:VEVENT
BEGIN:VEVENT
DTSTART;TZID=Europe/London:20230309T103000
DTEND;TZID=Europe/London:20230309T123000
DTSTAMP:20260423T061806
CREATED:20230223T132550Z
LAST-MODIFIED:20230223T132550Z
UID:66387-1678357800-1678365000@c3sc.org.uk
SUMMARY:Cardiff Safer\, Cohesive and More Equal Communities Network
DESCRIPTION:The Network will be a discussion and planning forum facilitated by C3SC for members that will provide opportunities to shape how and where the voluntary sector and local communities should be involved in: \n– engaging with communities on safety\, cohesion\, and equity \n– identifying and responding to community needs and priorities \n– bringing a sector and community perspective to the challenges\, issues\, and opportunities \nThe Network will support members to develop the sector and community roles in: \n– issues of justice\, crime\, equality\, and policing \n– supporting and promoting thriving\, resilient\, equal\, and safe communities \n– influencing the priorities\, work programme and spending decisions of statutory sector partners\, and \n– Maximising opportunities for collaboration and contribution to achieving more positive outcomes in the community \n Please register to attend the meeting in person at Butetown Community Centre or on-line via MS Teams. Please click to view the agenda.  \nThe link for the meeting will be shared closer to the meeting date. For any further enquiries contact C3SC on 07973 725335 or enquiries@c3sc.org.uk. \nWe hope you can join us. \nYou can find a full agenda for the meeting here.
URL:https://c3sc.org.uk/event-single/cardiff-safer-cohesive-and-more-equal-communities-network/
LOCATION:Butetown Community Centre\, 40 Loudoun Square\, Cardiff\, CF10 5UZ\, Cardiff\, CF10 5UZ\, GB
CATEGORIES:Network Meeting
ATTACH;FMTTYPE=image/png:https://c3sc.org.uk/wp-content/uploads/66013_image.png
END:VEVENT
BEGIN:VEVENT
DTSTART;TZID=Europe/London:20230315T133000
DTEND;TZID=Europe/London:20230315T160000
DTSTAMP:20260423T061806
CREATED:20221226T160211Z
LAST-MODIFIED:20230111T145628Z
UID:66007-1678887000-1678896000@c3sc.org.uk
SUMMARY:Getting the Best from your Volunteers
DESCRIPTION:The training will help you improve your knowledge on getting the best from your volunteers.\n\n\nThe training will help you improve your knowledge on Getting the Best from your Volunteers. It would be suitable for volunteer managers\, coordinators\, supervisors\, team leaders and individuals who have responsibility for recruiting\, training and managing volunteers. Volunteers are welcome to apply and will be allocated a space\, on a first come first served basis. By the end of the course\, you will: \n\nUnderstand what motivates and de-motivates volunteers\nUnderstand good practice in relation support and supervision\nRecognise and be able to manage a variety of difficult situations\nKnow when and how to terminate a volunteering relationship\nBe able to assess needs for training and development and recognise different ways of meeting these\nKnow how to give appropriate recognition to volunteers\n\nDate: Wednesday 15th March 2023 \nTime: 1:30 pm – 4:00 pm \nThe training will be taking place in person at Butetown Community Centre and on Microsoft Teams. Please choose the ticket option for your method of participation. The joining link will be sent through within 24 hours of the training taking place. \nFor further enquiries\, contact C3SC on 07973 725 335 or enquiries@c3sc.org.uk \nJoining link below: \nhttps://teams.microsoft.com/l/meetup-join/19%3ameeting_MzQyYzI4ZGMtNmViYS00YjRkLWI1OTMtNWY5OTljMmFhNmNh%40thread.v2/0?context=%7b%22Tid%22%3a%228823efeb-04f9-4162-b5d1-337155ee1378%22%2c%22Oid%22%3a%22271212d7-02d3-4782-9deb-1c1b2cf69348%22%7d
URL:https://c3sc.org.uk/event-single/getting-the-best-from-your-volunteers-4/
CATEGORIES:Training
ATTACH;FMTTYPE=image/jpeg:https://c3sc.org.uk/wp-content/uploads/66007_image.jpg
END:VEVENT
BEGIN:VEVENT
DTSTART;TZID=Europe/London:20230323T103000
DTEND;TZID=Europe/London:20230323T120000
DTSTAMP:20260423T061806
CREATED:20230317T142038Z
LAST-MODIFIED:20230317T142038Z
UID:66509-1679567400-1679572800@c3sc.org.uk
SUMMARY:FUNDING OPPORTUNITY Unpaid Carers "Short Breaks" Grant Scheme
DESCRIPTION:There’s still time to apply! Not sure if you qualify? Come along to our online drop in session to hear more about this excellent funding opportunity. Session delivered over Microsoft Teams \nThe Cardiff and Vale Regional Partnership Board in partnership with Cardiff Third Sector Council (C3SC) and Glamorgan Voluntary Services (GVS) have allocated £283\,800 in total\, to support unpaid carers with short breaks from their caring role. The Fund is administered by C3SC in partnership with GVS. This Fund is to help deliver solutions in Cardiff and the Vale of Glamorgan to support the regional priority of reducing loneliness and social isolation. \nSupporting life alongside caring – all unpaid carers must have the opportunity to take breaks from their caring role to enable them to maintain their own health and well-being and have a life alongside caring. \nDevelopment of this new Fund has been informed by research commissioned by Welsh Government in 2021: What A Difference a Break Makes: A Vision for the Future of Short Breaks for Unpaid Carers in Wales. The research sets out 12 key principles for short breaks which underpins the design and delivery of the Short Breaks Scheme and provides a framework for allocation of funding. \nThe research importantly provides the following\, coproduced definition of what constitutes a short break: \nAny break\, which strengthens and/or sustains informal caring relationships and enhances the wellbeing of carers and the people they support. This may be achieved through a service\, an activity or an item. \nThe Short Breaks Scheme intends to benefit 30\,000 carers across Wales over the next three years through the following key aims: \n• Increase the availability and accessibility of short breaks \n• Provide personalised\, flexible and responsive break options \n• Prioritise and target short breaks to those who need it most \nRegister your attendance on the Eventbrite page here.
URL:https://c3sc.org.uk/event-single/funding-opportunity-unpaid-carers-short-breaks-grant-scheme/
LOCATION:Online
CATEGORIES:Event,Workshop and Surgery
ATTACH;FMTTYPE=image/png:https://c3sc.org.uk/wp-content/uploads/65986_image.png
ORGANIZER;CN="C3SC":MAILTO:enquiries@c3sc.org.uk
END:VEVENT
BEGIN:VEVENT
DTSTART;TZID=Europe/London:20230331T160000
DTEND;TZID=Europe/London:20230331T180000
DTSTAMP:20260423T061806
CREATED:20230208T093434Z
LAST-MODIFIED:20230317T113758Z
UID:66292-1680278400-1680285600@c3sc.org.uk
SUMMARY:Youth Volunteering Showcase
DESCRIPTION:Come along and learn more about opportunities available to young people in Cardiff! \nJoin Cardiff Volunteer Centre at our Youth Volunteering Showcase. Cardiff Youth Led Grant 22/23 funded projects will be showcasing the incredible work they have been doing this year! \nFriday 31st March 2023\, 4pm-6pm at Butetown Community Centre. \nWe will also be joined by various organisations who are recruiting young volunteers. \nAre you looking to volunteer as part of your Duke of Edinburgh Award or Welsh Baccalaureate? Come along and learn more about opportunities for Young People in Cardiff! \nTo book your place please visit: https://www.eventbrite.co.uk/e/youth-volunteering-showcase-tickets-514732698357 \nDo you promote volunteer opportunities for young people? Book a stall space at the event by emailing volunteer@c3sc.org.uk
URL:https://c3sc.org.uk/event-single/youth-volunteering-showcase/
LOCATION:Butetown Community Centre\, 40 Loudoun Square\, Cardiff\, CF10 5UZ\, Cardiff\, CF10 5UZ\, GB
ATTACH;FMTTYPE=image/jpeg:https://c3sc.org.uk/wp-content/uploads/Cardiff-Volunteer-Centre-@-C3SC-WhatsApp-Image-2020-05-29-at-16.48.52.jpeg
ORGANIZER;CN="C3SC":MAILTO:enquiries@c3sc.org.uk
END:VEVENT
END:VCALENDAR