BEGIN:VCALENDAR
VERSION:2.0
PRODID:-//C3SC - Cardiff Third Sector Council - ECPv6.15.17//NONSGML v1.0//EN
CALSCALE:GREGORIAN
METHOD:PUBLISH
X-ORIGINAL-URL:https://c3sc.org.uk
X-WR-CALDESC:Events for C3SC - Cardiff Third Sector Council
REFRESH-INTERVAL;VALUE=DURATION:PT1H
X-Robots-Tag:noindex
X-PUBLISHED-TTL:PT1H
BEGIN:VTIMEZONE
TZID:Europe/London
BEGIN:DAYLIGHT
TZOFFSETFROM:+0000
TZOFFSETTO:+0100
TZNAME:BST
DTSTART:20210328T010000
END:DAYLIGHT
BEGIN:STANDARD
TZOFFSETFROM:+0100
TZOFFSETTO:+0000
TZNAME:GMT
DTSTART:20211031T010000
END:STANDARD
BEGIN:DAYLIGHT
TZOFFSETFROM:+0000
TZOFFSETTO:+0100
TZNAME:BST
DTSTART:20220327T010000
END:DAYLIGHT
BEGIN:STANDARD
TZOFFSETFROM:+0100
TZOFFSETTO:+0000
TZNAME:GMT
DTSTART:20221030T010000
END:STANDARD
BEGIN:DAYLIGHT
TZOFFSETFROM:+0000
TZOFFSETTO:+0100
TZNAME:BST
DTSTART:20230326T010000
END:DAYLIGHT
BEGIN:STANDARD
TZOFFSETFROM:+0100
TZOFFSETTO:+0000
TZNAME:GMT
DTSTART:20231029T010000
END:STANDARD
END:VTIMEZONE
BEGIN:VEVENT
DTSTART;TZID=Europe/London:20221208T100000
DTEND;TZID=Europe/London:20221208T120000
DTSTAMP:20260423T102421
CREATED:20221130T074621Z
LAST-MODIFIED:20221205T150400Z
UID:65594-1670493600-1670500800@c3sc.org.uk
SUMMARY:Trustees' Network Meeting
DESCRIPTION:C3SC Trustee Network \nAbout this event \nWe know that trustees deliver vital leadership roles in charities and not for profit groups across Cardiff. We also know that many trustees value opportunities to build and share their skills and experience with peer Networks. \nCardiff Third Sector Council (C3SC) has been undertaking a review of our Networks to plan how we can best offer support to our members\, community activity and volunteering in Cardiff. \nWe are relaunching our Trustees Network\, and we’d really welcome hearing your thoughts about how the Network can best support you. \nWhy should you join us at this Session? \nThis session\, taking place at 10:00 am on Thursday 8 December at Butetown Community Centre hosted by C3SC\, will be a great opportunity to share your insights and advice on how the Trustees Network can best support you in your leadership role. It will also be a great opportunity to Network – and it’s free! You will also: \n\n\n\nLearn from other trustees and share your experiences with others\nConnect with others with similar experiences and values\nHelp to shape new ways to develop your organization\, including informing us as we aim to create a Trustee\nToolkit that will help you in your role\n\nThe meeting will take place at Butetown Community Centre with the possibility to attend online if preferred. Please mention your preference on the booking form . \nFor any further enquiries contact C3SC on 07973 725 335 or enquiries@c3sc.org.uk. \nWe look forward to seeing you!
URL:https://c3sc.org.uk/event-single/c3sc-trustees-network/
LOCATION:Butetown Community Centre\, 40 Loudoun Square\, Cardiff\, CF10 5UZ\, Cardiff\, CF10 5UZ\, GB
ATTACH;FMTTYPE=image/png:https://c3sc.org.uk/wp-content/uploads/65594_image.png
END:VEVENT
BEGIN:VEVENT
DTSTART;TZID=Europe/London:20221213T140000
DTEND;TZID=Europe/London:20221213T160000
DTSTAMP:20260423T102421
CREATED:20221130T074630Z
LAST-MODIFIED:20221130T074630Z
UID:65597-1670940000-1670947200@c3sc.org.uk
SUMMARY:Children\, Young People and Families Network
DESCRIPTION:C3SC’s Children\, Young People and Families Network: 13th December\n\n\nAbout this event \nC3SC’s Children\, Young People and Families Network: meeting 13﻿t﻿h December \nCardiff Third Sector Council will reconvene their Children\, Young People and Families network on Tuesday 13th December\, with a two hour online session between 2-4 pm. \nThe session will feature a presentation from Angharad Thomas\, Operational Manager of Cardiff Youth Justice Service\, who will discuss  her team’s new development strategy for 2022-4\, entitled Building Safe Futures Together. \nThe Forum gives an opportunity to Third Sector groups working with Children\, Young People and Families to meet other groups\, share ideas and learning\, make alliances and receive up to date information from guest speakers and presenters. They will also help to coproduce the agenda going forward. \nFor any further enquiries contact C3SC on 07973 725335 or enquiries@c3sc.org.uk. \n \nWe look forward to seeing you!
URL:https://c3sc.org.uk/event-single/children-young-people-and-families-network-5/
ATTACH;FMTTYPE=image/png:https://c3sc.org.uk/wp-content/uploads/65597_image.png
END:VEVENT
END:VCALENDAR