BEGIN:VCALENDAR
VERSION:2.0
PRODID:-//C3SC - Cardiff Third Sector Council - ECPv6.15.17//NONSGML v1.0//EN
CALSCALE:GREGORIAN
METHOD:PUBLISH
X-WR-CALNAME:C3SC - Cardiff Third Sector Council
X-ORIGINAL-URL:https://c3sc.org.uk
X-WR-CALDESC:Events for C3SC - Cardiff Third Sector Council
REFRESH-INTERVAL;VALUE=DURATION:PT1H
X-Robots-Tag:noindex
X-PUBLISHED-TTL:PT1H
BEGIN:VTIMEZONE
TZID:Europe/London
BEGIN:DAYLIGHT
TZOFFSETFROM:+0000
TZOFFSETTO:+0100
TZNAME:BST
DTSTART:20210328T010000
END:DAYLIGHT
BEGIN:STANDARD
TZOFFSETFROM:+0100
TZOFFSETTO:+0000
TZNAME:GMT
DTSTART:20211031T010000
END:STANDARD
BEGIN:DAYLIGHT
TZOFFSETFROM:+0000
TZOFFSETTO:+0100
TZNAME:BST
DTSTART:20220327T010000
END:DAYLIGHT
BEGIN:STANDARD
TZOFFSETFROM:+0100
TZOFFSETTO:+0000
TZNAME:GMT
DTSTART:20221030T010000
END:STANDARD
BEGIN:DAYLIGHT
TZOFFSETFROM:+0000
TZOFFSETTO:+0100
TZNAME:BST
DTSTART:20230326T010000
END:DAYLIGHT
BEGIN:STANDARD
TZOFFSETFROM:+0100
TZOFFSETTO:+0000
TZNAME:GMT
DTSTART:20231029T010000
END:STANDARD
END:VTIMEZONE
BEGIN:VEVENT
DTSTART;TZID=Europe/London:20221101T163000
DTEND;TZID=Europe/London:20221101T183000
DTSTAMP:20260423T215041
CREATED:20221010T130921Z
LAST-MODIFIED:20221010T130921Z
UID:65285-1667320200-1667327400@c3sc.org.uk
SUMMARY:Being a Trustee Training
DESCRIPTION:An online training session for new and existing Trustees in Cardiff to learn more about best practice in governance\, delivered by C3SC. \nAbout this event: \nBeing a Trustee will help new and existing Trustees improve their understanding of best practice in governance. \nThe aims and objectives of the course are that attendees: \nUnderstand the key principles of governance. \nUnderstand how trustees as a board are collectively responsible and accountable for ensuring that the organisation is well-run. \nUnderstand the roles and responsibilities of the Board in good governance. \nBe aware of good practice guidance in relation to governance. \nThe event will be taking place on Teams or Zoom and the link will be sent through the day prior to the event. \nParticipants are advised to bring their organisation’s governing document to the session\, if available. \nPlease contact C3SC on 07973725335 or enquiries@c3sc.org.uk for more information or with any further enquiries.
URL:https://c3sc.org.uk/event-single/being-a-trustee-training-4/
LOCATION:Online
CATEGORIES:Training
ATTACH;FMTTYPE=image/png:https://c3sc.org.uk/wp-content/uploads/C3SC-Eventbrite-Main-Event-Image-5.png
END:VEVENT
BEGIN:VEVENT
DTSTART;TZID=Europe/London:20221108T140000
DTEND;TZID=Europe/London:20221108T160000
DTSTAMP:20260423T215041
CREATED:20221010T133044Z
LAST-MODIFIED:20221024T112859Z
UID:65287-1667916000-1667923200@c3sc.org.uk
SUMMARY:C3SC Members Forum: Physical Disabilities and Access to Sport and Transport
DESCRIPTION:C3SC Members’ Forum\, led by Cardiff Racerunning Dragons \nCardiff Third Sector Council will launch their new Members’ Forum on Tuesday 8th November\, with a two hour online session between 2pm-4pm. \nThe session will feature a presentation from Gabriela Todd from Cardiff Racerunning Dragons\, who will illustrate some of the inequalities in access to sporting facilities (eg Leisure Centres)\, and transport provision (eg buses and taxis) for people with physical disabilities in Cardiff.  \nThe Forum will give the opportunity to Third Sector groups working with people with physical disabilities to meet other groups\, share ideas and learning\, make alliances and give groups the opportunity to focus on what can be done locally to ensure equality of access for people with physical disabilities. \nFor any further enquiries contact C3SC on 07973 725335 or enquiries@c3sc.org.uk. \nWe look forward to seeing you!
URL:https://c3sc.org.uk/event-single/c3sc-members-forum-led-by-cardiff-racerunning-dragons/
LOCATION:Online
CATEGORIES:Event,Meeting
ATTACH;FMTTYPE=image/png:https://c3sc.org.uk/wp-content/uploads/C3SC-Eventbrite-Main-Event-Image-5.png
END:VEVENT
BEGIN:VEVENT
DTSTART;TZID=Europe/London:20221114T130000
DTEND;TZID=Europe/London:20221114T150000
DTSTAMP:20260423T215041
CREATED:20221024T114852Z
LAST-MODIFIED:20221024T115253Z
UID:65390-1668430800-1668438000@c3sc.org.uk
SUMMARY:An Introduction to Sustainable Funding Training Course
DESCRIPTION:An Introduction to sustainable funding training course delivered by C3SC is organisations gain more understanding and start thinking of sustainable funding options. \nThe learning outcomes from this session are to gain an understanding of: \n\nWhat’s meant by sustainable funding\n\n\nThe skills and approaches required to achieve sustainability\n\n\nThe range of funding and finance options used to develop a sustainable funding mix\n\n\nAnd… to get you thinking!\n\nThe event will be taking place on Microsoft Teams and the link will be sent through within 24 hours of the event taking place. \nFor any further enquiry contact C3SC on 07973 725335 or enquiries@c3sc.org.uk \nWe are looking forward to seeing you.
URL:https://c3sc.org.uk/event-single/an-introduction-to-sustainable-funding-training-course/
CATEGORIES:Training
ATTACH;FMTTYPE=image/png:https://c3sc.org.uk/wp-content/uploads/C3SC-Eventbrite-Main-Event-Image-4.png
END:VEVENT
BEGIN:VEVENT
DTSTART;TZID=Europe/London:20221115T100000
DTEND;TZID=Europe/London:20221115T120000
DTSTAMP:20260423T215041
CREATED:20221010T140426Z
LAST-MODIFIED:20221010T140426Z
UID:65288-1668506400-1668513600@c3sc.org.uk
SUMMARY:Writing Successful Funding Bids
DESCRIPTION:Writing Successful Funding Bids: online training session \nHosted by Cardiff Third Sector Council \nC3SC hosts a training event which aims to support Third Sector organisations in Cardiff to wrote better funding bids. \nThe course objectives are for participants to have an improved knowledge of \n\n\n\nThe tools and techniques you need to plan\, write and present winning bids\nHow to Understand and meet the expectations of funders \n\n\n\n\nThe event will be taking place on Teams or Zoom and the link will be sent through 24 hours prior to the event taking place. \nFor more information please contact C3SC on 07973725335 or enquiries@c3sc.org.uk
URL:https://c3sc.org.uk/event-single/writing-successful-funding-bids-4/
LOCATION:Online
CATEGORIES:Training
ATTACH;FMTTYPE=image/png:https://c3sc.org.uk/wp-content/uploads/C3SC-Eventbrite-Main-Event-Image-5.png
END:VEVENT
BEGIN:VEVENT
DTSTART;TZID=Europe/London:20221115T140000
DTEND;TZID=Europe/London:20221115T153000
DTSTAMP:20260423T215041
CREATED:20221110T164525Z
LAST-MODIFIED:20221110T164616Z
UID:65544-1668520800-1668526200@c3sc.org.uk
SUMMARY:C3SC Hau Third Sector Fund information Session
DESCRIPTION:Cardiff Council and Vale of Glamorgan Council in partnership with Cardiff Third Sector Council (C3SC) and Glamorgan Voluntary Services (GVS) have allocated £30\,000 in total\, to fund innovative third sector sustainable preventative community activities and services in Cardiff and the Vale. The Fund is administered by C3SC in partnership with GVS. \nThe Hau Third Sector Fund is to help deliver solutions in Cardiff and the Vale of Glamorgan to meet the Social Services and Wellbeing (Wales) Act 2014 four fundamental principles: Voice and control; prevention and early intervention; wellbeing; and co-production The fund can also focus on minimizing the impact of the pandemic on the voluntary sector and the communities they serve\, reducing the inequalities across society highlighted or resulting from COVID-19\, recognising that many communities suffered disproportionately. \nIn addition\, applications must demonstrate at least one of the five ways of working of the Wellbeing of Future Generations (Act) 2015 – prevention\, involvement\, collaboration\, integration and is long term (sustainable)\, to find out more follow the link Hau Third Sector Fund \nThe Programme is open for applications from 1st November 2022 with a deadline for submission of 21st November 2022. \nThe event will be taking place online and the link will be sent through within 24 hours of the event taking place. \nFor any further enquiry contact C3SC on 07973 725335 or enquiries@c3sc.org.uk
URL:https://c3sc.org.uk/event-single/c3sc-hau-third-sector-fund-information-session/
LOCATION:Online
CATEGORIES:Event
ATTACH;FMTTYPE=image/png:https://c3sc.org.uk/wp-content/uploads/C3SC-Eventbrite-Main-Event-Image-5.png
END:VEVENT
BEGIN:VEVENT
DTSTART;TZID=Europe/London:20221116T100000
DTEND;TZID=Europe/London:20221116T120000
DTSTAMP:20260423T215041
CREATED:20221024T125116Z
LAST-MODIFIED:20221024T125116Z
UID:65391-1668592800-1668600000@c3sc.org.uk
SUMMARY:Taking Minutes Training Course
DESCRIPTION:Taking minutes training course delivered by C3SC is for Trustees/staff of organisations to improve their understanding of how best to take minutes recording meetings  \nThe learning outcomes from this session are: \n\nUnderstand why meetings are needed\, what makes a good meeting\, the need for minutes and accuracy of reporting.\nUnderstand the planning of an agenda and the preparation required\nExplore practical tips and useful words for producing good minutes\nConsider the blocks to participation\n\nThe event will be taking place on Microsoft Teams and the link will be sent through within 24 hours of the event taking place. \nFor any further enquiry contact C3SC on 07973 725335 or enquiries@c3sc.org.uk \nWe are looking forward to seeing you
URL:https://c3sc.org.uk/event-single/taking-minutes-training-course/
CATEGORIES:Training
ATTACH;FMTTYPE=image/png:https://c3sc.org.uk/wp-content/uploads/C3SC-Eventbrite-Main-Event-Image-5.png
END:VEVENT
BEGIN:VEVENT
DTSTART;TZID=Europe/London:20221117T160000
DTEND;TZID=Europe/London:20221117T173000
DTSTAMP:20260423T215041
CREATED:20220920T160836Z
LAST-MODIFIED:20221114T144402Z
UID:65112-1668700800-1668706200@c3sc.org.uk
SUMMARY:Cardiff Volunteer Awards 2022
DESCRIPTION:The theme of this year’s event is ‘Reconnect In Communities’. \nNow is your opportunity to say THANK YOU to the thousands of volunteers who have gone above and beyond to support you or anyone you know\, your community\,  front-line workers\, and or have made a significant contribution to any project in Cardiff. \nThe Cardiff Volunteer Awards 2022 will be a HYBRID event. When you register\, please choose the appropriate ticket for your planned participation – virtual or in-person.  \nWhen: The event takes place at 4pm on 17 November 2022. Please join us from 3pm to meet the nominees\, network and enjoy a free light lunch. \nWhere: In Person at Butetown Community Centre or Online \nVolunteers can be nominated in the following categories: \n\nCovid-19 Recovery Phase Volunteer\nVolunteer of the Year (Over 25 Years)\nYoung Volunteer of the Year (25 Years and Under)\nVolunteer Group of the Year\nVolunteer Coordinator of the Year\nTrustee of the Year\nOutstanding Community Volunteer\n\nClick here to register for this FREE event on Eventbrite\nIf you are interested in sponsoring the CVAs 2022\, please view the Sponsorship Package Document here. \nPlease feel free to contact us on 07973 725 335 or 02920 485 722 or email us at enquiries@c3sc.org.uk for further information.
URL:https://c3sc.org.uk/event-single/cardiff-volunteer-awards-2022/
LOCATION:Butetown Community Centre
CATEGORIES:Event
ATTACH;FMTTYPE=image/png:https://c3sc.org.uk/wp-content/uploads/Eventbrite-image-23.png
END:VEVENT
BEGIN:VEVENT
DTSTART;TZID=Europe/London:20221130T140000
DTEND;TZID=Europe/London:20221130T163000
DTSTAMP:20260423T215041
CREATED:20220908T105819Z
LAST-MODIFIED:20221021T152954Z
UID:65055-1669816800-1669825800@c3sc.org.uk
SUMMARY:Volunteer Recruitment\, Selection and Induction Training
DESCRIPTION:The training will help you improve your knowledge of Volunteer Recruitment\, Selection and Induction. It would be suitable for Volunteer Managers\, Coordinators\, Supervisors\, Team Leaders and individuals who have responsibility for recruiting\, training and managing volunteers. Volunteers are welcome to apply and will be allocated a space\, on a first come first served basis. By the end of the course\, you will:  \n\nBe familiar with a range of methods to attract a diversity of volunteers\nRecognise ‘selection’ as a two ways process and be familiar with a range of selection tools\nUnderstand the use of vetting procedures including DBS checks and recognise their limitations\nUnderstand the purpose and nature of\n\na) volunteer agreements and\nb) volunteer induction\n\n\nRecognise potential uses and abuses of volunteers’ personal information\nRecognise ways in which volunteering can be made more accessible to all\n\nDate: Wednesday 30th November 2022 \nTime: 2 pm – 4:30 pm \nThe training will be a hybrid event taking place on Microsoft Teams or in person at Butetown Community Centre and the link will be sent through within 24 hours of the training taking place. Please ensure you book the correct ticket for your preferred method of participation.  \nFor further enquiries\, contact C3SC on 07973 725 335 or enquiries@c3sc.org.uk
URL:https://c3sc.org.uk/event-single/volunteer-recruitment-selection-and-induction-training/
LOCATION:Butetown Community Centre\, 40 Loudoun Square\, Cardiff CF10 5UZ\, Butetown Community Centre\, 40 Loudoun Square\, Cardiff CF10 5UZ
CATEGORIES:Training
ATTACH;FMTTYPE=image/jpeg:https://c3sc.org.uk/wp-content/uploads/cdfvolcentre.jpg
END:VEVENT
BEGIN:VEVENT
DTSTART;TZID=Europe/London:20221130T140000
DTEND;TZID=Europe/London:20221130T163000
DTSTAMP:20260423T215041
CREATED:20221130T074609Z
LAST-MODIFIED:20221130T074609Z
UID:65590-1669816800-1669825800@c3sc.org.uk
SUMMARY:Volunteer recruitment\, selection and induction
DESCRIPTION:The training will help you improve your knowledge on Volunteer Recruitment\, Selection and Induction.\n\n\nThe training will help you improve your knowledge on Volunteer Recruitment\, Selection and Induction. It would be suitable for volunteer managers\, coordinators\, supervisors\, team leaders and individuals who have responsibility for recruiting\, training and managing volunteers. Volunteers are welcome to apply and will be allocated a space\, on a first come first served basis. By the end of the course\, you will:  \n\nBe familiar with a range of methods to attract a diversity of volunteers\n\n\nRecognise ‘selection’ as a two ways process and be familiar with a range of selection tools\n\n\nUnderstand the use of vetting procedures including DBS checks and recognise their limitations\n\n\nUnderstand the purpose and nature of a) volunteer agreements and b) volunteer induction\n\n\nRecognise potential uses and abuses of volunteers’ personal information\n\n\nRecognise ways in which volunteering can be made more accessible to all\n\nDate: Wednesday 30th November 2022 \nTime: 2 pm – 4:30 pm \nThe training will be a hybrid event taking place on Microsoft Teams or in person at Butetown Community Centre and the link will be sent through within 24 hours of the training taking place. Please ensure you book the correct ticket for your preferred method of participation.  \nFor further enquiries\, contact C3SC on 07973 725 335 or enquiries@c3sc.org.uk
URL:https://c3sc.org.uk/event-single/volunteer-recruitment-selection-and-induction-2/
ATTACH;FMTTYPE=image/png:https://c3sc.org.uk/wp-content/uploads/65590_image.png
END:VEVENT
END:VCALENDAR