BEGIN:VCALENDAR
VERSION:2.0
PRODID:-//C3SC - Cardiff Third Sector Council - ECPv6.15.17//NONSGML v1.0//EN
CALSCALE:GREGORIAN
METHOD:PUBLISH
X-WR-CALNAME:C3SC - Cardiff Third Sector Council
X-ORIGINAL-URL:https://c3sc.org.uk
X-WR-CALDESC:Events for C3SC - Cardiff Third Sector Council
REFRESH-INTERVAL;VALUE=DURATION:PT1H
X-Robots-Tag:noindex
X-PUBLISHED-TTL:PT1H
BEGIN:VTIMEZONE
TZID:Europe/London
BEGIN:DAYLIGHT
TZOFFSETFROM:+0000
TZOFFSETTO:+0100
TZNAME:BST
DTSTART:20210328T010000
END:DAYLIGHT
BEGIN:STANDARD
TZOFFSETFROM:+0100
TZOFFSETTO:+0000
TZNAME:GMT
DTSTART:20211031T010000
END:STANDARD
BEGIN:DAYLIGHT
TZOFFSETFROM:+0000
TZOFFSETTO:+0100
TZNAME:BST
DTSTART:20220327T010000
END:DAYLIGHT
BEGIN:STANDARD
TZOFFSETFROM:+0100
TZOFFSETTO:+0000
TZNAME:GMT
DTSTART:20221030T010000
END:STANDARD
BEGIN:DAYLIGHT
TZOFFSETFROM:+0000
TZOFFSETTO:+0100
TZNAME:BST
DTSTART:20230326T010000
END:DAYLIGHT
BEGIN:STANDARD
TZOFFSETFROM:+0100
TZOFFSETTO:+0000
TZNAME:GMT
DTSTART:20231029T010000
END:STANDARD
END:VTIMEZONE
BEGIN:VEVENT
DTSTART;TZID=Europe/London:20220912T140000
DTEND;TZID=Europe/London:20220912T153000
DTSTAMP:20260423T230837
CREATED:20220815T110407Z
LAST-MODIFIED:20220815T110407Z
UID:64951-1662991200-1662996600@c3sc.org.uk
SUMMARY:DBS Disclosure Training Workshop
DESCRIPTION:Carol – Regional Outreach Adviser – from the Disclosure and Barring Service will be delivering this online training session. \nThe overall outcome of the session is to have a greater understanding of DBS\, its products and how DBS can work with organisations at all levels to promote and encourage safer recruitment and safeguarding in its widest context. \n Date: Monday 12th September 2022 \nTime: 14:00 pm – 15:30 pm  \nThe learning outcomes from this session are:- \n\nIntroduction to DBS\nUnderstand the benefits of DBS and you (organisation) working together\nUnderstand the different levels of DBS checks\nUnderstand when an employee is eligible for a check\nUnderstand what Regulated Activity is\nUnderstand the DBS Update Service\nHave an understanding of what safe recruitment practices can be in place that DBS checks can form a part of\n\nThe event will be taking place on Microsoft Teams and the link will be sent through within 24 hours of the event taking place. \nFor any further enquiry contact C3SC on 07973 725335 or enquiries@c3sc.org.uk \nWe are looking forward to seeing you.
URL:https://c3sc.org.uk/event-single/dbs-disclosure-training-workshop-2/
CATEGORIES:Training
ATTACH;FMTTYPE=image/png:https://c3sc.org.uk/wp-content/uploads/C3SC-Eventbrite-Main-Event-Image-4.png
ORGANIZER;CN="C3SC":MAILTO:enquiries@c3sc.org.uk
END:VEVENT
BEGIN:VEVENT
DTSTART;TZID=Europe/London:20220913T163000
DTEND;TZID=Europe/London:20220913T183000
DTSTAMP:20260423T230837
CREATED:20220819T150631Z
LAST-MODIFIED:20220819T150631Z
UID:64986-1663086600-1663093800@c3sc.org.uk
SUMMARY:Being a Trustee Training
DESCRIPTION:An online training session for new and existing Trustees in Cardiff to learn more about best practices in governance\, delivered by C3SC. \nAbout this event\nBeing a Trustee will help new and existing Trustees improve their understanding of best practices in governance. \nThe aims and objectives of the course are that attendees: \n\nUnderstand the key principles of governance\nUnderstand how trustees as a board are collectively responsible and accountable for ensuring that the organisation is well-run\nUnderstand the roles and responsibilities of the Board in good governance\nBe aware of good practice guidance in relation to governance\n\nThe event will be taking place on Zoom and the link will be sent through the day prior to the event. \nParticipants are advised to bring their organisation’s governing document to the session\, if available. \nPlease contact C3SC on 07973 725335 or enquiries@c3sc.org.uk for more information or with any further enquiries.
URL:https://c3sc.org.uk/event-single/being-a-trustee-training-3/
CATEGORIES:Training
ATTACH;FMTTYPE=image/png:https://c3sc.org.uk/wp-content/uploads/C3SC-Eventbrite-Main-Event-Image-4.png
ORGANIZER;CN="C3SC":MAILTO:enquiries@c3sc.org.uk
END:VEVENT
BEGIN:VEVENT
DTSTART;TZID=Europe/London:20220914T100000
DTEND;TZID=Europe/London:20220914T120000
DTSTAMP:20260423T230837
CREATED:20220815T111130Z
LAST-MODIFIED:20220816T080428Z
UID:64952-1663149600-1663156800@c3sc.org.uk
SUMMARY:DBS Barring and Referral Training Workshop
DESCRIPTION:Carol – Regional Outreach Adviser – from the Disclosure and Barring Service will be delivering this online training session. \nThe overall outcome of the session is to have a greater understanding of DBS\, its products and how DBS can work with organisations at all levels to promote and encourage safer recruitment and safeguarding in its widest context. \n Date: Wednesday 14th September 2022 \nTime: 10:00am – 12:00pm \nThe learning outcomes from this session are:- \n\nUnderstand the benefits of DBS and you (employer) working together\nUnderstand the three different referral routes\nUnderstand when a DBS Barring referral should be made\, including when the legal duty is met \nUnderstand Regulated Activity / Relevant Conduct and Harm Test \nUnderstand how to make a good quality referral \nHave a clear understanding of the consequences of not making appropriate barring referrals and the consequences of being included in one or both Barred Lists\nMyth Busting Quiz \n\nThe event will be taking place on Microsoft Teams and the link will be sent through within 24 hours of the event taking place. \nFor any further enquiry contact C3SC on 07973 725335 or enquiries@c3sc.org.uk  \nWe are looking forward to seeing you
URL:https://c3sc.org.uk/event-single/dbs-barring-and-referral-training-workshop/
CATEGORIES:Training
ATTACH;FMTTYPE=image/png:https://c3sc.org.uk/wp-content/uploads/C3SC-Eventbrite-Main-Event-Image-4.png
ORGANIZER;CN="C3SC":MAILTO:enquiries@c3sc.org.uk
END:VEVENT
BEGIN:VEVENT
DTSTART;TZID=Europe/London:20220915T100000
DTEND;TZID=Europe/London:20220915T120000
DTSTAMP:20260423T230837
CREATED:20220830T134212Z
LAST-MODIFIED:20220914T143020Z
UID:65001-1663236000-1663243200@c3sc.org.uk
SUMMARY:Cardiff Health\, Social Care and Wellbeing Network
DESCRIPTION:This event will provide an opportunity for third sector organisations with an interest in improving the health and wellbeing in the community to share information and discuss current relevant issues\, such as the cost of living crisis or access to health services. \nA full agenda will be shared closer to the event which will include presentations on: \n\nShaping Our Future Wellbeing In Our Community \nDewis Cymru – The place for wellbeing in Wales\n\nThe event will be taking place online and the link will be sent through within 24 hours of the event taking place. \n\nTo register for this FREE event\, click here: https://www.eventbrite.co.uk/e/cardiff-health-social-care-and-wellbeing-network-tickets-407952536017\n  \nFor any further enquiry contact C3SC on 07973 725335 or enquiries@c3sc.org.uk
URL:https://c3sc.org.uk/event-single/cardiff-health-social-care-and-wellbeing-network/
CATEGORIES:Network Meeting
ATTACH;FMTTYPE=image/png:https://c3sc.org.uk/wp-content/uploads/C3SC-Eventbrite-Main-Event-Image-4.png
ORGANIZER;CN="C3SC":MAILTO:enquiries@c3sc.org.uk
END:VEVENT
BEGIN:VEVENT
DTSTART;TZID=Europe/London:20220921T100000
DTEND;TZID=Europe/London:20220921T120000
DTSTAMP:20260423T230837
CREATED:20220819T151316Z
LAST-MODIFIED:20220914T143238Z
UID:64987-1663754400-1663761600@c3sc.org.uk
SUMMARY:Writing Successful Funding Bids
DESCRIPTION:Writing Successful Funding Bids: Online training session \nC3SC hosts a training event which aims to support Third Sector organisations in Cardiff to write better funding bids. \nThe course objectives are for participants to have an improved knowledge of \n\nThe tools and techniques you need to plan\, write and present winning bids\nHow to Understand and meet the expectations of funders \n\nThe event will be taking place on Zoom and the link will be sent 24 hours prior to the event taking place. \n\nTo register for this FREE event\, click here: https://www.eventbrite.co.uk/e/writing-successful-funding-bids-tickets-405243031817\n  \nFor more information please contact C3SC on 07973 725335 or enquiries@c3sc.org.uk
URL:https://c3sc.org.uk/event-single/writing-successful-funding-bids-3/
CATEGORIES:Training
ATTACH;FMTTYPE=image/png:https://c3sc.org.uk/wp-content/uploads/C3SC-Eventbrite-Main-Event-Image-4.png
ORGANIZER;CN="C3SC":MAILTO:enquiries@c3sc.org.uk
END:VEVENT
BEGIN:VEVENT
DTSTART;TZID=Europe/London:20220921T100000
DTEND;TZID=Europe/London:20220921T120000
DTSTAMP:20260423T230837
CREATED:20220927T112808Z
LAST-MODIFIED:20220927T112808Z
UID:65170-1663754400-1663761600@c3sc.org.uk
SUMMARY:Have Your Say to Social Care and Continuous Health Care Proposed Changes
DESCRIPTION:We are looking to provide a collective response to the Proposed changes to legislation on social care and continuing health care consultation. The changes proposed include  \n\neliminating profit from the care of children looked after \n introducing direct payments for continuing health care \n extending mandatory reporting of children and adults at risk \n amendments to the regulation of service providers\, responsible individuals\, and the social care workforce. This includes extending the definition of social care worker to include childcare and play workers \n\nWill these changes help deliver better Social Care in the community? What are the likely impacts\, benefits\, costs\, and risks?  \nIf you work or have direct experience working in social care\, continues health care or childcare we would like to hear your views.  \nThe event will be taking place online and the link will be sent through within 24 hours of the event taking place. For any further enquiry contact C3SC at enquiries@c3sc.org.uk
URL:https://c3sc.org.uk/event-single/have-your-say-to-social-care-and-continuous-health-care-proposed-changes/
CATEGORIES:Event
ATTACH;FMTTYPE=image/png:https://c3sc.org.uk/wp-content/uploads/C3SC-Eventbrite-Main-Event-Image-4.png
END:VEVENT
BEGIN:VEVENT
DTSTART;TZID=Europe/London:20220927T130000
DTEND;TZID=Europe/London:20220927T150000
DTSTAMP:20260423T230837
CREATED:20220908T132334Z
LAST-MODIFIED:20220908T132334Z
UID:65059-1664283600-1664290800@c3sc.org.uk
SUMMARY:What is Community Development Training Course
DESCRIPTION:C3SC is hosting this online training session on ‘What is Community Development?’ \nThe learning outcome from the session is to: \n\nUnderstand that community development has a key purpose and a statement of values and principles\nAppreciate the skills required to undertake community development\n\nThe event will be taking place on Microsoft Teams and the link will be sent through within 24 hours of the event taking place. \nTo register for this FREE event\, click here: https://www.eventbrite.co.uk/e/what-is-community-development-training-course-tickets-408752879867\n\nFor any further enquiry contact C3SC on 07973 725335 or enquiries@c3sc.org.uk  \nWe are looking forward to seeing you!
URL:https://c3sc.org.uk/event-single/what-is-community-development-training-course/
LOCATION:Microsoft Teams\, United Kingdom
CATEGORIES:Training
ATTACH;FMTTYPE=image/png:https://c3sc.org.uk/wp-content/uploads/C3SC-Eventbrite-Main-Event-Image-5.png
ORGANIZER;CN="C3SC":MAILTO:enquiries@c3sc.org.uk
END:VEVENT
BEGIN:VEVENT
DTSTART;TZID=Europe/London:20220928T100000
DTEND;TZID=Europe/London:20220928T120000
DTSTAMP:20260423T230837
CREATED:20220914T144404Z
LAST-MODIFIED:20220914T144404Z
UID:65072-1664359200-1664366400@c3sc.org.uk
SUMMARY:Gift Aid Training Course
DESCRIPTION:Delivered online by Cardiff Third Sector Development Officer \nWednesday\, September 28th 2022 \n10:00 am – 12:00 pm \nThe course aims to support Third Sector Organisations to have an improved knowledge of Gift Aid registration.  \nThe main objectives of the course are that attendees to understand and be aware of:  \n\nGift Aid Definition\nEligibility of gifts\nDeclaration from your donors\nKeep appropriate records\nMake a claim for Gift Aid\nRegister with HM Revenue and Customs to claim Gift Aid\nmake a claim for Gift Aid\nGift Aid Small Donation Scheme (GASDS)\n\nThe event will be taking place on Teams and the link will be sent 24 hours prior to the event taking place. \nTo register for this FREE event\, click here: https://www.eventbrite.co.uk/e/gift-aid-training-course-tickets-408731736627\n\nFor any further enquiry contact C3SC on 07973 725335 or enquiries@c3sc.org.uk  \nWe are looking forward to seeing you!
URL:https://c3sc.org.uk/event-single/gift-aid-training-course/
CATEGORIES:Training
ATTACH;FMTTYPE=image/png:https://c3sc.org.uk/wp-content/uploads/C3SC-Eventbrite-Main-Event-Image-4.png
END:VEVENT
END:VCALENDAR