BEGIN:VCALENDAR
VERSION:2.0
PRODID:-//C3SC - Cardiff Third Sector Council - ECPv6.15.17//NONSGML v1.0//EN
CALSCALE:GREGORIAN
METHOD:PUBLISH
X-WR-CALNAME:C3SC - Cardiff Third Sector Council
X-ORIGINAL-URL:https://c3sc.org.uk
X-WR-CALDESC:Events for C3SC - Cardiff Third Sector Council
REFRESH-INTERVAL;VALUE=DURATION:PT1H
X-Robots-Tag:noindex
X-PUBLISHED-TTL:PT1H
BEGIN:VTIMEZONE
TZID:Europe/London
BEGIN:DAYLIGHT
TZOFFSETFROM:+0000
TZOFFSETTO:+0100
TZNAME:BST
DTSTART:20210328T010000
END:DAYLIGHT
BEGIN:STANDARD
TZOFFSETFROM:+0100
TZOFFSETTO:+0000
TZNAME:GMT
DTSTART:20211031T010000
END:STANDARD
BEGIN:DAYLIGHT
TZOFFSETFROM:+0000
TZOFFSETTO:+0100
TZNAME:BST
DTSTART:20220327T010000
END:DAYLIGHT
BEGIN:STANDARD
TZOFFSETFROM:+0100
TZOFFSETTO:+0000
TZNAME:GMT
DTSTART:20221030T010000
END:STANDARD
BEGIN:DAYLIGHT
TZOFFSETFROM:+0000
TZOFFSETTO:+0100
TZNAME:BST
DTSTART:20230326T010000
END:DAYLIGHT
BEGIN:STANDARD
TZOFFSETFROM:+0100
TZOFFSETTO:+0000
TZNAME:GMT
DTSTART:20231029T010000
END:STANDARD
END:VTIMEZONE
BEGIN:VEVENT
DTSTART;TZID=Europe/London:20220804T140000
DTEND;TZID=Europe/London:20220804T153000
DTSTAMP:20260424T015346
CREATED:20220621T152321Z
LAST-MODIFIED:20220621T152456Z
UID:64631-1659621600-1659627000@c3sc.org.uk
SUMMARY:Cardiff Volunteer Coordinators' Network (CVCN) meeting Thursday 4th August 2022
DESCRIPTION:The Cardiff Volunteer Coordinators’ Network (CVCN) is a Participation and Engagement initiative by Cardiff Third Sector Council as part of its commitment to the development and support of the volunteering infrastructure in Cardiff and it role within Third Sector Support Wales. Each quarterly meeting is packed with information\, guidance\, discussions and networking. It’s also a great way to raise the profile of volunteering in Cardiff. \nIf you are involved in managing or supporting volunteers? Perhaps you’re a paid worker or volunteer yourself you are more than welcome to attend the meeting. \nDate:  Thursday 4th August 2022 \nTime: 2:00PM – 3:30PM \nLocation: This will be a hybrid event from Butetown Community Centre or Microsoft Teams \nPlease ensure you book the correct ticket for your intended joining method: In-person or Virtual. The joining link will be sent out 24 before the event for virtual attendees.  \n______________________________________________________ \n14:00 – 14:20 Welcome and Introductions (bring your tea and coffee)  \n14:20 – 14:50 Cardiff Volunteer Centre @C3SC Update:  \n14:50 – 15:10 Volunteers Coordinators updates. Open to all organisations to share updates and advertise their project/work.  \n15:10 – 15:30 AOB\, thanks\, networking and close.  \nFull agenda to follow.  \nTo book this event\, click here: https://www.eventbrite.co.uk/e/cardiff-volunteer-coordinators-network-meeting-thursday-4th-august-2022-tickets-368270927257
URL:https://c3sc.org.uk/event-single/cardiff-volunteer-coordinators-network-cvcn-meeting-thursday-4th-august-2022/
LOCATION:Butetown Community Centre\, Loudon Square\, Cardiff CF10 5UZ\, Butetown Community Centre\, Loudon Square\, Cardiff CF10 5UZ
CATEGORIES:Network Meeting
ATTACH;FMTTYPE=image/jpeg:https://c3sc.org.uk/wp-content/uploads/cdfvolcentre.jpg
END:VEVENT
BEGIN:VEVENT
DTSTART;TZID=Europe/London:20220809T110000
DTEND;TZID=Europe/London:20220809T120000
DTSTAMP:20260424T015346
CREATED:20220725T132044Z
LAST-MODIFIED:20220725T132044Z
UID:64859-1660042800-1660046400@c3sc.org.uk
SUMMARY:Charity Commission Roadshow
DESCRIPTION:Cardiff Third Sector Council is hosting The Revitalising Trusts Programme that helps charities who find it difficult to spend their income for the public benefit by assisting them to use their income and assets effectively. \nThe Charity Commission is working in partnership with Welsh Government and Community Foundation Wales(CFW). The Programme aims to assist ineffective or inactive charities and provide them with simple options to wind up\, transfer or revitalise their charity. Many trustees are unaware that there are thousands of inactive funds with a monetary value in the tens of millions\, many with small nominal incomes\, that could be pooled and used more effectively to provide local charities with much needed support. \nThe event will be delivered using Microsoft Teams and the link will be sent 24 hours prior to the event taking place. \nTo register for this FREE event\, visit: https://www.eventbrite.co.uk/e/charity-commission-roadshow-tickets-390429865237 \nFor more information please contact C3SC on 07973725335 or enquiries@c3sc.org.uk.
URL:https://c3sc.org.uk/event-single/charity-commission-roadshow/
CATEGORIES:Event
ATTACH;FMTTYPE=image/png:https://c3sc.org.uk/wp-content/uploads/C3SC-Eventbrite-Main-Event-Image-4.png
END:VEVENT
BEGIN:VEVENT
DTSTART;TZID=Europe/London:20220811T103000
DTEND;TZID=Europe/London:20220811T123000
DTSTAMP:20260424T015346
CREATED:20220721T132503Z
LAST-MODIFIED:20220721T132503Z
UID:64851-1660213800-1660221000@c3sc.org.uk
SUMMARY:Safer\, Cohesive and More Equal Communities Network
DESCRIPTION:C3SC’s Safer\, Cohesive and More Equal Communities Network : 11th August \nCardiff Third Sector Council will launch their Safer\, Cohesive and More Equal Communities Network on 11th August.  \nThe C3SC Safer\, Cohesive and More Equal Communities Network is committed to creating stronger\, more resilient and safer communities by ensuring people:  \n\nfeel safe and live in a cohesive community \nare proud of and want to live\, work\, study and stay in the borough \nlive in a friendly and welcoming borough with strong community spirits. \n\nA cohesive society is one in which:  \n\nthere is a common vision and sense of belonging by all communities; \nthe diversity of people’s backgrounds and circumstances is appreciated and valued; \nsimilar life opportunities are available to all; and \nstrong and positive relationships exist and continue to be developed in the workplace\, in schools and in the wider community. \n\nThis Network recognises that strong and resilient communities are happier and healthier communities.  \nPeople also benefit in terms of their health and wellbeing\, from their connections with people around them and when people look out for each other.  \nThe plan is that this Network will act like a glue\, that bonds society together and helps create strong and resilient communities.  \nThe meeting will take place on Teams and an invitation link will be sent out prior to the event.  \nFor any further enquiries contact C3SC on 07973 725335 or enquiries@c3sc.org.uk. \nWe look forward to seeing you!
URL:https://c3sc.org.uk/event-single/safer-cohesive-and-more-equal-communities-network/
CATEGORIES:Network Meeting
ATTACH;FMTTYPE=image/png:https://c3sc.org.uk/wp-content/uploads/C3SC-Eventbrite-Main-Event-Image-4.png
END:VEVENT
BEGIN:VEVENT
DTSTART;TZID=Europe/London:20220823T140000
DTEND;TZID=Europe/London:20220823T163000
DTSTAMP:20260424T015346
CREATED:20220712T095913Z
LAST-MODIFIED:20220823T120349Z
UID:64782-1661263200-1661272200@c3sc.org.uk
SUMMARY:Preparing for Volunteers training Tuesday 23rd August 2022
DESCRIPTION:The training will help you improve your knowledge on welcoming volunteers to your organisation. It would be suitable for volunteer managers\, coordinators\, supervisors\, team leaders and individuals who have responsibility for recruiting\, training and managing volunteers. Volunteers are welcome to apply and will be allocated a space\, on a first come first served basis. By the end of the course\, you will:  \n\nBe able to develop a volunteering policy​\nHave considered what other policies might be necessary ​\nUnderstand key legal issues relating to volunteers​\nBe able to develop volunteer ‘role descriptions’​\nKnow how to assess and manage risk associated with a volunteer role\n\nThe training will be a hybrid event. In-person attendees will participate at Butetown Community Centre. Online participants will join the training via Microsoft Teams. \nFor any further enquiry contact C3SC on 07973 725335 or enquiries@c3sc.org.uk
URL:https://c3sc.org.uk/event-single/preparing-for-volunteers-training-tuesday-23rd-august-2022/
LOCATION:Butetown Community Center\, Butetown Community Center
CATEGORIES:Training
ATTACH;FMTTYPE=image/jpeg:https://c3sc.org.uk/wp-content/uploads/cdfvolcentre.jpg
END:VEVENT
END:VCALENDAR