BEGIN:VCALENDAR
VERSION:2.0
PRODID:-//C3SC - Cardiff Third Sector Council - ECPv6.15.17//NONSGML v1.0//EN
CALSCALE:GREGORIAN
METHOD:PUBLISH
X-WR-CALNAME:C3SC - Cardiff Third Sector Council
X-ORIGINAL-URL:https://c3sc.org.uk
X-WR-CALDESC:Events for C3SC - Cardiff Third Sector Council
REFRESH-INTERVAL;VALUE=DURATION:PT1H
X-Robots-Tag:noindex
X-PUBLISHED-TTL:PT1H
BEGIN:VTIMEZONE
TZID:Europe/London
BEGIN:DAYLIGHT
TZOFFSETFROM:+0000
TZOFFSETTO:+0100
TZNAME:BST
DTSTART:20100328T010000
END:DAYLIGHT
BEGIN:STANDARD
TZOFFSETFROM:+0100
TZOFFSETTO:+0000
TZNAME:GMT
DTSTART:20101031T010000
END:STANDARD
BEGIN:DAYLIGHT
TZOFFSETFROM:+0000
TZOFFSETTO:+0100
TZNAME:BST
DTSTART:20110327T010000
END:DAYLIGHT
BEGIN:STANDARD
TZOFFSETFROM:+0100
TZOFFSETTO:+0000
TZNAME:GMT
DTSTART:20111030T010000
END:STANDARD
BEGIN:DAYLIGHT
TZOFFSETFROM:+0000
TZOFFSETTO:+0100
TZNAME:BST
DTSTART:20120325T010000
END:DAYLIGHT
BEGIN:STANDARD
TZOFFSETFROM:+0100
TZOFFSETTO:+0000
TZNAME:GMT
DTSTART:20121028T010000
END:STANDARD
END:VTIMEZONE
BEGIN:VEVENT
DTSTART;TZID=Europe/London:20110512T093000
DTEND;TZID=Europe/London:20110512T163000
DTSTAMP:20260421T032759
CREATED:20110512T083000Z
LAST-MODIFIED:20110512T083000Z
UID:43949-1305192600-1305217800@c3sc.org.uk
SUMMARY:Wales Charity Law Conference - WCVA
DESCRIPTION:Times are tough for third sector groups. Simply surviving could be dependent on how well you know your legislation. This is why WCVA’s Wales Charity Law Conference 2011\, supported by Geldards\, could be the most important yet. Taking place on 12 May in Llandrindod Wells\, it will offer vital information and expert advice on a huge range of subjects\, including:· Protecting your organisation· Challenging government decisions· How to provide services with shrinking resources· Managing financial risk· What the Charity Commission can offer· An update on employment lawExperts from WCVA\, Geldards law firm\, the Charity Commission\, Shelter Cymru\, Watts Gregory and more will be on hand to deliver plenary sessions and workshops packed with invaluable guidance.
URL:https://c3sc.org.uk/event-single/wales-charity-law-conference-wcva/
LOCATION:Metropole Hotel\, Llandrindod Wells\, Metropole Hotel\, Llandrindod Wells
CATEGORIES:Conference
END:VEVENT
BEGIN:VEVENT
DTSTART;TZID=Europe/London:20110518T093000
DTEND;TZID=Europe/London:20110518T123000
DTSTAMP:20260421T032759
CREATED:20110518T083000Z
LAST-MODIFIED:20110518T083000Z
UID:43952-1305711000-1305721800@c3sc.org.uk
SUMMARY:Crossing the Bridge between formal and informal learning
DESCRIPTION:An opportunity to explore how informal learning within the voluntary and community sector can better connect with formal learning in the education sector as part of Adult Learning Week 2011.
URL:https://c3sc.org.uk/event-single/crossing-the-bridge-between-formal-and-informal-learning/
LOCATION:Maldron Hotel\, Cardiff\, Maldron Hotel\, Cardiff
CATEGORIES:Conference
END:VEVENT
END:VCALENDAR