BEGIN:VCALENDAR
VERSION:2.0
PRODID:-//C3SC - Cardiff Third Sector Council - ECPv6.15.17//NONSGML v1.0//EN
CALSCALE:GREGORIAN
METHOD:PUBLISH
X-WR-CALNAME:C3SC - Cardiff Third Sector Council
X-ORIGINAL-URL:https://c3sc.org.uk
X-WR-CALDESC:Events for C3SC - Cardiff Third Sector Council
REFRESH-INTERVAL;VALUE=DURATION:PT1H
X-Robots-Tag:noindex
X-PUBLISHED-TTL:PT1H
BEGIN:VTIMEZONE
TZID:Europe/London
BEGIN:DAYLIGHT
TZOFFSETFROM:+0000
TZOFFSETTO:+0100
TZNAME:BST
DTSTART:20100328T010000
END:DAYLIGHT
BEGIN:STANDARD
TZOFFSETFROM:+0100
TZOFFSETTO:+0000
TZNAME:GMT
DTSTART:20101031T010000
END:STANDARD
BEGIN:DAYLIGHT
TZOFFSETFROM:+0000
TZOFFSETTO:+0100
TZNAME:BST
DTSTART:20110327T010000
END:DAYLIGHT
BEGIN:STANDARD
TZOFFSETFROM:+0100
TZOFFSETTO:+0000
TZNAME:GMT
DTSTART:20111030T010000
END:STANDARD
BEGIN:DAYLIGHT
TZOFFSETFROM:+0000
TZOFFSETTO:+0100
TZNAME:BST
DTSTART:20120325T010000
END:DAYLIGHT
BEGIN:STANDARD
TZOFFSETFROM:+0100
TZOFFSETTO:+0000
TZNAME:GMT
DTSTART:20121028T010000
END:STANDARD
END:VTIMEZONE
BEGIN:VEVENT
DTSTART;TZID=Europe/London:20110402T100000
DTEND;TZID=Europe/London:20110402T170000
DTSTAMP:20260421T045817
CREATED:20110402T090000Z
LAST-MODIFIED:20110402T090000Z
UID:43937-1301738400-1301763600@c3sc.org.uk
SUMMARY:Vintage and Craft Fair
DESCRIPTION:This is a collaboration of vintage dealers and craft makers who make wonderful handmade items or sell gorgeous Vintage treasures.
URL:https://c3sc.org.uk/event-single/vintage-and-craft-fair/
LOCATION:Pedal Power HQ\, Off Dogo Street\, CF11 9JJ\, Pedal Power HQ\, Off Dogo Street\, CF11 9JJ
CATEGORIES:Event
END:VEVENT
BEGIN:VEVENT
DTSTART;TZID=Europe/London:20110406T093000
DTEND;TZID=Europe/London:20110406T160000
DTSTAMP:20260421T045817
CREATED:20110406T083000Z
LAST-MODIFIED:20110406T083000Z
UID:43940-1302082200-1302105600@c3sc.org.uk
SUMMARY:Assembly Election Hustings & Volunteering Workshops
DESCRIPTION:Candidates from the four main political parties in Wales will be invited to set out their vision for the third sector and will then take questions from the audience. \nThe afternoon session is devoted to topical issues relating to volunteering\, with a choice of workshops that explore different areas of volunteering and provide opportunity to discuss issues of topical concern. \nBooking Form: http://www.wcva.org.uk/images_client/event_resource/RPE_April11_Eng_Bkgfrm.docDraft programme: http://www.wcva.org.uk/images_client/event_resource/Draft_Programme_Eng.doc
URL:https://c3sc.org.uk/event-single/assembly-election-hustings-volunteering-workshops/
LOCATION:St. Margaret’s Park\, Aberbargoed\, St. Margaret’s Park\, Aberbargoed
CATEGORIES:Conference
END:VEVENT
BEGIN:VEVENT
DTSTART;TZID=Europe/London:20110413T110000
DTEND;TZID=Europe/London:20110413T140000
DTSTAMP:20260421T045817
CREATED:20110413T100000Z
LAST-MODIFIED:20110413T100000Z
UID:43943-1302692400-1302703200@c3sc.org.uk
SUMMARY:A Multicultural Network for East Cardiff?
DESCRIPTION:A presentation and Q & A by the established Llanelli Multicultural Network (facilitated by Carmarthenshire Association for Voluntary Services) for groups and community members interested in the potential for developing something similar in East Cardiff.
URL:https://c3sc.org.uk/event-single/a-multicultural-network-for-east-cardiff/
LOCATION:Rumney Community Centre\, Llanstephan Road\, Rumney\, Rumney Community Centre\, Llanstephan Road\, Rumney 
CATEGORIES:Meeting
END:VEVENT
BEGIN:VEVENT
DTSTART;VALUE=DATE:20110418
DTEND;VALUE=DATE:20110419
DTSTAMP:20260421T045817
CREATED:20110418T160000Z
LAST-MODIFIED:20110418T160000Z
UID:43946-1303146000-1303146000@c3sc.org.uk
SUMMARY:Llanederyn & Pentwyn Community Group Annual General Meeting
DESCRIPTION:Llanederyn & Pentwyn Community Group invite you to their annual general meeting – all are welcome to this event. The Llanedeyrn and Pentwyn Community Group is a local charity dedicated to raising funds and enabling projects and activities that benefit the people of Llanedeyrn and Pentwyn.
URL:https://c3sc.org.uk/event-single/llanederyn-pentwyn-community-group-annual-general-meeting/
LOCATION:Adventure Playground\, Circle Way East\, Coed Y Gores\, Llanderyn\, Adventure Playground\, Circle Way East\, Coed Y Gores\, Llanderyn
CATEGORIES:Meeting
END:VEVENT
END:VCALENDAR