BEGIN:VCALENDAR
VERSION:2.0
PRODID:-//C3SC - Cardiff Third Sector Council - ECPv6.15.17//NONSGML v1.0//EN
CALSCALE:GREGORIAN
METHOD:PUBLISH
X-ORIGINAL-URL:https://c3sc.org.uk
X-WR-CALDESC:Events for C3SC - Cardiff Third Sector Council
REFRESH-INTERVAL;VALUE=DURATION:PT1H
X-Robots-Tag:noindex
X-PUBLISHED-TTL:PT1H
BEGIN:VTIMEZONE
TZID:Europe/London
BEGIN:DAYLIGHT
TZOFFSETFROM:+0000
TZOFFSETTO:+0100
TZNAME:BST
DTSTART:20230326T010000
END:DAYLIGHT
BEGIN:STANDARD
TZOFFSETFROM:+0100
TZOFFSETTO:+0000
TZNAME:GMT
DTSTART:20231029T010000
END:STANDARD
BEGIN:DAYLIGHT
TZOFFSETFROM:+0000
TZOFFSETTO:+0100
TZNAME:BST
DTSTART:20240331T010000
END:DAYLIGHT
BEGIN:STANDARD
TZOFFSETFROM:+0100
TZOFFSETTO:+0000
TZNAME:GMT
DTSTART:20241027T010000
END:STANDARD
BEGIN:DAYLIGHT
TZOFFSETFROM:+0000
TZOFFSETTO:+0100
TZNAME:BST
DTSTART:20250330T010000
END:DAYLIGHT
BEGIN:STANDARD
TZOFFSETFROM:+0100
TZOFFSETTO:+0000
TZNAME:GMT
DTSTART:20251026T010000
END:STANDARD
END:VTIMEZONE
BEGIN:VEVENT
DTSTART;TZID=Europe/London:20240723T130000
DTEND;TZID=Europe/London:20240723T140000
DTSTAMP:20260419T144532
CREATED:20240717T124948Z
LAST-MODIFIED:20240717T124948Z
UID:69649-1721739600-1721743200@c3sc.org.uk
SUMMARY:Meet the Funder Event - Lloyds Bank Foundation Fund
DESCRIPTION:Lloyds Bank Foundation currently have 2 programmes open\, one is a Cash Grant and the other is a Development Support offer. \n \nC3SC in partnership with Lloyds Bank Foundation is hosting this online “Meet the Funder” event on Tuesday 23rd July between 13:00 -14:00 to further explore the following Lloyds Bank Foundation funding opportunities:- \nDeaf and Disabled people’s organisations (DDPO) (3 years) \nThis programme is aimed at registered charities and CICs with income between £25K and £500K which are led by and working for Deaf and Disabled people including Mental Health charities based on the social model of disability. \nThe organisation will work directly with Deaf\, Disabled and people with Mental Health conditions over the long term to support them to have more choice and control over their lives\, access their rights and entitlements and challenge the barriers they face. \nSuccessful applicants will receive unrestricted grant of £75\,000\, over three years (£25\,000 per year). \nClosing date is 28th August. Lloyds Bank Foundation is looking to fund 42 organisations in England and Wales. \nOrganisational Development Support Programme (2 years) \nThis is a two-year development support programme\, for charities only (not CIC) that help asylum seekers and refugees and have an income between £25k – £500k. This is not a funding programme and there is no cash grant linked to it. \nLloyds Bank Foundation want to share organisational development support offers with charities that they’re not able to fund and to helping small and local charities build on their strengths and grow more resilient so they can thrive over the long term. \nClosing date for applications is 1st August 5pm. Lloyds Bank Foundation is looking to support 60 charities in England and Wales with this programme. More information on website here \n \nThe event will be taking place on Microsoft Teams and the link will be sent through within 24 hours of the event taking place. \nFor any further enquiry\, please contact C3SC on 02920 485722 or enquiries@c3sc.org.uk
URL:https://c3sc.org.uk/event-single/meet-the-funder-event-lloyds-bank-foundation-fund/
LOCATION:Online
CATEGORIES:Event
ATTACH;FMTTYPE=image/png:https://c3sc.org.uk/wp-content/uploads/C3SC-Eventbrite-Main-Event-Image-4-600x600-3.png
END:VEVENT
END:VCALENDAR