BEGIN:VCALENDAR
VERSION:2.0
PRODID:-//C3SC - Cardiff Third Sector Council - ECPv6.15.17//NONSGML v1.0//EN
CALSCALE:GREGORIAN
METHOD:PUBLISH
X-WR-CALNAME:C3SC - Cardiff Third Sector Council
X-ORIGINAL-URL:https://c3sc.org.uk
X-WR-CALDESC:Events for C3SC - Cardiff Third Sector Council
REFRESH-INTERVAL;VALUE=DURATION:PT1H
X-Robots-Tag:noindex
X-PUBLISHED-TTL:PT1H
BEGIN:VTIMEZONE
TZID:Europe/London
BEGIN:DAYLIGHT
TZOFFSETFROM:+0000
TZOFFSETTO:+0100
TZNAME:BST
DTSTART:20230326T010000
END:DAYLIGHT
BEGIN:STANDARD
TZOFFSETFROM:+0100
TZOFFSETTO:+0000
TZNAME:GMT
DTSTART:20231029T010000
END:STANDARD
BEGIN:DAYLIGHT
TZOFFSETFROM:+0000
TZOFFSETTO:+0100
TZNAME:BST
DTSTART:20240331T010000
END:DAYLIGHT
BEGIN:STANDARD
TZOFFSETFROM:+0100
TZOFFSETTO:+0000
TZNAME:GMT
DTSTART:20241027T010000
END:STANDARD
BEGIN:DAYLIGHT
TZOFFSETFROM:+0000
TZOFFSETTO:+0100
TZNAME:BST
DTSTART:20250330T010000
END:DAYLIGHT
BEGIN:STANDARD
TZOFFSETFROM:+0100
TZOFFSETTO:+0000
TZNAME:GMT
DTSTART:20251026T010000
END:STANDARD
END:VTIMEZONE
BEGIN:VEVENT
DTSTART;TZID=Europe/London:20240626T100000
DTEND;TZID=Europe/London:20240626T120000
DTSTAMP:20260419T144413
CREATED:20240610T141902Z
LAST-MODIFIED:20240610T143235Z
UID:69375-1719396000-1719403200@c3sc.org.uk
SUMMARY:C3SC's Starting Well Network meeting: June 2024
DESCRIPTION:Cardiff Third Sector Council will reconvene their Starting Well Network meeting on Wednesday 26th June\, with a two hour online session between 10am-12pm. \nMany families in Cardiff benefit from community schools that bring people with a shared identity together for learning opportunities that increase confidence and enhance community cohesion. The purpose of the session is to develop and strengthen links with and between community schools in Cardiff\, leading to future partnerships. The session will feature a presentation from Magda Thomas\, C3SC Volunteer Centre Support Officer and Trustee of Janusz Korczak’s Polish Saturday School\, who will be talking about her experience of running a charity which provides language and culture education for Polish children in Cardiff\, and we will share information on best practice in running community schools\, governance – including different options for setting up a school – volunteer recruitment\, funding opportunities and explore options for navigating the current challenging funding environment through partnerships\, alliances and joint funding. \nAlongside opportunities for networking\, connection\, and learning from peers\, the Forum gives an opportunity for Third Sector groups working with children\, young people and families to meet up and receive up to date information from guest speakers and presenters\, provide insight and influence\, develop solutions to local challenges\, and make alliances. \nNetwork members are always welcome to share your ideas and co-produce the meetings agenda. Please email Thomas Crockett at thomas.c@c3sc.org.uk with your suggestions of current or emerging items to discuss or explore at these meetings. \nFor any further enquiries\, please contact C3SC on 07973 725335 or enquiries@c3sc.org.uk. \nWe look forward to seeing you!
URL:https://c3sc.org.uk/event-single/c3scs-starting-well-network-meeting-june-2024/
LOCATION:Online
CATEGORIES:Meeting,Network Meeting
ATTACH;FMTTYPE=image/png:https://c3sc.org.uk/wp-content/uploads/C3SC-Eventbrite-Main-Event-Image-4-600x600-3.png
ORGANIZER;CN="C3SC":MAILTO:training@c3sc.org.uk
END:VEVENT
END:VCALENDAR