BEGIN:VCALENDAR
VERSION:2.0
PRODID:-//C3SC - Cardiff Third Sector Council - ECPv6.15.17//NONSGML v1.0//EN
CALSCALE:GREGORIAN
METHOD:PUBLISH
X-WR-CALNAME:C3SC - Cardiff Third Sector Council
X-ORIGINAL-URL:https://c3sc.org.uk
X-WR-CALDESC:Events for C3SC - Cardiff Third Sector Council
REFRESH-INTERVAL;VALUE=DURATION:PT1H
X-Robots-Tag:noindex
X-PUBLISHED-TTL:PT1H
BEGIN:VTIMEZONE
TZID:Europe/London
BEGIN:DAYLIGHT
TZOFFSETFROM:+0000
TZOFFSETTO:+0100
TZNAME:BST
DTSTART:20230326T010000
END:DAYLIGHT
BEGIN:STANDARD
TZOFFSETFROM:+0100
TZOFFSETTO:+0000
TZNAME:GMT
DTSTART:20231029T010000
END:STANDARD
BEGIN:DAYLIGHT
TZOFFSETFROM:+0000
TZOFFSETTO:+0100
TZNAME:BST
DTSTART:20240331T010000
END:DAYLIGHT
BEGIN:STANDARD
TZOFFSETFROM:+0100
TZOFFSETTO:+0000
TZNAME:GMT
DTSTART:20241027T010000
END:STANDARD
BEGIN:DAYLIGHT
TZOFFSETFROM:+0000
TZOFFSETTO:+0100
TZNAME:BST
DTSTART:20250330T010000
END:DAYLIGHT
BEGIN:STANDARD
TZOFFSETFROM:+0100
TZOFFSETTO:+0000
TZNAME:GMT
DTSTART:20251026T010000
END:STANDARD
END:VTIMEZONE
BEGIN:VEVENT
DTSTART;TZID=Europe/London:20240606T110000
DTEND;TZID=Europe/London:20240606T120000
DTSTAMP:20260419T144931
CREATED:20240531T150901Z
LAST-MODIFIED:20240531T150901Z
UID:69329-1717671600-1717675200@c3sc.org.uk
SUMMARY:C3SC Shared Prosperity Small Grant Fund: Information session
DESCRIPTION:The Cardiff Shared Prosperity Fund Small Grants Scheme for 2024-25 is now live. \n  \nC3SC will host an online information session on their 2024/25 Shared Prosperity Small Grant scheme. \n  \nThis fund is in partnership with Cardiff Council to explore how the UK Shared Prosperity Fund (UKSPF) – an initiative by the UK Government as a central pillar of the Levelling Up agenda and successor to the European Social Fund – can provide support to communities and places in Cardiff. \n  \nThe C3SC Small Grants Scheme will provide grants of up to £5\,000 for third-sector organisations to deliver projects which work with the aims and objectives of the Shared Prosperity Fund. This grant scheme will focus on addressing the issues detailed under the Community & Place priority\, as follows: \n  \n\nW1: Funding for improvements to town centres and high streets\, including better accessibility for disabled people\, including capital spend and running costs.\n\n\nW2: Funding for new\, or improvements to existing\, community and neighbourhood infrastructure projects including those that increase communities’ resilience to natural hazards\, such as flooding\, and investment in locally owned renewable energy generation and waste management to improve the transition to low carbon living This could cover capital spend and running costs.\nW3: Creation of and improvements to local green spaces\, community gardens\, watercourses and embankments\, along with incorporating natural features and biodiversity improvements into wider public space.\nW4: Enhanced support for existing cultural\, historic and heritage institutions that make up the local cultural and heritage offer\, including improvements to access to sites to counter the effects of isolation\, particularly for older people and disabled people.\nW5: Design and management of the built and landscaped environment to ‘design out crime’.\nW6: Support for local arts\, cultural\, heritage and creative activities.\nW7: Support for active travel enhancement and other small-scale green transport infrastructure projects\, having regard to the Wales Transport Strategy.\nW8: Funding for the development and promotion of wider campaigns and year-round experiences which encourage people to visit and explore the local area.\nW9: Funding for impactful volunteering and/or social action projects to develop social and human capital in local places.\nW10: Funding for local sports facilities\, tournaments\, teams and leagues; to bring people together.\nW11: Investment in capacity building and infrastructure support for local civil society and community groups.\nW12: Investment in community engagement schemes to support community involvement in decision making in local regeneration.\nW13: Community measures to reduce the cost of living\, including through measures to improve energy efficiency\, and combat fuel poverty and climate change.\nW14: Funding to support relevant feasibility studies.\nW15: Investment and support for digital infrastructure for local community facilities.\n\nInitial closing date for applications is 12pm on Friday 21st June. \n \nProposed projects can start from August 2024 and may be funded up to the end of February 2025. \n \nClick here to sign up to the information session \nFor any further enquiry contact C3SC on 02920 485722 or enquiries@c3sc.org.uk
URL:https://c3sc.org.uk/event-single/c3sc-shared-prosperity-small-grant-fund-information-session/
LOCATION:Online
CATEGORIES:Event
ATTACH;FMTTYPE=image/png:https://c3sc.org.uk/wp-content/uploads/C3SC-Eventbrite-Main-Event-Image-4-600x600-3.png
END:VEVENT
BEGIN:VEVENT
DTSTART;TZID=Europe/London:20240606T163000
DTEND;TZID=Europe/London:20240606T183000
DTSTAMP:20260419T144931
CREATED:20240426T112135Z
LAST-MODIFIED:20240426T112135Z
UID:69096-1717691400-1717698600@c3sc.org.uk
SUMMARY:Being a Trustee Training
DESCRIPTION:An online training session for new and existing Trustees in Cardiff to learn more about best practice in governance. \nThis training course will help new and existing Trustees improve their understanding of how best to run their groups and organisations. \nThe aims and objectives of the course are that attendees: \n\nUnderstand the key principles of governance\nUnderstand how trustees as a board are collectively responsible and accountable for ensuring that the organisation is well-run\nUnderstand the roles and responsibilities of the Board in good governance\nBe aware of good practice guidance in relation to governance\n\nSign up here \nThe event will take place on Teams and the link will be sent through the day prior to the event. \nParticipants are invited to bring their organisation’s governing document to the session\, if available. \nFor any further enquiries\, please contact C3SC on 02920 485722 or enquiries@c3sc.org.uk
URL:https://c3sc.org.uk/event-single/being-a-trustee-training-7/
LOCATION:Online
CATEGORIES:Training
ATTACH;FMTTYPE=image/png:https://c3sc.org.uk/wp-content/uploads/C3SC-Eventbrite-Main-Event-Image-4-600x600-3.png
END:VEVENT
END:VCALENDAR