BEGIN:VCALENDAR
VERSION:2.0
PRODID:-//C3SC - Cardiff Third Sector Council - ECPv6.15.17//NONSGML v1.0//EN
CALSCALE:GREGORIAN
METHOD:PUBLISH
X-WR-CALNAME:C3SC - Cardiff Third Sector Council
X-ORIGINAL-URL:https://c3sc.org.uk
X-WR-CALDESC:Events for C3SC - Cardiff Third Sector Council
REFRESH-INTERVAL;VALUE=DURATION:PT1H
X-Robots-Tag:noindex
X-PUBLISHED-TTL:PT1H
BEGIN:VTIMEZONE
TZID:Europe/London
BEGIN:DAYLIGHT
TZOFFSETFROM:+0000
TZOFFSETTO:+0100
TZNAME:BST
DTSTART:20230326T010000
END:DAYLIGHT
BEGIN:STANDARD
TZOFFSETFROM:+0100
TZOFFSETTO:+0000
TZNAME:GMT
DTSTART:20231029T010000
END:STANDARD
BEGIN:DAYLIGHT
TZOFFSETFROM:+0000
TZOFFSETTO:+0100
TZNAME:BST
DTSTART:20240331T010000
END:DAYLIGHT
BEGIN:STANDARD
TZOFFSETFROM:+0100
TZOFFSETTO:+0000
TZNAME:GMT
DTSTART:20241027T010000
END:STANDARD
BEGIN:DAYLIGHT
TZOFFSETFROM:+0000
TZOFFSETTO:+0100
TZNAME:BST
DTSTART:20250330T010000
END:DAYLIGHT
BEGIN:STANDARD
TZOFFSETFROM:+0100
TZOFFSETTO:+0000
TZNAME:GMT
DTSTART:20251026T010000
END:STANDARD
END:VTIMEZONE
BEGIN:VEVENT
DTSTART;TZID=Europe/London:20240314T123000
DTEND;TZID=Europe/London:20240314T143000
DTSTAMP:20260419T190432
CREATED:20240307T163357Z
LAST-MODIFIED:20240307T163357Z
UID:68852-1710419400-1710426600@c3sc.org.uk
SUMMARY:Community Action for Nature in Cardiff
DESCRIPTION:The Cardiff Local Nature Partnership (LNP) and C3SC would like to invite you to join us for a forum on Action for Nature in Cardiff. \nAre you a Cardiff community-based group or a third sector organisation with an interest in taking action on nature\, climate change or tackling biodiversity loss? \nJoin us in a conversation on what we can do in partnership and as a collective to improve nature across the City and engage with the Cardiff Nature Recovery Action Plan. The event will provide an opportunity to find out more about: \n\nCardiff’s Nature Recovery plan and related partnership opportunities.\nEngaging and managing volunteers.\nAccessing funding and resources.\nRaising awareness and accessing training.\n\nDate: Thursday 14th March 2024 \nTime: 12:30 to 14:30 \nLocation: This will be a hybrid event at Butetown Community Centre and on Microsoft Teams \nSign up here \nLight lunch and refreshments will be available for those attending in-person. \nPlease ensure you book the correct ticket for your intended joining method: in-person or virtual. The joining link will be sent out to you 24 hours before the event if you will be joining us virtually. \nPlease contact Anna at C3SC on 02920 485722 or enquiries@c3sc.org.uk if you have any questions or for further information. We hope you can join us.
URL:https://c3sc.org.uk/event-single/community-action-for-nature-in-cardiff/
LOCATION:Butetown Community Centre\, 40 Loudoun Square\, Cardiff CF10 5JA\, Butetown Community Centre\, 40 Loudoun Square\, Cardiff CF10 5JA
CATEGORIES:Event
ATTACH;FMTTYPE=image/jpeg:https://c3sc.org.uk/wp-content/uploads/Cardiff-Local-Nature-Partnership-x-C3SC-thumbnail.jpg
END:VEVENT
END:VCALENDAR