BEGIN:VCALENDAR
VERSION:2.0
PRODID:-//C3SC - Cardiff Third Sector Council - ECPv6.15.17//NONSGML v1.0//EN
CALSCALE:GREGORIAN
METHOD:PUBLISH
X-WR-CALNAME:C3SC - Cardiff Third Sector Council
X-ORIGINAL-URL:https://c3sc.org.uk
X-WR-CALDESC:Events for C3SC - Cardiff Third Sector Council
REFRESH-INTERVAL;VALUE=DURATION:PT1H
X-Robots-Tag:noindex
X-PUBLISHED-TTL:PT1H
BEGIN:VTIMEZONE
TZID:Europe/London
BEGIN:DAYLIGHT
TZOFFSETFROM:+0000
TZOFFSETTO:+0100
TZNAME:BST
DTSTART:20230326T010000
END:DAYLIGHT
BEGIN:STANDARD
TZOFFSETFROM:+0100
TZOFFSETTO:+0000
TZNAME:GMT
DTSTART:20231029T010000
END:STANDARD
BEGIN:DAYLIGHT
TZOFFSETFROM:+0000
TZOFFSETTO:+0100
TZNAME:BST
DTSTART:20240331T010000
END:DAYLIGHT
BEGIN:STANDARD
TZOFFSETFROM:+0100
TZOFFSETTO:+0000
TZNAME:GMT
DTSTART:20241027T010000
END:STANDARD
BEGIN:DAYLIGHT
TZOFFSETFROM:+0000
TZOFFSETTO:+0100
TZNAME:BST
DTSTART:20250330T010000
END:DAYLIGHT
BEGIN:STANDARD
TZOFFSETFROM:+0100
TZOFFSETTO:+0000
TZNAME:GMT
DTSTART:20251026T010000
END:STANDARD
END:VTIMEZONE
BEGIN:VEVENT
DTSTART;TZID=Europe/London:20240201T100000
DTEND;TZID=Europe/London:20240201T113000
DTSTAMP:20260419T201916
CREATED:20231026T110304Z
LAST-MODIFIED:20240123T110146Z
UID:68150-1706781600-1706787000@c3sc.org.uk
SUMMARY:Cardiff Volunteer Coordinators' Network meeting Thursday 1st February 2024
DESCRIPTION:C3SC is pleased to invite you to our hybrid Cardiff Volunteer Coordinators’ Network (CVCN) meeting on Thursday 1 February 2024 \nThe Cardiff Volunteer Coordinators’ Network (CVCN) is a Participation and Engagement initiative by Cardiff Third Sector Council as part of its commitment to the development and support of the volunteering infrastructure in Cardiff and its role within Third Sector Support Wales. Each quarterly meeting is packed with information\, guidance\, discussions and networking. It’s also a great way to raise the profile of volunteering in Cardiff. \nIf you are involved in managing or supporting volunteers? Perhaps you’re a paid worker or volunteer yourself! You are more than welcome to attend the meeting. \nDate: Thursday 1 February 2024 \nTime: 10:00AM – 11:30AM \nLocation: This will be a hybrid event from Butetown Community Centre or Microsoft Teams \nSign up here \nPlease ensure you book the correct ticket for your intended joining method: In-person or Virtual. The joining link will be sent out 24 before the event for virtual attendees. \n______________________________________________________ \n10:00 – 10:20 Welcome and Introductions (bring your tea and coffee) \n10:20 – 10:40 Cardiff Volunteer Centre @C3SC Update to include funding\, events\, training and sector news \n10:40 – 11:00 Workshop: Diversifying Your Volunteers Toolkit with Julia Manser (Swansea County for Voluntary Services) \n11:00 – 11:20 Volunteers Coordinators updates. Open to all organisations to share updates and advertise their project/work. \n11:20 – 11:30 AOB\, thanks\, networking and close. \nFor further enquiries\, contact Kailee Carella on 07973 725 690 or kailee.c@c3sc.org.uk
URL:https://c3sc.org.uk/event-single/cardiff-volunteer-coordinators-network-meeting-thursday-1st-february-2024/
LOCATION:Butetown Community Centre\, 40 Loudoun Square\, Cardiff CF10 5JA\, Butetown Community Centre\, 40 Loudoun Square\, Cardiff CF10 5JA
CATEGORIES:Network Meeting
ATTACH;FMTTYPE=image/jpeg:https://c3sc.org.uk/wp-content/uploads/Cardiff-Volunteer-Centre-@-C3SC-WhatsApp-Image-2020-05-29-at-16.48.52.jpeg
END:VEVENT
END:VCALENDAR