BEGIN:VCALENDAR
VERSION:2.0
PRODID:-//C3SC - Cardiff Third Sector Council - ECPv6.15.17//NONSGML v1.0//EN
CALSCALE:GREGORIAN
METHOD:PUBLISH
X-WR-CALNAME:C3SC - Cardiff Third Sector Council
X-ORIGINAL-URL:https://c3sc.org.uk
X-WR-CALDESC:Events for C3SC - Cardiff Third Sector Council
REFRESH-INTERVAL;VALUE=DURATION:PT1H
X-Robots-Tag:noindex
X-PUBLISHED-TTL:PT1H
BEGIN:VTIMEZONE
TZID:Europe/London
BEGIN:DAYLIGHT
TZOFFSETFROM:+0000
TZOFFSETTO:+0100
TZNAME:BST
DTSTART:20230326T010000
END:DAYLIGHT
BEGIN:STANDARD
TZOFFSETFROM:+0100
TZOFFSETTO:+0000
TZNAME:GMT
DTSTART:20231029T010000
END:STANDARD
BEGIN:DAYLIGHT
TZOFFSETFROM:+0000
TZOFFSETTO:+0100
TZNAME:BST
DTSTART:20240331T010000
END:DAYLIGHT
BEGIN:STANDARD
TZOFFSETFROM:+0100
TZOFFSETTO:+0000
TZNAME:GMT
DTSTART:20241027T010000
END:STANDARD
BEGIN:DAYLIGHT
TZOFFSETFROM:+0000
TZOFFSETTO:+0100
TZNAME:BST
DTSTART:20250330T010000
END:DAYLIGHT
BEGIN:STANDARD
TZOFFSETFROM:+0100
TZOFFSETTO:+0000
TZNAME:GMT
DTSTART:20251026T010000
END:STANDARD
END:VTIMEZONE
BEGIN:VEVENT
DTSTART;TZID=Europe/London:20240131T093000
DTEND;TZID=Europe/London:20240131T160000
DTSTAMP:20260419T201827
CREATED:20240103T121719Z
LAST-MODIFIED:20240103T121719Z
UID:68473-1706693400-1706716800@c3sc.org.uk
SUMMARY:Making Alliances for Better Funding Bids
DESCRIPTION:C3SC has a key role in sustaining the voluntary sector in a challenging funding environment\, and this course will look at developing new models of partnership. \nThis brand new course will support Charities and not for profits in Cardiff to find alliances and work together on successful joint funding bids \nCourse objectives are supporting participants to : \n\nIdentify resource and skills gaps within their own organisation\nIdentify opportunities for collaboration within their own organisation\nFind potential partner organisations\nHave a better appreciation of how to negotiate partnerships\nIdentify and meet potential funders to discuss joint funding bids\n\nTherefore the learning outcomes are that participants will \n\nBe able to identify resource and skills gaps within their own organisation\nBe able to identify opportunities for collaboration within their own organisation\nUnderstand how C3SC can help to find potential partner organisations\nHave a better appreciation of how to negotiate partnerships\nFeel better able to identify potential funders for joint funding bids\n\nFor any further enquiry contact C3SC on 02920 485722 or enquiries@c3sc.org.uk \nSign up to the event here.
URL:https://c3sc.org.uk/event-single/making-alliances-for-better-funding-bids/
LOCATION:Grange Pavillion\, Grange Gardens\, CF11 7LJ\, Grange Pavillion\, Grange Gardens\, CF11 7LJ
CATEGORIES:Event
ATTACH;FMTTYPE=image/png:https://c3sc.org.uk/wp-content/uploads/C3SC-Eventbrite-Main-Event-Image-4-600x600-3.png
END:VEVENT
END:VCALENDAR