BEGIN:VCALENDAR
VERSION:2.0
PRODID:-//C3SC - Cardiff Third Sector Council - ECPv6.15.17//NONSGML v1.0//EN
CALSCALE:GREGORIAN
METHOD:PUBLISH
X-ORIGINAL-URL:https://c3sc.org.uk
X-WR-CALDESC:Events for C3SC - Cardiff Third Sector Council
REFRESH-INTERVAL;VALUE=DURATION:PT1H
X-Robots-Tag:noindex
X-PUBLISHED-TTL:PT1H
BEGIN:VTIMEZONE
TZID:Europe/London
BEGIN:DAYLIGHT
TZOFFSETFROM:+0000
TZOFFSETTO:+0100
TZNAME:BST
DTSTART:20230326T010000
END:DAYLIGHT
BEGIN:STANDARD
TZOFFSETFROM:+0100
TZOFFSETTO:+0000
TZNAME:GMT
DTSTART:20231029T010000
END:STANDARD
BEGIN:DAYLIGHT
TZOFFSETFROM:+0000
TZOFFSETTO:+0100
TZNAME:BST
DTSTART:20240331T010000
END:DAYLIGHT
BEGIN:STANDARD
TZOFFSETFROM:+0100
TZOFFSETTO:+0000
TZNAME:GMT
DTSTART:20241027T010000
END:STANDARD
BEGIN:DAYLIGHT
TZOFFSETFROM:+0000
TZOFFSETTO:+0100
TZNAME:BST
DTSTART:20250330T010000
END:DAYLIGHT
BEGIN:STANDARD
TZOFFSETFROM:+0100
TZOFFSETTO:+0000
TZNAME:GMT
DTSTART:20251026T010000
END:STANDARD
END:VTIMEZONE
BEGIN:VEVENT
DTSTART;TZID=Europe/London:20240123T123000
DTEND;TZID=Europe/London:20240123T143000
DTSTAMP:20260419T215635
CREATED:20231218T135719Z
LAST-MODIFIED:20240103T130718Z
UID:68435-1706013000-1706020200@c3sc.org.uk
SUMMARY:Getting Fit for Fundraising
DESCRIPTION:This is an introductory course open to trustees\, staff and volunteers. It is suitable for those who are new to fundraising and/or thinking about implementing fundraising in their organisation for the first time. \nThe course objectives are for participants to have an improved knowledge of the key issues to consider before beginning to fundraise:- \n\nUnderstand what is meant by fundraising and the different sources of fundraised income\nUnderstand the legal requirements and best practice in relation to fundraising\nDecide whether your organisation is fit for purpose\nAppreciate the skills and approaches required to fundraise\nUnderstand the fundraising planning cycle\n\nThe event will be taking place on Teams and the link will be sent through 24 hours prior to the event taking place. \nFor any further enquiry contact C3SC on 02920 485722 or enquiries@c3sc.org.uk
URL:https://c3sc.org.uk/event-single/getting-fit-for-fundraising-2/
LOCATION:Online
CATEGORIES:Training
ATTACH;FMTTYPE=image/png:https://c3sc.org.uk/wp-content/uploads/C3SC-Eventbrite-Main-Event-Image-4-600x600-3.png
END:VEVENT
END:VCALENDAR