BEGIN:VCALENDAR
VERSION:2.0
PRODID:-//C3SC - Cardiff Third Sector Council - ECPv6.15.17//NONSGML v1.0//EN
CALSCALE:GREGORIAN
METHOD:PUBLISH
X-ORIGINAL-URL:https://c3sc.org.uk
X-WR-CALDESC:Events for C3SC - Cardiff Third Sector Council
REFRESH-INTERVAL;VALUE=DURATION:PT1H
X-Robots-Tag:noindex
X-PUBLISHED-TTL:PT1H
BEGIN:VTIMEZONE
TZID:Europe/London
BEGIN:DAYLIGHT
TZOFFSETFROM:+0000
TZOFFSETTO:+0100
TZNAME:BST
DTSTART:20220327T010000
END:DAYLIGHT
BEGIN:STANDARD
TZOFFSETFROM:+0100
TZOFFSETTO:+0000
TZNAME:GMT
DTSTART:20221030T010000
END:STANDARD
BEGIN:DAYLIGHT
TZOFFSETFROM:+0000
TZOFFSETTO:+0100
TZNAME:BST
DTSTART:20230326T010000
END:DAYLIGHT
BEGIN:STANDARD
TZOFFSETFROM:+0100
TZOFFSETTO:+0000
TZNAME:GMT
DTSTART:20231029T010000
END:STANDARD
BEGIN:DAYLIGHT
TZOFFSETFROM:+0000
TZOFFSETTO:+0100
TZNAME:BST
DTSTART:20240331T010000
END:DAYLIGHT
BEGIN:STANDARD
TZOFFSETFROM:+0100
TZOFFSETTO:+0000
TZNAME:GMT
DTSTART:20241027T010000
END:STANDARD
END:VTIMEZONE
BEGIN:VEVENT
DTSTART;TZID=Europe/London:20231206T100000
DTEND;TZID=Europe/London:20231206T120000
DTSTAMP:20260419T233645
CREATED:20231120T113628Z
LAST-MODIFIED:20231120T113628Z
UID:68269-1701856800-1701864000@c3sc.org.uk
SUMMARY:Writing Successful Funding Bids
DESCRIPTION:This training event\, free to C3SC Members\, aims to support Third Sector organisations in Cardiff to write better funding bids. \nThe course objectives are for participants to have an improved knowledge of:- \n\nThe tools and techniques you need to plan\, write and present winning bids\nHow to understand and meet the expectations of funders\nOther fundraising options\n\nThe event will be taking place on Teams and the link will be sent through 24 hours prior to the event taking place. \nSign up here \nFor any further enquiry contact C3SC on 02920 485722 or email enquiries@c3sc.org.uk
URL:https://c3sc.org.uk/event-single/writing-successful-funding-bids-7/
LOCATION:Online
CATEGORIES:Training
ATTACH;FMTTYPE=image/png:https://c3sc.org.uk/wp-content/uploads/C3SC-Eventbrite-Main-Event-Image-5.png
END:VEVENT
BEGIN:VEVENT
DTSTART;TZID=Europe/London:20231206T130000
DTEND;TZID=Europe/London:20231206T140000
DTSTAMP:20260419T233645
CREATED:20231120T114159Z
LAST-MODIFIED:20231120T114432Z
UID:68273-1701867600-1701871200@c3sc.org.uk
SUMMARY:Meet the Funder Event: Sport Wales
DESCRIPTION:C3SC’s “Meet the Funder” Event will explore Sport Wales’ current funding opportunities. \n“Meet the Funder Event” hosted by Cardiff Third Sector Council \nSport Wales is the National organisation responsible for developing and promoting sport and physical activity in Wales. There will be a presentation about their funds and grants which are available for Community Organisations\, Clubs\, Volunteers\, and Athletes. \nThe ‘Be Active Wales Fund’ will offer grants to help organisations grow participation from £300 to £50\,000 for funding needs such as:- \n\nSetting up a new team\nUpgrading your facilities\nReducing inequalities\n\n‘A Place for Sport in collaboration with Crowdfunder’ \nOffers help with any off-field projects to enhance the experience of sport\, make your club more environmentally friendly or financially sustainable by raising money for good causes and ideas\, while also helping your club or project to connect with your community. \nThe event will provide a great opportunity to hear from the funders about their grant eligibility criteria\, tips on applying\, the application process and timescale. There will also be the opportunity to ask questions afterwards. \nThe event will take place on Microsoft Teams and the link will be sent through 24 hours before the event takes place. \nSign up here \nFor any further enquiry please contact C3SC on 02920 485722 or email enquiries@c3sc.org.uk \nWe are look forward to seeing you!
URL:https://c3sc.org.uk/event-single/meet-the-funder-event-sport-wales/
LOCATION:Online
CATEGORIES:Training
ATTACH;FMTTYPE=image/png:https://c3sc.org.uk/wp-content/uploads/C3SC-Eventbrite-Main-Event-Image-5.png
END:VEVENT
BEGIN:VEVENT
DTSTART;TZID=Europe/London:20231206T143000
DTEND;TZID=Europe/London:20231206T170000
DTSTAMP:20260419T233645
CREATED:20231026T105636Z
LAST-MODIFIED:20231026T105636Z
UID:68149-1701873000-1701882000@c3sc.org.uk
SUMMARY:Recruiting\, Selecting and Inducting Volunteers
DESCRIPTION:This training will help you understand a range of methods to attract a diversity of volunteers and recognise selection as a two-way process. \nThe training will help you improve your knowledge on welcoming volunteers to your organisation. It would be suitable for volunteer managers\, coordinators\, supervisors\, team leaders and individuals who have responsibility for recruiting\, training and managing volunteers. Volunteers are welcome to apply and will be allocated a space\, on a first come first served basis. By the end of the course\, you will: \n\nBe familiar with a range of methods to attract a diversity of volunteers​\nRecognise ‘selection’ as a two ways process and be familiar with a range of selection tools​\nUnderstand the use of vetting procedures including DBS checks and recognise their limitations​\nMaking ‘the’ volunteer feel ‘welcomed’\nUnderstand the purpose and nature of volunteer agreements and volunteer induction​\nRecognise ways in which volunteering can be made more accessible to all\n\nDate: Wednesday 6th December 2023 \nTime: 2:30 pm – 5:00 pm \nThe training will be a hybrid event. In-person attendees will participate at Butetown Community Centre. Online participants will join the training via Microsoft Teams. \nSign up here \nWe will send the joining link through 24 hours before the course – please check your ‘Spam’ inbox if you do not see it. \nFor further enquiries\, contact C3SC on 07973 725 335 or enquiries@c3sc.org.uk
URL:https://c3sc.org.uk/event-single/recruiting-selecting-and-inducting-volunteers/
LOCATION:Butetown Community Centre\, 40 Loudoun Square\, Cardiff CF10 5JA\, Butetown Community Centre\, 40 Loudoun Square\, Cardiff CF10 5JA
CATEGORIES:Training
ATTACH;FMTTYPE=image/jpeg:https://c3sc.org.uk/wp-content/uploads/Cardiff-Volunteer-Centre-@-C3SC-WhatsApp-Image-2020-05-29-at-16.48.52.jpeg
END:VEVENT
END:VCALENDAR