BEGIN:VCALENDAR
VERSION:2.0
PRODID:-//C3SC - Cardiff Third Sector Council - ECPv6.15.17//NONSGML v1.0//EN
CALSCALE:GREGORIAN
METHOD:PUBLISH
X-WR-CALNAME:C3SC - Cardiff Third Sector Council
X-ORIGINAL-URL:https://c3sc.org.uk
X-WR-CALDESC:Events for C3SC - Cardiff Third Sector Council
REFRESH-INTERVAL;VALUE=DURATION:PT1H
X-Robots-Tag:noindex
X-PUBLISHED-TTL:PT1H
BEGIN:VTIMEZONE
TZID:Europe/London
BEGIN:DAYLIGHT
TZOFFSETFROM:+0000
TZOFFSETTO:+0100
TZNAME:BST
DTSTART:20220327T010000
END:DAYLIGHT
BEGIN:STANDARD
TZOFFSETFROM:+0100
TZOFFSETTO:+0000
TZNAME:GMT
DTSTART:20221030T010000
END:STANDARD
BEGIN:DAYLIGHT
TZOFFSETFROM:+0000
TZOFFSETTO:+0100
TZNAME:BST
DTSTART:20230326T010000
END:DAYLIGHT
BEGIN:STANDARD
TZOFFSETFROM:+0100
TZOFFSETTO:+0000
TZNAME:GMT
DTSTART:20231029T010000
END:STANDARD
BEGIN:DAYLIGHT
TZOFFSETFROM:+0000
TZOFFSETTO:+0100
TZNAME:BST
DTSTART:20240331T010000
END:DAYLIGHT
BEGIN:STANDARD
TZOFFSETFROM:+0100
TZOFFSETTO:+0000
TZNAME:GMT
DTSTART:20241027T010000
END:STANDARD
END:VTIMEZONE
BEGIN:VEVENT
DTSTART;TZID=Europe/London:20231016T123000
DTEND;TZID=Europe/London:20231016T143000
DTSTAMP:20260420T034003
CREATED:20231009T113811Z
LAST-MODIFIED:20231009T113811Z
UID:67994-1697459400-1697466600@c3sc.org.uk
SUMMARY:C3SC Members' Forum – Cardiff Action for Nature
DESCRIPTION:C3SC and RSPB Cymru would like to invite you to a free networking session for community-based environmental groups in Cardiff \nThis will be a chance for you to: \n\nmeet other environmental action groups\ndiscuss issues you are experiencing and possible solutions\nfind out about support available to your project\n\nWe hope to learn more about the support needs of groups taking action on climate change and biodiversity loss\, so we can better enable you to reach your goals. We want to make it easier for people organising action on the nature and climate emergencies to succeed and we are looking forward to hearing from you. \nLunch will be provided. Let us know about any dietary needs in your booking. \nWe want to enable as many people to take part in this session as possible. If you have any accessibility needs that will require adjustments or support so that you can take part\, please let us know in your booking. This includes childcare. \nClosing date for ticket sales: 15 October \nSign up here \nFor any further enquiry contact C3SC on 02920 485722 or enquiries@c3sc.org.uk \n************************************************ \nHoffai C3SC ac RSPB Cymru eich gwahodd i sesiwn rwydweithio am ddim ar gyfer grwpiau amgylcheddol cymunedol yng Nghaerdydd. \nBydd hwn yn gyfle i chi allu: \n\ncwrdd â grwpiau gweithredu amgylcheddol eraill\ntrafod problemau rydych yn eu profi ac atebion posibl\ndysgu am y gefnogaeth sydd ar gael ar gyfer eich prosiect chi\n\nRydyn ni’n gobeithio dysgu mwy am anghenion cymorth grwpiau sy’n gweithredu ar newid yn yr hinsawdd a cholli bioamrywiaeth\, er mwyn i ni allu eich galluogi chi i gyflawni eich nodau’n well. Rydyn ni eisiau ei gwneud hi’n haws i bobl sy’n trefnu camau gweithredu ar yr argyfyngau hinsawdd a natur lwyddo\, ac rydyn ni’n edrych ymlaen at glywed gennych chi. \nBydd cinio yn cael ei ddarparu. Rhowch wybod i ni am unrhyw anghenion dietegol wrth archebu. \nRydyn ni’n awyddus i weld cynifer o bobl â phosibl yn cymryd rhan yn y sesiwn hon. Os oes gennych unrhyw anghenion hygyrchedd y bydd angen addasiadau neu gymorth arnoch er mwyn i chi allu cymryd rhan\, rhowch wybod i ni wrth archebu. Mae hyn yn cynnwys gofal plant \nDyddiad cau ar gyfer archebu tocynnau: 15 Hydref
URL:https://c3sc.org.uk/event-single/c3sc-members-forum-cardiff-action-for-nature/
LOCATION:Grange Pavillion\, Grange Gardens\, CF11 7LJ\, Grange Pavillion\, Grange Gardens\, CF11 7LJ
CATEGORIES:Event,Meeting
ATTACH;FMTTYPE=image/jpeg:https://c3sc.org.uk/wp-content/uploads/C3SC-x-RSPB-thumbnail.jpg
END:VEVENT
END:VCALENDAR