BEGIN:VCALENDAR
VERSION:2.0
PRODID:-//C3SC - Cardiff Third Sector Council - ECPv6.15.17//NONSGML v1.0//EN
CALSCALE:GREGORIAN
METHOD:PUBLISH
X-WR-CALNAME:C3SC - Cardiff Third Sector Council
X-ORIGINAL-URL:https://c3sc.org.uk
X-WR-CALDESC:Events for C3SC - Cardiff Third Sector Council
REFRESH-INTERVAL;VALUE=DURATION:PT1H
X-Robots-Tag:noindex
X-PUBLISHED-TTL:PT1H
BEGIN:VTIMEZONE
TZID:Europe/London
BEGIN:DAYLIGHT
TZOFFSETFROM:+0000
TZOFFSETTO:+0100
TZNAME:BST
DTSTART:20220327T010000
END:DAYLIGHT
BEGIN:STANDARD
TZOFFSETFROM:+0100
TZOFFSETTO:+0000
TZNAME:GMT
DTSTART:20221030T010000
END:STANDARD
BEGIN:DAYLIGHT
TZOFFSETFROM:+0000
TZOFFSETTO:+0100
TZNAME:BST
DTSTART:20230326T010000
END:DAYLIGHT
BEGIN:STANDARD
TZOFFSETFROM:+0100
TZOFFSETTO:+0000
TZNAME:GMT
DTSTART:20231029T010000
END:STANDARD
BEGIN:DAYLIGHT
TZOFFSETFROM:+0000
TZOFFSETTO:+0100
TZNAME:BST
DTSTART:20240331T010000
END:DAYLIGHT
BEGIN:STANDARD
TZOFFSETFROM:+0100
TZOFFSETTO:+0000
TZNAME:GMT
DTSTART:20241027T010000
END:STANDARD
END:VTIMEZONE
BEGIN:VEVENT
DTSTART;TZID=Europe/London:20230927T100000
DTEND;TZID=Europe/London:20230927T123000
DTSTAMP:20260420T052117
CREATED:20230905T141243Z
LAST-MODIFIED:20230906T143853Z
UID:67687-1695808800-1695817800@c3sc.org.uk
SUMMARY:Helping people to live well this winter
DESCRIPTION:Join us in a conversation on how the public and voluntary sector can work together to better prepare for expected winter challenges. \nJoin C3SC for a networking lunch and discussion focusing on how we can prepare and help people to live well this winter. As part of our ongoing work within the shared prosperity agenda we are keen to find out what are the essential support services required to address the challenges faced within our health and social care system during the winter season. This collaborative effort between partners\, community groups and C3SC members will consider various challenges that face our communities including\, but not exclusive to; winter well-being\, the return of children to school\, food insecurity projects\, and concerns regarding the cost of utility bills\, such as heating and electricity. \nC3SC is committed to providing this opportunity for volunteer groups and third sector organisations to share information\, recognising strengths and challenges to achieve a solution focused approach to build both organisation and community resilience. \nWe want to steer the conversation in how best we can support our communities to address the challenges they face this winter building on the excellent work already taking place by our community groups and volunteers. \n  \nOutcomes and Objectives of the event \n\nShared community-based support practice\n\n\nIncreased connections\, links\, and partnerships\n\n\nIdentify challenges\, gaps in services and collaborative solutions\n\n\nIncreased knowledge of support available to groups and individuals\n\n  \nAgenda \n10:00 Welcome & Introductions (RCP) \n10:15 Cardiff Council – SPF Presentation Q&A (Speaker TBC) \n10:30 UHB/ – Keeping well this winter. Q&A (Speaker TBC) \n10:45 Break & Networking \n11:00 Workshop & Breakout rooms (on Food insecurity\, Energy insecurity\, Wellbeing\, and Health insecurities) \n11:45 Feedback & Facilitated Discussion \n12:00 Closing Remarks (TBC) 12:00-12:30 Network Lunch \nSign up here
URL:https://c3sc.org.uk/event-single/helping-people-to-live-well-this-winter/
LOCATION:Butetown Community Centre\, 40 Loudoun Square\, Cardiff CF10 5JA\, Butetown Community Centre\, 40 Loudoun Square\, Cardiff CF10 5JA
CATEGORIES:Event
ATTACH;FMTTYPE=image/png:https://c3sc.org.uk/wp-content/uploads/C3SC-Eventbrite-Main-Event-Image-4.png
END:VEVENT
END:VCALENDAR