BEGIN:VCALENDAR
VERSION:2.0
PRODID:-//C3SC - Cardiff Third Sector Council - ECPv6.15.17//NONSGML v1.0//EN
CALSCALE:GREGORIAN
METHOD:PUBLISH
X-ORIGINAL-URL:https://c3sc.org.uk
X-WR-CALDESC:Events for C3SC - Cardiff Third Sector Council
REFRESH-INTERVAL;VALUE=DURATION:PT1H
X-Robots-Tag:noindex
X-PUBLISHED-TTL:PT1H
BEGIN:VTIMEZONE
TZID:Europe/London
BEGIN:DAYLIGHT
TZOFFSETFROM:+0000
TZOFFSETTO:+0100
TZNAME:BST
DTSTART:20220327T010000
END:DAYLIGHT
BEGIN:STANDARD
TZOFFSETFROM:+0100
TZOFFSETTO:+0000
TZNAME:GMT
DTSTART:20221030T010000
END:STANDARD
BEGIN:DAYLIGHT
TZOFFSETFROM:+0000
TZOFFSETTO:+0100
TZNAME:BST
DTSTART:20230326T010000
END:DAYLIGHT
BEGIN:STANDARD
TZOFFSETFROM:+0100
TZOFFSETTO:+0000
TZNAME:GMT
DTSTART:20231029T010000
END:STANDARD
BEGIN:DAYLIGHT
TZOFFSETFROM:+0000
TZOFFSETTO:+0100
TZNAME:BST
DTSTART:20240331T010000
END:DAYLIGHT
BEGIN:STANDARD
TZOFFSETFROM:+0100
TZOFFSETTO:+0000
TZNAME:GMT
DTSTART:20241027T010000
END:STANDARD
END:VTIMEZONE
BEGIN:VEVENT
DTSTART;TZID=Europe/London:20230921T140000
DTEND;TZID=Europe/London:20230921T160000
DTSTAMP:20260420T171301
CREATED:20230905T145504Z
LAST-MODIFIED:20230905T145504Z
UID:67691-1695304800-1695312000@c3sc.org.uk
SUMMARY:C3SC Health\, Social Care and Wellbeing Forum
DESCRIPTION:An opportunity for voluntary and community groups to share good practice and provide support around health and wellbeing. \nThis event will provide an opportunity for third sector organisations with an interest in improving the health and wellbeing of community members to share information \, as well as highlight and discuss current issues. During this forum there will be a particular focus on: \n\nOpportunities for the Third Sector to work with the UHB Regional Innovation and Co-ordination hub to find innovative solutions to healthcare challenges\nBowel Cancer screening – a focus on the current situation and working to ensure good update of Bowel Cancer Screening from all sections of the population\n\nThe event will be taking place online and the link will be sent through within 24 hours of the event taking place. If you do not receive the email please check your spam or junk folder. \nFor any further enquiries contact C3SC on 029 2048 5722 or enquiries@c3sc.org.uk. \nSign up here
URL:https://c3sc.org.uk/event-single/c3sc-health-social-care-and-wellbeing-forum/
LOCATION:Online
CATEGORIES:Network Meeting
ATTACH;FMTTYPE=image/png:https://c3sc.org.uk/wp-content/uploads/C3SC-Eventbrite-Main-Event-Image-4.png
END:VEVENT
END:VCALENDAR