BEGIN:VCALENDAR
VERSION:2.0
PRODID:-//C3SC - Cardiff Third Sector Council - ECPv6.15.17//NONSGML v1.0//EN
CALSCALE:GREGORIAN
METHOD:PUBLISH
X-ORIGINAL-URL:https://c3sc.org.uk
X-WR-CALDESC:Events for C3SC - Cardiff Third Sector Council
REFRESH-INTERVAL;VALUE=DURATION:PT1H
X-Robots-Tag:noindex
X-PUBLISHED-TTL:PT1H
BEGIN:VTIMEZONE
TZID:Europe/London
BEGIN:DAYLIGHT
TZOFFSETFROM:+0000
TZOFFSETTO:+0100
TZNAME:BST
DTSTART:20220327T010000
END:DAYLIGHT
BEGIN:STANDARD
TZOFFSETFROM:+0100
TZOFFSETTO:+0000
TZNAME:GMT
DTSTART:20221030T010000
END:STANDARD
BEGIN:DAYLIGHT
TZOFFSETFROM:+0000
TZOFFSETTO:+0100
TZNAME:BST
DTSTART:20230326T010000
END:DAYLIGHT
BEGIN:STANDARD
TZOFFSETFROM:+0100
TZOFFSETTO:+0000
TZNAME:GMT
DTSTART:20231029T010000
END:STANDARD
BEGIN:DAYLIGHT
TZOFFSETFROM:+0000
TZOFFSETTO:+0100
TZNAME:BST
DTSTART:20240331T010000
END:DAYLIGHT
BEGIN:STANDARD
TZOFFSETFROM:+0100
TZOFFSETTO:+0000
TZNAME:GMT
DTSTART:20241027T010000
END:STANDARD
END:VTIMEZONE
BEGIN:VEVENT
DTSTART;TZID=Europe/London:20230913T090000
DTEND;TZID=Europe/London:20230913T160000
DTSTAMP:20260420T213250
CREATED:20230717T141848Z
LAST-MODIFIED:20230907T122219Z
UID:67395-1694595600-1694620800@c3sc.org.uk
SUMMARY:Food Safety for Retail - Level 2
DESCRIPTION:This Level 2 Food Hygiene Training for Retail is ideal for those who work in supermarkets\, delicatessens\, food markets and other retail environments where food is regularly handled and served. You will learn about food contamination prevention measures\, personal hygiene best practice\, temperature control\, how HACCP systems work\, and much more. \nThis course\, delivered by a trainer from Food Allergy Friends\, will take place in person at Butetown Community Centre: \nAddress: 40 Loudoun Square\, Cardiff CF10 5JA \nDate: Wednesday\, 13 September \nTime: 9:00am – 4:00pm \nPlease register to attend this event using our Eventbrite page here. \nPlease note that tickets will be limited to two representatives per organisation. Volunteers are eligible to take the course. \nFor further enquiries\, please contact C3SC on 02920 485722 / 07973 725335 or email enquiries@c3sc.org.uk
URL:https://c3sc.org.uk/event-single/food-safety-for-retail-level-2/
LOCATION:Butetown Community Centre\, 40 Loudoun Square\, Cardiff CF10 5JA\, Butetown Community Centre\, 40 Loudoun Square\, Cardiff CF10 5JA
CATEGORIES:Training
ATTACH;FMTTYPE=image/png:https://c3sc.org.uk/wp-content/uploads/C3SC-Eventbrite-Main-Event-Image-5.png
ORGANIZER;CN="C3SC":MAILTO:enquiries@c3sc.org.uk
END:VEVENT
BEGIN:VEVENT
DTSTART;TZID=Europe/London:20230913T100000
DTEND;TZID=Europe/London:20230913T120000
DTSTAMP:20260420T213250
CREATED:20230906T144301Z
LAST-MODIFIED:20230906T144601Z
UID:67689-1694599200-1694606400@c3sc.org.uk
SUMMARY:Cardiff Safer\, Cohesive and More Equal Communities Network Meeting
DESCRIPTION:C3SC is delighted to welcome two key members of our networks: \n\nNicholas Olsen – Community Cohesion\, Cardiff Council\nFrances Taylor – Stakeholder Engagement Officer\, Independent Office for Police Conduct\n\nThe Network will be a discussion and planning forum facilitated by C3SC for members that will provide opportunities to shape how and where the voluntary sector and local communities should be involved in: \n\nengaging with communities on safety\, cohesion\, and equity;\nidentifying and responding to community needs and priorities;\nbringing a sector and community perspective to the challenges\, issues\, and opportunities.\n\nThe Network will support members to develop the sector and community roles in: \n\nissues of justice\, crime\, equality\, and policing\nsupporting and promoting thriving\, resilient\, equal\, and safe communities;\ninfluencing the priorities\, work programme\, and spending decisions of statutory sector partners\, and;\nmaximising opportunities for collaboration and contribution to achieving more positive outcomes in the community.\n\nPlease register to attend the meeting on-line via MS Teams here. \nThe link and agenda for the meeting will be shared closer to the meeting date. For any further enquiries\, contact C3SC on 07973 725335 or enquiries@c3sc.org.uk. \nWe hope you can join us.
URL:https://c3sc.org.uk/event-single/cardiff-safer-cohesive-and-more-equal-communities-network-meeting/
LOCATION:Online
CATEGORIES:Network Meeting
ATTACH;FMTTYPE=image/png:https://c3sc.org.uk/wp-content/uploads/C3SC-Eventbrite-Main-Event-Image-4.png
END:VEVENT
BEGIN:VEVENT
DTSTART;TZID=Europe/London:20230913T100000
DTEND;TZID=Europe/London:20230913T130000
DTSTAMP:20260420T213250
CREATED:20230706T144443Z
LAST-MODIFIED:20230706T163020Z
UID:67315-1694599200-1694610000@c3sc.org.uk
SUMMARY:Taking Minutes Training Course
DESCRIPTION:An online training session for trustees/staff of organisations to learn more about taking minutes during meetings\, delivered by C3SC. \nDo you need guidance on how best to take minutes and record meetings? This training course delivered by C3SC is for Trustees and staff of organisations looking to improve their understanding of minute-taking and best practice. \nThe learning outcomes from this session are: – \n\nUnderstand why meetings are needed\, what makes a good meeting\, the need for minutes and accuracy of reporting.\nUnderstand the planning of an agenda and the preparation required\nExplore practical tips and useful words for producing good minutes\nConsider the blocks to participation\n\nThe event will be taking place on Microsoft Teams and the link will be sent through within 24 hours of the event taking place. \nPlease register for the training here. \nFor further enquiries\, please contact C3SC on 07973 725335 or email enquiries@c3sc.org.uk \nWe are look forward to seeing you!
URL:https://c3sc.org.uk/event-single/taking-minutes-training-course-3/
LOCATION:Online
CATEGORIES:Training
ATTACH;FMTTYPE=image/png:https://c3sc.org.uk/wp-content/uploads/C3SC-Eventbrite-Main-Event-Image-5.png
END:VEVENT
END:VCALENDAR