BEGIN:VCALENDAR
VERSION:2.0
PRODID:-//C3SC - Cardiff Third Sector Council - ECPv6.15.17//NONSGML v1.0//EN
CALSCALE:GREGORIAN
METHOD:PUBLISH
X-ORIGINAL-URL:https://c3sc.org.uk
X-WR-CALDESC:Events for C3SC - Cardiff Third Sector Council
REFRESH-INTERVAL;VALUE=DURATION:PT1H
X-Robots-Tag:noindex
X-PUBLISHED-TTL:PT1H
BEGIN:VTIMEZONE
TZID:Europe/London
BEGIN:DAYLIGHT
TZOFFSETFROM:+0000
TZOFFSETTO:+0100
TZNAME:BST
DTSTART:20220327T010000
END:DAYLIGHT
BEGIN:STANDARD
TZOFFSETFROM:+0100
TZOFFSETTO:+0000
TZNAME:GMT
DTSTART:20221030T010000
END:STANDARD
BEGIN:DAYLIGHT
TZOFFSETFROM:+0000
TZOFFSETTO:+0100
TZNAME:BST
DTSTART:20230326T010000
END:DAYLIGHT
BEGIN:STANDARD
TZOFFSETFROM:+0100
TZOFFSETTO:+0000
TZNAME:GMT
DTSTART:20231029T010000
END:STANDARD
BEGIN:DAYLIGHT
TZOFFSETFROM:+0000
TZOFFSETTO:+0100
TZNAME:BST
DTSTART:20240331T010000
END:DAYLIGHT
BEGIN:STANDARD
TZOFFSETFROM:+0100
TZOFFSETTO:+0000
TZNAME:GMT
DTSTART:20241027T010000
END:STANDARD
END:VTIMEZONE
BEGIN:VEVENT
DTSTART;TZID=Europe/London:20230817T093000
DTEND;TZID=Europe/London:20230817T163000
DTSTAMP:20260420T164354
CREATED:20230630T095722Z
LAST-MODIFIED:20230802T080903Z
UID:67278-1692264600-1692289800@c3sc.org.uk
SUMMARY:Level 2 Award in Manual Handling
DESCRIPTION:The protection\, or safeguarding\, of vulnerable adults should be at the forefront of any social worker or carers’ minds. Adult abuse has become all too common in modern society and this course has been designed to make carers aware of the signs of abuse and what they can do to help. There are no prerequisites to enroll on this course. \nCourse Objectives / Aims & Learning Outcomes \nTo provide the knowledge and skills to be able to undertake a range of handling operations in the work/ volunteer place \n\nManual handling injuries\nEmployers and employees’ responsibilities\nSteps of a manual handling risk assessments\nPractical controls\nSafer movement principles\nEquipment requirements\nIndividual handling\nTeam handling\nUse of equipment\n\nThe content has been written to meet guidance from manual handling operations regulations. Attendees are expected to undertake a range of manual handling activities during the course. \nThis course will be delivered in person by a trainer from Ajuda Foundation. \nAddress: Butetown Community Centre\, 40 Loudoun Square\, Cardiff\, CF10 5JA \nDate: Thursday 17th August 2023 \nTime: 9:30am to 4:30pm \nPlease note that tickets will be limited to two representatives per organisation. Volunteers are eligible to take the course. \nFor further enquiries\, please contact C3SC on 02920 485722 / 07973 725335 or enquiries@c3sc.org.uk
URL:https://c3sc.org.uk/event-single/level-2-award-in-manual-handling/
LOCATION:Butetown Community Centre\, 40 Loudoun Square\, Cardiff CF10 5JA\, Butetown Community Centre\, 40 Loudoun Square\, Cardiff CF10 5JA
CATEGORIES:Training
ATTACH;FMTTYPE=image/png:https://c3sc.org.uk/wp-content/uploads/C3SC-Eventbrite-Main-Event-Image-5.png
END:VEVENT
END:VCALENDAR