BEGIN:VCALENDAR
VERSION:2.0
PRODID:-//C3SC - Cardiff Third Sector Council - ECPv6.15.17//NONSGML v1.0//EN
CALSCALE:GREGORIAN
METHOD:PUBLISH
X-WR-CALNAME:C3SC - Cardiff Third Sector Council
X-ORIGINAL-URL:https://c3sc.org.uk
X-WR-CALDESC:Events for C3SC - Cardiff Third Sector Council
REFRESH-INTERVAL;VALUE=DURATION:PT1H
X-Robots-Tag:noindex
X-PUBLISHED-TTL:PT1H
BEGIN:VTIMEZONE
TZID:Europe/London
BEGIN:DAYLIGHT
TZOFFSETFROM:+0000
TZOFFSETTO:+0100
TZNAME:BST
DTSTART:20220327T010000
END:DAYLIGHT
BEGIN:STANDARD
TZOFFSETFROM:+0100
TZOFFSETTO:+0000
TZNAME:GMT
DTSTART:20221030T010000
END:STANDARD
BEGIN:DAYLIGHT
TZOFFSETFROM:+0000
TZOFFSETTO:+0100
TZNAME:BST
DTSTART:20230326T010000
END:DAYLIGHT
BEGIN:STANDARD
TZOFFSETFROM:+0100
TZOFFSETTO:+0000
TZNAME:GMT
DTSTART:20231029T010000
END:STANDARD
BEGIN:DAYLIGHT
TZOFFSETFROM:+0000
TZOFFSETTO:+0100
TZNAME:BST
DTSTART:20240331T010000
END:DAYLIGHT
BEGIN:STANDARD
TZOFFSETFROM:+0100
TZOFFSETTO:+0000
TZNAME:GMT
DTSTART:20241027T010000
END:STANDARD
END:VTIMEZONE
BEGIN:VEVENT
DTSTART;TZID=Europe/London:20230803T100000
DTEND;TZID=Europe/London:20230808T160000
DTSTAMP:20260420T164155
CREATED:20230731T091506Z
LAST-MODIFIED:20230731T091800Z
UID:67461-1691056800-1691510400@c3sc.org.uk
SUMMARY:Shared Prosperity Funding Opportunities
DESCRIPTION:This fund is in partnership with Cardiff Council to explore how the UK Shared Prosperity Fund (UKSPF) – an initiative by the UK Government as a central pillar of the Levelling Up agenda and successor to the European Social Fund – can provide support to communities and places in Cardiff. \nWe have created a selection of grants to make funding available to local communities and businesses. \nIf you want to find out more about these funding opportunities and/or have any questions you would like answered\, then why not drop into one of our online briefing sessions that will give you the opportunity to find out which grant is best for you! \nTwo dates are available: \n\nThursday\, 3 August – 10:00-12:00\nTuesday\, 8 August – 14:00-16:00\n\nPlease refer to the Eventbrite page here and book! \nThe C3SC Small Grants Scheme will provide support for third-sector organisations to deliver projects which work with the aims and objectives of the Shared Prosperity Fund. This grant scheme will focus on addressing the issues detailed under the Community & Place priority. \nProposed projects can start from October 2023 and may be funded up to the end of March 2024. \nThe Open Call will provide financial support through a grant scheme. The grant scheme will support capital and revenue investments in any area covered by the Shared Prosperity Fund. The fund will provide support to help strengthen communities\, build pride in place\, and deliver economic benefit. \nYou can apply for a minimum of £10\,000 and a maximum of £250\,000. \nFor details of the fund including guidance and an application form\, please go here. \nFor further enquiries\, please contact C3SC on 02920 485722 / 07973 725335 or enquiries@c3sc.org.uk
URL:https://c3sc.org.uk/event-single/shared-prosperity-funding-opportunities/
CATEGORIES:Event
ATTACH;FMTTYPE=image/png:https://c3sc.org.uk/wp-content/uploads/C3SC-Eventbrite-Main-Event-Image-5.png
END:VEVENT
END:VCALENDAR