BEGIN:VCALENDAR
VERSION:2.0
PRODID:-//C3SC - Cardiff Third Sector Council - ECPv6.15.17//NONSGML v1.0//EN
CALSCALE:GREGORIAN
METHOD:PUBLISH
X-WR-CALNAME:C3SC - Cardiff Third Sector Council
X-ORIGINAL-URL:https://c3sc.org.uk
X-WR-CALDESC:Events for C3SC - Cardiff Third Sector Council
REFRESH-INTERVAL;VALUE=DURATION:PT1H
X-Robots-Tag:noindex
X-PUBLISHED-TTL:PT1H
BEGIN:VTIMEZONE
TZID:Europe/London
BEGIN:DAYLIGHT
TZOFFSETFROM:+0000
TZOFFSETTO:+0100
TZNAME:BST
DTSTART:20220327T010000
END:DAYLIGHT
BEGIN:STANDARD
TZOFFSETFROM:+0100
TZOFFSETTO:+0000
TZNAME:GMT
DTSTART:20221030T010000
END:STANDARD
BEGIN:DAYLIGHT
TZOFFSETFROM:+0000
TZOFFSETTO:+0100
TZNAME:BST
DTSTART:20230326T010000
END:DAYLIGHT
BEGIN:STANDARD
TZOFFSETFROM:+0100
TZOFFSETTO:+0000
TZNAME:GMT
DTSTART:20231029T010000
END:STANDARD
BEGIN:DAYLIGHT
TZOFFSETFROM:+0000
TZOFFSETTO:+0100
TZNAME:BST
DTSTART:20240331T010000
END:DAYLIGHT
BEGIN:STANDARD
TZOFFSETFROM:+0100
TZOFFSETTO:+0000
TZNAME:GMT
DTSTART:20241027T010000
END:STANDARD
END:VTIMEZONE
BEGIN:VEVENT
DTSTART;TZID=Europe/London:20230727T123000
DTEND;TZID=Europe/London:20230727T133000
DTSTAMP:20260422T195806
CREATED:20230714T144450Z
LAST-MODIFIED:20230714T144450Z
UID:67394-1690461000-1690464600@c3sc.org.uk
SUMMARY:Community Payback Projects Info Session
DESCRIPTION:Community Payback work is a sentence of the court that requires people to carry out between 40 and 300 hours of work for the benefit of local communities. The number of hours to be completed is set by the Court and the delivery of that work is known as Community Payback (CP). CP is primarily a punishment that restricts a person’s free time\, however\, CP is also rehabilitative and enables people to pay back for their offending\, build self-esteem and learn new skills. \nWales Community Payback provision can support beneficiaries by providing free labour to undertake various projects to support their local communities. The provision does not risk or replace paid employment\, rather it supports the completion of work that wouldn’t take place without the support of the provision.  \nThis info session\, delivered by a representative from the HM Prison and Probation Service\, will provide an overview of the core principles of unpaid work\, the types of projects that can apply for support\, and examples of previous works carried out.  \nThere will be an opportunity for attendees to ask questions about project eligibility and the application process. \nDate: Thursday\, 27 July \nTime: 12:30pm – 1:30pm \nLocation: Online – Microsoft Teams \nThe event will be taking place online and the link will be sent through within 24 hours of the event taking place. If you do not receive the email please check your spam or junk folder. Please register to attend this event using our Eventbrite page here.  \nFor any further enquiry contact C3SC on 029 2048 5722 / 079 7372 5335 or enquiries@c3sc.org.uk.
URL:https://c3sc.org.uk/event-single/community-payback-projects-info-session/
LOCATION:Online
CATEGORIES:Event,Workshop and Surgery
ATTACH;FMTTYPE=image/png:https://c3sc.org.uk/wp-content/uploads/Untitled-design-61-1.png
ORGANIZER;CN="C3SC":MAILTO:enquiries@c3sc.org.uk
END:VEVENT
END:VCALENDAR