BEGIN:VCALENDAR
VERSION:2.0
PRODID:-//C3SC - Cardiff Third Sector Council - ECPv6.15.17//NONSGML v1.0//EN
CALSCALE:GREGORIAN
METHOD:PUBLISH
X-WR-CALNAME:C3SC - Cardiff Third Sector Council
X-ORIGINAL-URL:https://c3sc.org.uk
X-WR-CALDESC:Events for C3SC - Cardiff Third Sector Council
REFRESH-INTERVAL;VALUE=DURATION:PT1H
X-Robots-Tag:noindex
X-PUBLISHED-TTL:PT1H
BEGIN:VTIMEZONE
TZID:Europe/London
BEGIN:DAYLIGHT
TZOFFSETFROM:+0000
TZOFFSETTO:+0100
TZNAME:BST
DTSTART:20220327T010000
END:DAYLIGHT
BEGIN:STANDARD
TZOFFSETFROM:+0100
TZOFFSETTO:+0000
TZNAME:GMT
DTSTART:20221030T010000
END:STANDARD
BEGIN:DAYLIGHT
TZOFFSETFROM:+0000
TZOFFSETTO:+0100
TZNAME:BST
DTSTART:20230326T010000
END:DAYLIGHT
BEGIN:STANDARD
TZOFFSETFROM:+0100
TZOFFSETTO:+0000
TZNAME:GMT
DTSTART:20231029T010000
END:STANDARD
BEGIN:DAYLIGHT
TZOFFSETFROM:+0000
TZOFFSETTO:+0100
TZNAME:BST
DTSTART:20240331T010000
END:DAYLIGHT
BEGIN:STANDARD
TZOFFSETFROM:+0100
TZOFFSETTO:+0000
TZNAME:GMT
DTSTART:20241027T010000
END:STANDARD
END:VTIMEZONE
BEGIN:VEVENT
DTSTART;TZID=Europe/London:20230710T100000
DTEND;TZID=Europe/London:20230710T123000
DTSTAMP:20260422T195816
CREATED:20230607T101542Z
LAST-MODIFIED:20230607T101643Z
UID:67023-1688983200-1688992200@c3sc.org.uk
SUMMARY:Mental Health Awareness Training
DESCRIPTION: The UK Shared Prosperity Fund (UKSPF) is an initiative by the UK government and a central pillar of the Levelling Up agenda. We are partnering with Cardiff Council to explore how the UKSPF can provide support to communities and places in Cardiff. C3SC will be leading conversations with the third sector and will use what you tell us to advocate for the sector and inform the Local Authority’s plans.\n\nAs a part of the first phase of our UKSPF community engagement work\, we are pleased to announce that we will be running the following training course in an area many of you have told us will increase the strength and sustainability of the local voluntary sector and community action. This will be available to our members for FREE on a first-come first-served basis.\n\n\nWho is the course for? \nMental health awareness is an introductory course for all employees. Use it as part of your induction programme or any mental health activities focused on better mental health at work. \nWhat are the course aims? \nThe course aims to: \n\nRaise awareness of mental health and how it can vary\nOutline different mental health problems\nShare tips for supporting people\nExplore how mental health and wellbeing interact with daily life\nHighlight stigma and discrimination\, and how to tackle them\nShare tips on how to have supportive conversations about mental health\nProvide sources of support and information\n\nWhat does the course cover? \nThis course covers: \n\nWhat mental health means to you\nStigma – how can stigma affect our mental health\, how can we tackle stigma\nStress – stress versus pressure\, dealing with pressure\, managing stress\, resilience\nIntroduction to mental health – what are mental health problems\, mental health and mental wellbeing\, what is depression\, what causes depression\, what is anxiety\, what causes anxiety\nOther mental health problems – schizophrenia\, bipolar disorder\, PTSD\, eating disorders\, OCD\nSuicide – who can be at risk\, how to help someone feeling suicidal\, if someone needs help urgently\, looking after yourself\nEmpathy – what is empathy and why is it important\nMental health and life – 5 ways to wellbeing\nSources of support – support at work\, how Mind can help\n\nThis course\, delivered by a trainer from MIND\, will take place online via Microsoft Teams. \nYou can register your interest for the above courses by following the link here. Please note\, we may limit spaces to two representatives per organisation/group if there is a high level of demand. \nFor any further enquiry contact C3SC on 02920 485722 or enquiries@c3sc.org.uk
URL:https://c3sc.org.uk/event-single/mental-health-awareness-training-3/
LOCATION:Online
CATEGORIES:Training
ATTACH;FMTTYPE=image/png:https://c3sc.org.uk/wp-content/uploads/Untitled-design-52-2.png
ORGANIZER;CN="C3SC":MAILTO:enquiries@c3sc.org.uk
END:VEVENT
END:VCALENDAR