BEGIN:VCALENDAR
VERSION:2.0
PRODID:-//C3SC - Cardiff Third Sector Council - ECPv6.15.17//NONSGML v1.0//EN
CALSCALE:GREGORIAN
METHOD:PUBLISH
X-WR-CALNAME:C3SC - Cardiff Third Sector Council
X-ORIGINAL-URL:https://c3sc.org.uk
X-WR-CALDESC:Events for C3SC - Cardiff Third Sector Council
REFRESH-INTERVAL;VALUE=DURATION:PT1H
X-Robots-Tag:noindex
X-PUBLISHED-TTL:PT1H
BEGIN:VTIMEZONE
TZID:Europe/London
BEGIN:DAYLIGHT
TZOFFSETFROM:+0000
TZOFFSETTO:+0100
TZNAME:BST
DTSTART:20220327T010000
END:DAYLIGHT
BEGIN:STANDARD
TZOFFSETFROM:+0100
TZOFFSETTO:+0000
TZNAME:GMT
DTSTART:20221030T010000
END:STANDARD
BEGIN:DAYLIGHT
TZOFFSETFROM:+0000
TZOFFSETTO:+0100
TZNAME:BST
DTSTART:20230326T010000
END:DAYLIGHT
BEGIN:STANDARD
TZOFFSETFROM:+0100
TZOFFSETTO:+0000
TZNAME:GMT
DTSTART:20231029T010000
END:STANDARD
BEGIN:DAYLIGHT
TZOFFSETFROM:+0000
TZOFFSETTO:+0100
TZNAME:BST
DTSTART:20240331T010000
END:DAYLIGHT
BEGIN:STANDARD
TZOFFSETFROM:+0100
TZOFFSETTO:+0000
TZNAME:GMT
DTSTART:20241027T010000
END:STANDARD
END:VTIMEZONE
BEGIN:VEVENT
DTSTART;TZID=Europe/London:20230118T140000
DTEND;TZID=Europe/London:20230118T163000
DTSTAMP:20260423T102105
CREATED:20230111T164238Z
LAST-MODIFIED:20230111T164238Z
UID:66139-1674050400-1674059400@c3sc.org.uk
SUMMARY:Transport for Wales Consultation: Cardiff Central to Newport Road
DESCRIPTION:Have your say on the future of transport in Cardiff \nTransport for Wales are exploring potential options for future transport routes between Cardiff Central and Newport Road\, via Cardiff Bay and Porth Teigr. A new public transport link and enhanced active travel routes from Cardiff Central to Newport Road via the Bay has long been an ambition of the Welsh Government and Cardiff Council. \nThis would be a future stage of improvements following the completion of the Butetown station and the planned upgrades to the Cardiff Bay line and Cardiff Bay station and would be subject to securing funding. A number of options have been presented to collect wider feedback on connecting public transport in the area. The outcome of the consultation will inform an outline business case\, and following the findings report\, we’ll look to reduce the number of route options to one\, with a view to proceed with planning.  \nThe seven-week statutory public consultation launched 12 December – TfW is particularly keen to seek the views of businesses\, employees and residents who reside in the proposed areas. \nWhen: Wednesday\, 18 January 2023  \n 2:00pm – 4:30pm \nWhere: Butetown Community Centre (40 Loudoun Square\, Cardiff CF10 5JA)  \nTo take part in the online consultation\, please visit haveyoursay.tfw.wales/cardiff-central-to-newport-road. Consultation will close 30 January 2023.
URL:https://c3sc.org.uk/event-single/transport-for-wales-consultation-cardiff-central-to-newport-road/
LOCATION:Butetown Community Centre\, 40 Loudoun Square\, Cardiff\, CF10 5UZ\, Cardiff\, CF10 5UZ\, GB
CATEGORIES:Meeting,Workshop and Surgery
ATTACH;FMTTYPE=image/png:https://c3sc.org.uk/wp-content/uploads/66013_image.png
END:VEVENT
BEGIN:VEVENT
DTSTART;TZID=Europe/London:20230118T163000
DTEND;TZID=Europe/London:20230118T183000
DTSTAMP:20260423T102105
CREATED:20221226T160125Z
LAST-MODIFIED:20221226T160125Z
UID:65995-1674059400-1674066600@c3sc.org.uk
SUMMARY:Being a Trustee Training
DESCRIPTION:Being a Trustee: An online training session for new and existing Trustees in Cardiff\n\n\nAn online training session for new and existing Trustees in Cardiff to learn more about best practice in governance\, delivered by C3SC \nAbout this event \nBeing a Trustee will help new and existing Trustees improve their understanding of best practice in governance. \nThe aims and objectives of the course are that attendees: \nUnderstand the key principles of governance \nUnderstand how trustees as a board are collectively responsible and accountable for ensuring that the organisation is well-run \nUnderstand the roles and responsibilities of the Board in good governance \nBe aware of good practice guidance in relation to governance \nThe event will be taking place on  Teams or Zoom and the link will be sent through the day prior to the event. \nParticipants are advised to bring their organisation’s governing document to the session\, if available. \nPlease contact C3SC on 07973725335 or enquiries@c3sc.org.uk for more information or with any further enquiries
URL:https://c3sc.org.uk/event-single/being-a-trustee-training-5/
ATTACH;FMTTYPE=image/png:https://c3sc.org.uk/wp-content/uploads/65995_image.png
END:VEVENT
END:VCALENDAR