BEGIN:VCALENDAR
VERSION:2.0
PRODID:-//C3SC - Cardiff Third Sector Council - ECPv6.15.17//NONSGML v1.0//EN
CALSCALE:GREGORIAN
METHOD:PUBLISH
X-WR-CALNAME:C3SC - Cardiff Third Sector Council
X-ORIGINAL-URL:https://c3sc.org.uk
X-WR-CALDESC:Events for C3SC - Cardiff Third Sector Council
REFRESH-INTERVAL;VALUE=DURATION:PT1H
X-Robots-Tag:noindex
X-PUBLISHED-TTL:PT1H
BEGIN:VTIMEZONE
TZID:Europe/London
BEGIN:DAYLIGHT
TZOFFSETFROM:+0000
TZOFFSETTO:+0100
TZNAME:BST
DTSTART:20220327T010000
END:DAYLIGHT
BEGIN:STANDARD
TZOFFSETFROM:+0100
TZOFFSETTO:+0000
TZNAME:GMT
DTSTART:20221030T010000
END:STANDARD
BEGIN:DAYLIGHT
TZOFFSETFROM:+0000
TZOFFSETTO:+0100
TZNAME:BST
DTSTART:20230326T010000
END:DAYLIGHT
BEGIN:STANDARD
TZOFFSETFROM:+0100
TZOFFSETTO:+0000
TZNAME:GMT
DTSTART:20231029T010000
END:STANDARD
BEGIN:DAYLIGHT
TZOFFSETFROM:+0000
TZOFFSETTO:+0100
TZNAME:BST
DTSTART:20240331T010000
END:DAYLIGHT
BEGIN:STANDARD
TZOFFSETFROM:+0100
TZOFFSETTO:+0000
TZNAME:GMT
DTSTART:20241027T010000
END:STANDARD
END:VTIMEZONE
BEGIN:VEVENT
DTSTART;TZID=Europe/London:20230117T100000
DTEND;TZID=Europe/London:20230117T110000
DTSTAMP:20260423T102111
CREATED:20221222T140259Z
LAST-MODIFIED:20221222T142948Z
UID:65972-1673949600-1673953200@c3sc.org.uk
SUMMARY:C3SC "Meet The Funder" Event - Viridor Project Green Community Fund Grant
DESCRIPTION:Viridor’s Trident Park Energy Recovery Facility in Cardiff has an annual pot of funds available to any constituted group within the LA areas of Cardiff\, Newport\, Vale of Glamorgan\, Caerphilly and Monmouthshire. This information\, questions and answers session will be delivered by Eamonn from Viridor who manages the fund. \nThe session provides a great opportunity to hear how the fund works\, eligibility criteria\, tips on applying\, the application process and timescale. Plus\, there will be the opportunity to ask questions afterwards. \nThe event will be taking place on Microsoft Teams and the link will be sent through within 24 hours of the event taking place. \nRegister for this event for FREE at: https://www.eventbrite.co.uk/e/c3sc-meet-the-funder-event-viridor-project-green-community-fund-grant-tickets-490440961117 \nFor more information please contact C3SC on 07973 725 335 or enquiries@c3sc.org.uk. \nWe are looking forward to seeing you!
URL:https://c3sc.org.uk/event-single/c3sc-meet-the-funder-viridor-project-green-community-fund-grant/
LOCATION:Microsoft Teams\, United Kingdom
CATEGORIES:Event
ATTACH;FMTTYPE=image/png:https://c3sc.org.uk/wp-content/uploads/C3SC-Eventbrite-Main-Event-Image-4.png
END:VEVENT
BEGIN:VEVENT
DTSTART;TZID=Europe/London:20230117T100000
DTEND;TZID=Europe/London:20230117T110000
DTSTAMP:20260423T102111
CREATED:20221226T160059Z
LAST-MODIFIED:20221226T160059Z
UID:65989-1673949600-1673953200@c3sc.org.uk
SUMMARY:C3SC "Meet The Funder" Event - Viridor Project Green Community Fund Grant
DESCRIPTION:An online funding event hosted by C3SC on the Viridor Project Green Community Fund Grant\n\n\nThis event is hosted by Cardiff Third Sector Council  \n \nViridor’s Trident Park Energy Recovery Facility in Cardiff has an annual pot of funds available to any constituted group within the LA areas of Cardiff\, Newport\, Vale of Glamorgan\, Caerphilly and Monmouthshire.  This information\, questions and answers session will be delivered by Eamonn from Viridor who manages the fund. \nTuesday 17th  January 2023  \n1﻿0:00am – 11:00am \n \nThe session provides great opportunity to hear how the fund works\, eligibility criteria\, tips on applying\, the application process and timescale. Plus\, there will be the opportunity to ask questions afterwards. \nThe event will be taking place on Microsoft Teams and the link will be sent through within 24 hours of the event taking place. \nFor any further enquiry contact C3SC on 07973 725 335 or enquiries@c3sc.org.uk \nWe are looking forward to seeing you!
URL:https://c3sc.org.uk/event-single/c3sc-meet-the-funder-event-viridor-project-green-community-fund-grant/
ATTACH;FMTTYPE=image/png:https://c3sc.org.uk/wp-content/uploads/65989_image.png
END:VEVENT
BEGIN:VEVENT
DTSTART;TZID=Europe/London:20230117T103000
DTEND;TZID=Europe/London:20230117T120000
DTSTAMP:20260423T102111
CREATED:20221222T141857Z
LAST-MODIFIED:20221222T141857Z
UID:65973-1673951400-1673956800@c3sc.org.uk
SUMMARY:C3SC Members' Forum: Physical Disabilities and Access to Sport and Transport
DESCRIPTION:Following on from Cardiff Third Sector Council’s Members’ Forum on Tuesday\, 8th November\, Pedal Power have kindly offered to host a follow-up session on 17th January. \nThe session will be attended by Cardiff Council’s Equality Officers as well as Transport for Wales. \nThe Forum will give the opportunity to Third Sector groups working with people with physical disabilities to meet other groups\, share ideas and learning\, make alliances and give groups the opportunity to focus on what can be done locally to ensure equality of access for people with physical disabilities. It will also give organisations the opportunity to engage directly with major service providers in Cardiff. \nThe Forum will be a hybrid event and will be hosted both on Teams by C3SC\, and in person at Pedal Power’s Cafe\, Cardiff Caravan Park\, Off Dogo St\, Cardiff CF11 9LB. \nRegister for this event for FREE at: https://www.eventbrite.co.uk/e/c3sc-members-forum-physical-disabilities-and-access-to-sport-and-transport-tickets-494958904407 \nFor more information please contact C3SC on 07973 725 335 or enquiries@c3sc.org.uk. \nWe look forward to seeing you!
URL:https://c3sc.org.uk/event-single/c3sc-members-forum-physical-disabilities-and-access-to-sport-and-transport/
LOCATION:Pedal Power cafe\, Off of Dogo Street\, Cardiff CF11 9JJ\, Pedal Power cafe\, Off of Dogo Street\, Cardiff CF11 9JJ
CATEGORIES:Network Meeting
ATTACH;FMTTYPE=image/png:https://c3sc.org.uk/wp-content/uploads/C3SC-Eventbrite-Main-Event-Image-4.png
END:VEVENT
BEGIN:VEVENT
DTSTART;TZID=Europe/London:20230117T103000
DTEND;TZID=Europe/London:20230117T120000
DTSTAMP:20260423T102111
CREATED:20221226T160114Z
LAST-MODIFIED:20221226T160114Z
UID:65992-1673951400-1673956800@c3sc.org.uk
SUMMARY:C3SC Members Forum: Physical disabilities and access to sport and transport
DESCRIPTION:C3SC Members’ Forum\n\n\nC3SC Members’ Forum on Physical Disabilities and Access to Sport and Transport \nFollowing on from Cardiff Third Sector Council’s Members’ Forum on Tuesday 8th November\, Pedal Power have kindly offered to host a follow up session on 17th January. \nThe session will  be attended by Cardiff Council’s Equality Officers as well as Transport for Wales.  \nThe Forum will give the opportunity to Third Sector groups working with people with physical disabilities to meet other groups\, share ideas and learning\, make alliances and give groups the opportunity to focus on what can be done locally to ensure equality of access for people with physical disabilities. It will also give organisations the opportunity to engage directly with major service providers in Cardiff. \nT﻿he Forum will be a hybrid event and will be hosted both on Teams by C3SC\, and in person at Pedal Power’s Cafe\, Cardiff Caravan Park\,  Off Dogo St\, Cardiff CF11 9LB. \nFor any further enquiries contact C3SC on 07973 725335 or enquiries@c3sc.org.uk. \nWe look forward to seeing you!
URL:https://c3sc.org.uk/event-single/c3sc-members-forum-physical-disabilities-and-access-to-sport-and-transport-2/
ATTACH;FMTTYPE=image/png:https://c3sc.org.uk/wp-content/uploads/65992_image.png
END:VEVENT
END:VCALENDAR