BEGIN:VCALENDAR
VERSION:2.0
PRODID:-//C3SC - Cardiff Third Sector Council - ECPv6.15.17//NONSGML v1.0//EN
CALSCALE:GREGORIAN
METHOD:PUBLISH
X-WR-CALNAME:C3SC - Cardiff Third Sector Council
X-ORIGINAL-URL:https://c3sc.org.uk
X-WR-CALDESC:Events for C3SC - Cardiff Third Sector Council
REFRESH-INTERVAL;VALUE=DURATION:PT1H
X-Robots-Tag:noindex
X-PUBLISHED-TTL:PT1H
BEGIN:VTIMEZONE
TZID:Europe/London
BEGIN:DAYLIGHT
TZOFFSETFROM:+0000
TZOFFSETTO:+0100
TZNAME:BST
DTSTART:20210328T010000
END:DAYLIGHT
BEGIN:STANDARD
TZOFFSETFROM:+0100
TZOFFSETTO:+0000
TZNAME:GMT
DTSTART:20211031T010000
END:STANDARD
BEGIN:DAYLIGHT
TZOFFSETFROM:+0000
TZOFFSETTO:+0100
TZNAME:BST
DTSTART:20220327T010000
END:DAYLIGHT
BEGIN:STANDARD
TZOFFSETFROM:+0100
TZOFFSETTO:+0000
TZNAME:GMT
DTSTART:20221030T010000
END:STANDARD
BEGIN:DAYLIGHT
TZOFFSETFROM:+0000
TZOFFSETTO:+0100
TZNAME:BST
DTSTART:20230326T010000
END:DAYLIGHT
BEGIN:STANDARD
TZOFFSETFROM:+0100
TZOFFSETTO:+0000
TZNAME:GMT
DTSTART:20231029T010000
END:STANDARD
END:VTIMEZONE
BEGIN:VEVENT
DTSTART;TZID=Europe/London:20221130T140000
DTEND;TZID=Europe/London:20221130T163000
DTSTAMP:20260423T114322
CREATED:20220908T105819Z
LAST-MODIFIED:20221021T152954Z
UID:65055-1669816800-1669825800@c3sc.org.uk
SUMMARY:Volunteer Recruitment\, Selection and Induction Training
DESCRIPTION:The training will help you improve your knowledge of Volunteer Recruitment\, Selection and Induction. It would be suitable for Volunteer Managers\, Coordinators\, Supervisors\, Team Leaders and individuals who have responsibility for recruiting\, training and managing volunteers. Volunteers are welcome to apply and will be allocated a space\, on a first come first served basis. By the end of the course\, you will:  \n\nBe familiar with a range of methods to attract a diversity of volunteers\nRecognise ‘selection’ as a two ways process and be familiar with a range of selection tools\nUnderstand the use of vetting procedures including DBS checks and recognise their limitations\nUnderstand the purpose and nature of\n\na) volunteer agreements and\nb) volunteer induction\n\n\nRecognise potential uses and abuses of volunteers’ personal information\nRecognise ways in which volunteering can be made more accessible to all\n\nDate: Wednesday 30th November 2022 \nTime: 2 pm – 4:30 pm \nThe training will be a hybrid event taking place on Microsoft Teams or in person at Butetown Community Centre and the link will be sent through within 24 hours of the training taking place. Please ensure you book the correct ticket for your preferred method of participation.  \nFor further enquiries\, contact C3SC on 07973 725 335 or enquiries@c3sc.org.uk
URL:https://c3sc.org.uk/event-single/volunteer-recruitment-selection-and-induction-training/
LOCATION:Butetown Community Centre\, 40 Loudoun Square\, Cardiff CF10 5UZ\, Butetown Community Centre\, 40 Loudoun Square\, Cardiff CF10 5UZ
CATEGORIES:Training
ATTACH;FMTTYPE=image/jpeg:https://c3sc.org.uk/wp-content/uploads/cdfvolcentre.jpg
END:VEVENT
BEGIN:VEVENT
DTSTART;TZID=Europe/London:20221130T140000
DTEND;TZID=Europe/London:20221130T163000
DTSTAMP:20260423T114322
CREATED:20221130T074609Z
LAST-MODIFIED:20221130T074609Z
UID:65590-1669816800-1669825800@c3sc.org.uk
SUMMARY:Volunteer recruitment\, selection and induction
DESCRIPTION:The training will help you improve your knowledge on Volunteer Recruitment\, Selection and Induction.\n\n\nThe training will help you improve your knowledge on Volunteer Recruitment\, Selection and Induction. It would be suitable for volunteer managers\, coordinators\, supervisors\, team leaders and individuals who have responsibility for recruiting\, training and managing volunteers. Volunteers are welcome to apply and will be allocated a space\, on a first come first served basis. By the end of the course\, you will:  \n\nBe familiar with a range of methods to attract a diversity of volunteers\n\n\nRecognise ‘selection’ as a two ways process and be familiar with a range of selection tools\n\n\nUnderstand the use of vetting procedures including DBS checks and recognise their limitations\n\n\nUnderstand the purpose and nature of a) volunteer agreements and b) volunteer induction\n\n\nRecognise potential uses and abuses of volunteers’ personal information\n\n\nRecognise ways in which volunteering can be made more accessible to all\n\nDate: Wednesday 30th November 2022 \nTime: 2 pm – 4:30 pm \nThe training will be a hybrid event taking place on Microsoft Teams or in person at Butetown Community Centre and the link will be sent through within 24 hours of the training taking place. Please ensure you book the correct ticket for your preferred method of participation.  \nFor further enquiries\, contact C3SC on 07973 725 335 or enquiries@c3sc.org.uk
URL:https://c3sc.org.uk/event-single/volunteer-recruitment-selection-and-induction-2/
ATTACH;FMTTYPE=image/png:https://c3sc.org.uk/wp-content/uploads/65590_image.png
END:VEVENT
END:VCALENDAR