BEGIN:VCALENDAR
VERSION:2.0
PRODID:-//C3SC - Cardiff Third Sector Council - ECPv6.15.17//NONSGML v1.0//EN
CALSCALE:GREGORIAN
METHOD:PUBLISH
X-WR-CALNAME:C3SC - Cardiff Third Sector Council
X-ORIGINAL-URL:https://c3sc.org.uk
X-WR-CALDESC:Events for C3SC - Cardiff Third Sector Council
REFRESH-INTERVAL;VALUE=DURATION:PT1H
X-Robots-Tag:noindex
X-PUBLISHED-TTL:PT1H
BEGIN:VTIMEZONE
TZID:Europe/London
BEGIN:DAYLIGHT
TZOFFSETFROM:+0000
TZOFFSETTO:+0100
TZNAME:BST
DTSTART:20210328T010000
END:DAYLIGHT
BEGIN:STANDARD
TZOFFSETFROM:+0100
TZOFFSETTO:+0000
TZNAME:GMT
DTSTART:20211031T010000
END:STANDARD
BEGIN:DAYLIGHT
TZOFFSETFROM:+0000
TZOFFSETTO:+0100
TZNAME:BST
DTSTART:20220327T010000
END:DAYLIGHT
BEGIN:STANDARD
TZOFFSETFROM:+0100
TZOFFSETTO:+0000
TZNAME:GMT
DTSTART:20221030T010000
END:STANDARD
BEGIN:DAYLIGHT
TZOFFSETFROM:+0000
TZOFFSETTO:+0100
TZNAME:BST
DTSTART:20230326T010000
END:DAYLIGHT
BEGIN:STANDARD
TZOFFSETFROM:+0100
TZOFFSETTO:+0000
TZNAME:GMT
DTSTART:20231029T010000
END:STANDARD
END:VTIMEZONE
BEGIN:VEVENT
DTSTART;TZID=Europe/London:20221117T160000
DTEND;TZID=Europe/London:20221117T173000
DTSTAMP:20260423T160556
CREATED:20220920T160836Z
LAST-MODIFIED:20221114T144402Z
UID:65112-1668700800-1668706200@c3sc.org.uk
SUMMARY:Cardiff Volunteer Awards 2022
DESCRIPTION:The theme of this year’s event is ‘Reconnect In Communities’. \nNow is your opportunity to say THANK YOU to the thousands of volunteers who have gone above and beyond to support you or anyone you know\, your community\,  front-line workers\, and or have made a significant contribution to any project in Cardiff. \nThe Cardiff Volunteer Awards 2022 will be a HYBRID event. When you register\, please choose the appropriate ticket for your planned participation – virtual or in-person.  \nWhen: The event takes place at 4pm on 17 November 2022. Please join us from 3pm to meet the nominees\, network and enjoy a free light lunch. \nWhere: In Person at Butetown Community Centre or Online \nVolunteers can be nominated in the following categories: \n\nCovid-19 Recovery Phase Volunteer\nVolunteer of the Year (Over 25 Years)\nYoung Volunteer of the Year (25 Years and Under)\nVolunteer Group of the Year\nVolunteer Coordinator of the Year\nTrustee of the Year\nOutstanding Community Volunteer\n\nClick here to register for this FREE event on Eventbrite\nIf you are interested in sponsoring the CVAs 2022\, please view the Sponsorship Package Document here. \nPlease feel free to contact us on 07973 725 335 or 02920 485 722 or email us at enquiries@c3sc.org.uk for further information.
URL:https://c3sc.org.uk/event-single/cardiff-volunteer-awards-2022/
LOCATION:Butetown Community Centre
CATEGORIES:Event
ATTACH;FMTTYPE=image/png:https://c3sc.org.uk/wp-content/uploads/Eventbrite-image-23.png
END:VEVENT
END:VCALENDAR