BEGIN:VCALENDAR
VERSION:2.0
PRODID:-//C3SC - Cardiff Third Sector Council - ECPv6.15.17//NONSGML v1.0//EN
CALSCALE:GREGORIAN
METHOD:PUBLISH
X-WR-CALNAME:C3SC - Cardiff Third Sector Council
X-ORIGINAL-URL:https://c3sc.org.uk
X-WR-CALDESC:Events for C3SC - Cardiff Third Sector Council
REFRESH-INTERVAL;VALUE=DURATION:PT1H
X-Robots-Tag:noindex
X-PUBLISHED-TTL:PT1H
BEGIN:VTIMEZONE
TZID:Europe/London
BEGIN:DAYLIGHT
TZOFFSETFROM:+0000
TZOFFSETTO:+0100
TZNAME:BST
DTSTART:20210328T010000
END:DAYLIGHT
BEGIN:STANDARD
TZOFFSETFROM:+0100
TZOFFSETTO:+0000
TZNAME:GMT
DTSTART:20211031T010000
END:STANDARD
BEGIN:DAYLIGHT
TZOFFSETFROM:+0000
TZOFFSETTO:+0100
TZNAME:BST
DTSTART:20220327T010000
END:DAYLIGHT
BEGIN:STANDARD
TZOFFSETFROM:+0100
TZOFFSETTO:+0000
TZNAME:GMT
DTSTART:20221030T010000
END:STANDARD
BEGIN:DAYLIGHT
TZOFFSETFROM:+0000
TZOFFSETTO:+0100
TZNAME:BST
DTSTART:20230326T010000
END:DAYLIGHT
BEGIN:STANDARD
TZOFFSETFROM:+0100
TZOFFSETTO:+0000
TZNAME:GMT
DTSTART:20231029T010000
END:STANDARD
END:VTIMEZONE
BEGIN:VEVENT
DTSTART;TZID=Europe/London:20221024T123000
DTEND;TZID=Europe/London:20221024T133000
DTSTAMP:20260423T160554
CREATED:20221014T133057Z
LAST-MODIFIED:20221014T141253Z
UID:65328-1666614600-1666618200@c3sc.org.uk
SUMMARY:Community Matters Fund - £2.5million Fuel Poverty Plus Funding Info Session
DESCRIPTION:This winter\, National Grid Electricity Distribution has teamed up with Localgiving to deliver a record £2.5million of funding to charitable organisations tackling fuel poverty in their communities.  \nThis information\, questions and answers session will be delivered by Amy from Localgiving who administers the fund. \n\nMonday 24th October 2022\n12:20pm – 13:30pm\n\nNational Grid Electricity Distribution is calling on charities\, councils and community groups small and large across its four regions\, to apply for grants of up to £10\,000 to support people who need extra help this winter. \nClosing date is midnight on Monday\, October 31st\, 2022\, and for the project to be completed by 31st March 2023. \nThe session provides great opportunity to hear about the grant eligibility criteria\, tips on applying\, the application process and timescale. Plus\, there will be the opportunity to ask questions afterwards. \nIn addition\, the session will highlight the Localgiving Magic Little Grants and the Fundraising Wales programme too.  \nThe event will be delivered using Microsoft Teams\, and the link will be sent 24 hours prior to the event taking place. The workshop will not be recorded. \nRegister for FREE at https://www.eventbrite.co.uk/e/community-matters-fund-25million-fuel-poverty-plus-funding-info-session-tickets-441370369657\nFor more information\, please contact C3SC on 07973 725335 or enquiries@c3sc.org.uk
URL:https://c3sc.org.uk/event-single/community-matters-fund-2-5million-fuel-poverty-plus-funding-info-session/
CATEGORIES:Event
ATTACH;FMTTYPE=image/png:https://c3sc.org.uk/wp-content/uploads/C3SC-Eventbrite-Main-Event-Image-4.png
END:VEVENT
BEGIN:VEVENT
DTSTART;TZID=Europe/London:20221024T140000
DTEND;TZID=Europe/London:20221024T153000
DTSTAMP:20260423T160554
CREATED:20221014T140923Z
LAST-MODIFIED:20221014T140923Z
UID:65332-1666620000-1666625400@c3sc.org.uk
SUMMARY:DBS Disclosure Training Workshop
DESCRIPTION:Carol – Regional Outreach Adviser – from the Disclosure and Barring Service will be delivering this online training session. \nThe overall outcome of the session is to have a greater understanding of DBS\, its products and how DBS can work with organisations at all levels to promote and encourage safer recruitment and safeguarding in its widest context. \n Date: Monday 24th October 2022 \nTime: 14:00 am – 15:30 am  \nThe learning outcomes from this session are: – \n\nIntroduction to DBS\nUnderstand the benefits of DBS and you (organisation) working together\nUnderstand the different levels of DBS checks\nUnderstand when an employee is eligible for a check\nUnderstand what Regulated Activity is\nUnderstand the DBS Update Service\nHave an understanding of what safe recruitment practices can be in place that DBS checks can form a part of\n\nThe event will be taking place on Microsoft Teams and the link will be sent through within 24 hours of the event taking place. \nRegister for FREE at https://www.eventbrite.co.uk/e/dbs-disclosure-training-workshop-tickets-441351412957\nFor any further enquiry contact C3SC on 07973 725335 or enquiries@c3sc.org.uk \nWe are looking forward to seeing you.
URL:https://c3sc.org.uk/event-single/dbs-disclosure-training-workshop-3/
CATEGORIES:Training,Workshop and Surgery
ATTACH;FMTTYPE=image/png:https://c3sc.org.uk/wp-content/uploads/C3SC-Eventbrite-Main-Event-Image-5.png
END:VEVENT
END:VCALENDAR