BEGIN:VCALENDAR
VERSION:2.0
PRODID:-//C3SC - Cardiff Third Sector Council - ECPv6.15.17//NONSGML v1.0//EN
CALSCALE:GREGORIAN
METHOD:PUBLISH
X-WR-CALNAME:C3SC - Cardiff Third Sector Council
X-ORIGINAL-URL:https://c3sc.org.uk
X-WR-CALDESC:Events for C3SC - Cardiff Third Sector Council
REFRESH-INTERVAL;VALUE=DURATION:PT1H
X-Robots-Tag:noindex
X-PUBLISHED-TTL:PT1H
BEGIN:VTIMEZONE
TZID:Europe/London
BEGIN:DAYLIGHT
TZOFFSETFROM:+0000
TZOFFSETTO:+0100
TZNAME:BST
DTSTART:20210328T010000
END:DAYLIGHT
BEGIN:STANDARD
TZOFFSETFROM:+0100
TZOFFSETTO:+0000
TZNAME:GMT
DTSTART:20211031T010000
END:STANDARD
BEGIN:DAYLIGHT
TZOFFSETFROM:+0000
TZOFFSETTO:+0100
TZNAME:BST
DTSTART:20220327T010000
END:DAYLIGHT
BEGIN:STANDARD
TZOFFSETFROM:+0100
TZOFFSETTO:+0000
TZNAME:GMT
DTSTART:20221030T010000
END:STANDARD
BEGIN:DAYLIGHT
TZOFFSETFROM:+0000
TZOFFSETTO:+0100
TZNAME:BST
DTSTART:20230326T010000
END:DAYLIGHT
BEGIN:STANDARD
TZOFFSETFROM:+0100
TZOFFSETTO:+0000
TZNAME:GMT
DTSTART:20231029T010000
END:STANDARD
END:VTIMEZONE
BEGIN:VEVENT
DTSTART;TZID=Europe/London:20221019T093000
DTEND;TZID=Europe/London:20221019T123000
DTSTAMP:20260423T160555
CREATED:20220823T155221Z
LAST-MODIFIED:20220914T143650Z
UID:64999-1666171800-1666182600@c3sc.org.uk
SUMMARY:Introduction to Safeguarding Training Course
DESCRIPTION:Delivered online by WCVA in Partnership with Cardiff Third Sector Council (C3SC). \nWednesday\, October 19th 2022 \n9:30 am – 12:30 pm \nThe course aims to support Third Sector organisations to gain a basic awareness introduction to generic safeguarding; covering all age groups\, and as broadly applicable to all settings as possible. \nThe main outcomes are to:  \n\nHave increased understanding of what is meant by “safeguarding” and how it is related to a different role \nHave increased awareness of expected safeguarding policy and practice\nHave increased awareness of the legislation that underpins safeguarding in Wales\nKnow where to find a wider range of safeguarding resources\n\nThe event will be taking place on Zoom and the link will be sent 24 hours prior to the event taking place. \n\nTo register for this FREE event\, click here: https://www.eventbrite.co.uk/e/introduction-to-safeguarding-training-course-tickets-406872726277\n  \nFor any further enquiry contact C3SC on 07973 725335 or enquiries@c3sc.org.uk \nWe are looking forward to seeing you!
URL:https://c3sc.org.uk/event-single/introduction-to-safeguarding-training-course/
CATEGORIES:Training
ATTACH;FMTTYPE=image/png:https://c3sc.org.uk/wp-content/uploads/C3SC-Eventbrite-Main-Event-Image-4.png
ORGANIZER;CN="C3SC":MAILTO:enquiries@c3sc.org.uk
END:VEVENT
END:VCALENDAR