BEGIN:VCALENDAR
VERSION:2.0
PRODID:-//C3SC - Cardiff Third Sector Council - ECPv6.15.17//NONSGML v1.0//EN
CALSCALE:GREGORIAN
METHOD:PUBLISH
X-ORIGINAL-URL:https://c3sc.org.uk
X-WR-CALDESC:Events for C3SC - Cardiff Third Sector Council
REFRESH-INTERVAL;VALUE=DURATION:PT1H
X-Robots-Tag:noindex
X-PUBLISHED-TTL:PT1H
BEGIN:VTIMEZONE
TZID:Europe/London
BEGIN:DAYLIGHT
TZOFFSETFROM:+0000
TZOFFSETTO:+0100
TZNAME:BST
DTSTART:20210328T010000
END:DAYLIGHT
BEGIN:STANDARD
TZOFFSETFROM:+0100
TZOFFSETTO:+0000
TZNAME:GMT
DTSTART:20211031T010000
END:STANDARD
BEGIN:DAYLIGHT
TZOFFSETFROM:+0000
TZOFFSETTO:+0100
TZNAME:BST
DTSTART:20220327T010000
END:DAYLIGHT
BEGIN:STANDARD
TZOFFSETFROM:+0100
TZOFFSETTO:+0000
TZNAME:GMT
DTSTART:20221030T010000
END:STANDARD
BEGIN:DAYLIGHT
TZOFFSETFROM:+0000
TZOFFSETTO:+0100
TZNAME:BST
DTSTART:20230326T010000
END:DAYLIGHT
BEGIN:STANDARD
TZOFFSETFROM:+0100
TZOFFSETTO:+0000
TZNAME:GMT
DTSTART:20231029T010000
END:STANDARD
END:VTIMEZONE
BEGIN:VEVENT
DTSTART;TZID=Europe/London:20220915T100000
DTEND;TZID=Europe/London:20220915T120000
DTSTAMP:20260424T003330
CREATED:20220830T134212Z
LAST-MODIFIED:20220914T143020Z
UID:65001-1663236000-1663243200@c3sc.org.uk
SUMMARY:Cardiff Health\, Social Care and Wellbeing Network
DESCRIPTION:This event will provide an opportunity for third sector organisations with an interest in improving the health and wellbeing in the community to share information and discuss current relevant issues\, such as the cost of living crisis or access to health services. \nA full agenda will be shared closer to the event which will include presentations on: \n\nShaping Our Future Wellbeing In Our Community \nDewis Cymru – The place for wellbeing in Wales\n\nThe event will be taking place online and the link will be sent through within 24 hours of the event taking place. \n\nTo register for this FREE event\, click here: https://www.eventbrite.co.uk/e/cardiff-health-social-care-and-wellbeing-network-tickets-407952536017\n  \nFor any further enquiry contact C3SC on 07973 725335 or enquiries@c3sc.org.uk
URL:https://c3sc.org.uk/event-single/cardiff-health-social-care-and-wellbeing-network/
CATEGORIES:Network Meeting
ATTACH;FMTTYPE=image/png:https://c3sc.org.uk/wp-content/uploads/C3SC-Eventbrite-Main-Event-Image-4.png
ORGANIZER;CN="C3SC":MAILTO:enquiries@c3sc.org.uk
END:VEVENT
END:VCALENDAR