BEGIN:VCALENDAR
VERSION:2.0
PRODID:-//C3SC - Cardiff Third Sector Council - ECPv6.15.17//NONSGML v1.0//EN
CALSCALE:GREGORIAN
METHOD:PUBLISH
X-WR-CALNAME:C3SC - Cardiff Third Sector Council
X-ORIGINAL-URL:https://c3sc.org.uk
X-WR-CALDESC:Events for C3SC - Cardiff Third Sector Council
REFRESH-INTERVAL;VALUE=DURATION:PT1H
X-Robots-Tag:noindex
X-PUBLISHED-TTL:PT1H
BEGIN:VTIMEZONE
TZID:Europe/London
BEGIN:DAYLIGHT
TZOFFSETFROM:+0000
TZOFFSETTO:+0100
TZNAME:BST
DTSTART:20150329T010000
END:DAYLIGHT
BEGIN:STANDARD
TZOFFSETFROM:+0100
TZOFFSETTO:+0000
TZNAME:GMT
DTSTART:20151025T010000
END:STANDARD
BEGIN:DAYLIGHT
TZOFFSETFROM:+0000
TZOFFSETTO:+0100
TZNAME:BST
DTSTART:20160327T010000
END:DAYLIGHT
BEGIN:STANDARD
TZOFFSETFROM:+0100
TZOFFSETTO:+0000
TZNAME:GMT
DTSTART:20161030T010000
END:STANDARD
BEGIN:DAYLIGHT
TZOFFSETFROM:+0000
TZOFFSETTO:+0100
TZNAME:BST
DTSTART:20170326T010000
END:DAYLIGHT
BEGIN:STANDARD
TZOFFSETFROM:+0100
TZOFFSETTO:+0000
TZNAME:GMT
DTSTART:20171029T010000
END:STANDARD
END:VTIMEZONE
BEGIN:VEVENT
DTSTART;TZID=Europe/London:20160129T093000
DTEND;TZID=Europe/London:20160129T153000
DTSTAMP:20260425T030355
CREATED:20151216T151634Z
LAST-MODIFIED:20151216T151634Z
UID:48056-1454059800-1454081400@c3sc.org.uk
SUMMARY:Social Co-operation Forum - Care to Co-operate Workshop
DESCRIPTION:The Social Co-operation Forum is holding an event aimed at citizen activists and collaborators who are involved in developing local self-help initiatives. \nThe aim of the event is to enable delegates to: \n\nLearn from each other and from relevant expert practitioners\nDevelop useful networking relationships at national and local level\nAssist the Forum and others in identifying a national agenda that will help user-led and co-operative support services to flourish\n\nWho should attend? \n\nCitizens exploring self help and co-operative support services\nCommunity development and co-production practitioners\nCommissioners interested in user-led and co-operative models of support\n Anyone interested in finding out more about user-led and co-operative support services.\n\nPlease mark the event in your diary. To register interest and request a copy of the full programme nearer the date\, email: matthew.close@wales.coop \nThe Social Co-operation Forum was established in Wales in 2011. It is made up of individuals and organisations who support the development of social care and well-being services which embrace co-operative principles. It welcomes the new duty on local authorities to promote user-led and co-operative organisations in the field of social care\, as set out in Section 16 of the Social Services and Well Being (Wales) Act 2014. \nThe event is sponsored by Welsh Government. \nThere is a small bursary available to cover travel expenses. Please note this pot of money is limited and cannot be guaranteed. For those wishing to apply for a bursary please e-mail julie.constable@cartrefi.org \nAttendance at the event is free.To register\, click here https://caretocooperateworkshop.eventbrite.co.uk
URL:https://c3sc.org.uk/event-single/social-co-operation-forum-care-to-co-operate-workshop/
LOCATION:: Glamorgan Holiday Hotel\, Porthcawl\, : Glamorgan Holiday Hotel\, Porthcawl
CATEGORIES:Event
END:VEVENT
END:VCALENDAR