BEGIN:VCALENDAR
VERSION:2.0
PRODID:-//C3SC - Cardiff Third Sector Council - ECPv6.15.17//NONSGML v1.0//EN
CALSCALE:GREGORIAN
METHOD:PUBLISH
X-ORIGINAL-URL:https://c3sc.org.uk
X-WR-CALDESC:Events for C3SC - Cardiff Third Sector Council
REFRESH-INTERVAL;VALUE=DURATION:PT1H
X-Robots-Tag:noindex
X-PUBLISHED-TTL:PT1H
BEGIN:VTIMEZONE
TZID:Europe/London
BEGIN:DAYLIGHT
TZOFFSETFROM:+0000
TZOFFSETTO:+0100
TZNAME:BST
DTSTART:20150329T010000
END:DAYLIGHT
BEGIN:STANDARD
TZOFFSETFROM:+0100
TZOFFSETTO:+0000
TZNAME:GMT
DTSTART:20151025T010000
END:STANDARD
BEGIN:DAYLIGHT
TZOFFSETFROM:+0000
TZOFFSETTO:+0100
TZNAME:BST
DTSTART:20160327T010000
END:DAYLIGHT
BEGIN:STANDARD
TZOFFSETFROM:+0100
TZOFFSETTO:+0000
TZNAME:GMT
DTSTART:20161030T010000
END:STANDARD
BEGIN:DAYLIGHT
TZOFFSETFROM:+0000
TZOFFSETTO:+0100
TZNAME:BST
DTSTART:20170326T010000
END:DAYLIGHT
BEGIN:STANDARD
TZOFFSETFROM:+0100
TZOFFSETTO:+0000
TZNAME:GMT
DTSTART:20171029T010000
END:STANDARD
END:VTIMEZONE
BEGIN:VEVENT
DTSTART;VALUE=DATE:20160120
DTEND;VALUE=DATE:20160121
DTSTAMP:20260425T030522
CREATED:20160105T161749Z
LAST-MODIFIED:20160105T161749Z
UID:48072-1453248000-1453334399@c3sc.org.uk
SUMMARY:Procurement and the Welsh Language - contracts and grants
DESCRIPTION:  \nAt the end of September 2015 the Welsh Language Commissioner gave notice to 26 organizations of the new Welsh Language Standards they are required to operate\, and indicating what they will be expected to do and deliver in Welsh in accordance with The Welsh Language Measure (Wales) 2011. Various other bodies will receive similar notice in 2016 and 2017 to implement Standards \nProcurement is a key area for enabling all organisations to respond effectively to the challenge of the new Standards\, and appropriate and effective arrangements will need to be established in relation to contracts and grants. \nThe aim of this training is to clarify the main implications of the Standards with regard  to contracts and grants\, and to share information on good practice in these areas. \nThe training is intended for officers in public sector and third sector organisations who are involved in managing\, letting and monitoring contracts and grant allocations. \nSession to be conducted through the medium of English. \nFind out more on the Iaith Cymru website.
URL:https://c3sc.org.uk/event-single/procurement-and-the-welsh-language-contracts-and-grants/
LOCATION:Carmarthen\, Carmarthen
CATEGORIES:Training
END:VEVENT
BEGIN:VEVENT
DTSTART;TZID=Europe/London:20160120T090000
DTEND;TZID=Europe/London:20160120T130000
DTSTAMP:20260425T030522
CREATED:20151214T161902Z
LAST-MODIFIED:20151214T161902Z
UID:48049-1453280400-1453294800@c3sc.org.uk
SUMMARY:Free seminar - Dare to share: Sharing Personal Data to Better Serve Citizens and Communities
DESCRIPTION:Wales Audit Office is holding a free seminar with the Welsh Government\, the Effective Services for Vulnerable Groups Board and Wales Council for Voluntary Action to share good practice\, highlight examples where organisations have ‘dared to share’ and address some of the myths that still surround the sharing of personal data. \nThis seminar will provide delegates with: \n\nAn understanding of how organisations share data and apply it to their work\nOrganisation wide sustainable solutions for how they share and manage personal data in accordance with the Wales Accord on the Sharing of Personal Information (WASPI).\nAn opportunity to bust many of the myths that surround data sharing\n\nFind out more.
URL:https://c3sc.org.uk/event-single/free-seminar-dare-to-share-sharing-personal-data-to-better-serve-citizens-and-communities/
LOCATION:SWALEC Stadium\, Cardiff CF11 9XR\, SWALEC Stadium\, Cardiff CF11 9XR
CATEGORIES:Training
END:VEVENT
BEGIN:VEVENT
DTSTART;TZID=Europe/London:20160120T091500
DTEND;TZID=Europe/London:20160120T160000
DTSTAMP:20260425T030522
CREATED:20160114T115253Z
LAST-MODIFIED:20160114T115253Z
UID:48097-1453281300-1453305600@c3sc.org.uk
SUMMARY:‘Learning to Talk - Talking to Learn’: supporting young children in the preschool setting
DESCRIPTION:1 Day Course for Health & Childcare workers on Speech\, Language & Communication Skills Development in the Early Years \nAn active and practical\, one day course for all health and childcare workers. Equipping you with the knowledge\, skills and tools to build Language and Communication in your Early Years setting. Enabling you to give all children the best possible start. \nWho’s it for? \n• All adults working with young children in early years settings• Anyone with a SENCO role responsible for managing support for children with additional needs• Managers keen to expand their knowledge\, and support their staff in the area of speech\, language & communication skills development \n  \nWhat you’ll learn \n\nAcquire core strategies for developing interaction & language skills for all children in your setting\nDevelop your confidence and knowledge of speech\, language and communication development in children aged 0-5\nDiscover the normal stages of speech and language development\nIdentify when to be concerned about a child\nLearn how to describe their difficulties and how to make a referral to the Speech & Language Therapy Service\nDevelop an Action Plan\, to support a specific child you work with\nGain the confidence to discuss a child’s difficulties with their parents/carers and other professionals\n\nThis Families First course is delivered by Beth Busani\, MRCSLT\, Speech and Language Therapist. \nTo book\, contact Sara Tucker or Allison Brain on (029) 2090 7645.
URL:https://c3sc.org.uk/event-single/learning-to-talk-talking-to-learn-supporting-young-children-in-the-preschool-setting/
LOCATION:: Ely & Caerau Children’s Centre\, Michaelston Road\, Cardiff CF5 4SX\, : Ely & Caerau Children’s Centre\, Michaelston Road\, Cardiff CF5 4SX
CATEGORIES:Training
END:VEVENT
BEGIN:VEVENT
DTSTART;TZID=Europe/London:20160120T094500
DTEND;TZID=Europe/London:20160120T164500
DTSTAMP:20260425T030522
CREATED:20151102T093705Z
LAST-MODIFIED:20151102T093705Z
UID:47950-1453283100-1453308300@c3sc.org.uk
SUMMARY:An Introduction to Leadership
DESCRIPTION:A one-day Children in Wales course \nIt seems there has never been a time when there has been so much emphasis on leadership and the need for highly effective leaders across all sectors and in a wide range of different roles. \nThis one day event is specifically designed for practitioners working in children’s services who may be thinking about taking on a leadership role or who have aspects of leadership in their current role. \nThrough the study of leadership theory and the development of leadership skills\, it is possible to become more attuned to the type of leader you may be or may aspire to be. \nFind out more and book your place.
URL:https://c3sc.org.uk/event-single/an-introduction-to-leadership/
LOCATION:Cardiff\, Cardiff
CATEGORIES:Training
END:VEVENT
BEGIN:VEVENT
DTSTART;TZID=Europe/London:20160120T100000
DTEND;TZID=Europe/London:20160120T173000
DTSTAMP:20260425T030522
CREATED:20151214T140442Z
LAST-MODIFIED:20151214T140442Z
UID:48043-1453284000-1453311000@c3sc.org.uk
SUMMARY:The 2nd Annual Learning Network Conference
DESCRIPTION:The Campaign to End Loneliness\, in partnership with Ageing Well in Wales\, is delighted to announce The 2nd Annual Learning Network Conference is taking place on Wednesday 20th January 2016 at City Hall Cardiff\, Wales. \nLimited earlybird registration is currently available until 21st December and you’re invited to take advantage of this special rate as soon as possible. \nRegister here. \nJoin 150+ other people across the UK who are working to address loneliness in older age to discuss brand new research and good practice\, and learn how to better identify and measure loneliness. The conference is a nationwide meeting that is designed to celebrate the work of our Learning Network\, as well as be an opportunity for members to rejuvenate and reconnect with what else is going on across the UK. \nParticipants will have the opportunity to hear expert keynotes and to participate in interactive workshops. (Notably the conference sessions do not start until 11am to allow delegates plenty of travel time to Cardiff). \nAgenda highlights include: A Keynote Presentation from Professor Vanessa Burholt\, Professor of Gerontology in the College of Human and Health Sciences\, Swansea University An Interactive table-discussion session on “Promising approaches to reducing loneliness and isolation in Wales” with presentations from Let’s End Going Home Alone\, Community Transport Association Wales\, Men’s Sheds Cymru\, Spice Innovations and Gwanwyn Festival. \nWorkshops on:– Promising approaches to addressing loneliness in Europe– Measuring the impact of services on loneliness– Identifying older people experiencing\, or at risk of\, loneliness– Addressing loneliness in rural areas– Social Finance and Social Impact Bonds \nFor more information on our organization\, please visit www.campaigntoendloneliness.org/  View film highlights from our inaugural conference last year at http://www.campaigntoendloneliness.org/learning-network-conference/ 
URL:https://c3sc.org.uk/event-single/the-2nd-annual-learning-network-conference/
LOCATION:City Hall\, Cardiff\, City Hall\, Cardiff
CATEGORIES:Conference
END:VEVENT
BEGIN:VEVENT
DTSTART;TZID=Europe/London:20160120T120000
DTEND;TZID=Europe/London:20160120T235959
DTSTAMP:20260425T030522
CREATED:20160115T162037Z
LAST-MODIFIED:20160115T162037Z
UID:48112-1453291200-1453334399@c3sc.org.uk
SUMMARY:Timeplace Networking Event
DESCRIPTION:ACE and the Timeplace Steering Committee would like to invite you to the next Networking Event: a get-together of the groups and organisations who are involved with Time Credits in the Ely\, Caerau\, Fairwater & Pentrebane area. \nThe agenda for the meeting will be: · Networking with groups · Spend opportunities · A Spring Brochure · Communication · Paperwork and partner thank you \nRefreshments will be provided. For more information\, please contact Taela-mae on (029) 2000 3132 or taelam@elycaerau.com
URL:https://c3sc.org.uk/event-single/timeplace-networking-event/
LOCATION:: Pentrebane Zone Beechley Drive\, Cardiff CF5 3SG\, : Pentrebane Zone Beechley Drive\, Cardiff CF5 3SG
CATEGORIES:Event
END:VEVENT
END:VCALENDAR