BEGIN:VCALENDAR
VERSION:2.0
PRODID:-//C3SC - Cardiff Third Sector Council - ECPv6.15.17//NONSGML v1.0//EN
CALSCALE:GREGORIAN
METHOD:PUBLISH
X-ORIGINAL-URL:https://c3sc.org.uk
X-WR-CALDESC:Events for C3SC - Cardiff Third Sector Council
REFRESH-INTERVAL;VALUE=DURATION:PT1H
X-Robots-Tag:noindex
X-PUBLISHED-TTL:PT1H
BEGIN:VTIMEZONE
TZID:Europe/London
BEGIN:DAYLIGHT
TZOFFSETFROM:+0000
TZOFFSETTO:+0100
TZNAME:BST
DTSTART:20150329T010000
END:DAYLIGHT
BEGIN:STANDARD
TZOFFSETFROM:+0100
TZOFFSETTO:+0000
TZNAME:GMT
DTSTART:20151025T010000
END:STANDARD
BEGIN:DAYLIGHT
TZOFFSETFROM:+0000
TZOFFSETTO:+0100
TZNAME:BST
DTSTART:20160327T010000
END:DAYLIGHT
BEGIN:STANDARD
TZOFFSETFROM:+0100
TZOFFSETTO:+0000
TZNAME:GMT
DTSTART:20161030T010000
END:STANDARD
BEGIN:DAYLIGHT
TZOFFSETFROM:+0000
TZOFFSETTO:+0100
TZNAME:BST
DTSTART:20170326T010000
END:DAYLIGHT
BEGIN:STANDARD
TZOFFSETFROM:+0100
TZOFFSETTO:+0000
TZNAME:GMT
DTSTART:20171029T010000
END:STANDARD
END:VTIMEZONE
BEGIN:VEVENT
DTSTART;TZID=Europe/London:20160114T080000
DTEND;TZID=Europe/London:20160114T100000
DTSTAMP:20260425T030549
CREATED:20151214T115207Z
LAST-MODIFIED:20151214T115207Z
UID:48042-1452758400-1452765600@c3sc.org.uk
SUMMARY:Introducing the BBC - a breakfast event for WCVA Members
DESCRIPTION:BBC Cymru Wales has extended an invitation to WCVA members to visit the BBC in January 2016 for an introductory breakfast and tour of their broadcast centres in Cardiff and Bangor. It will be an opportunity to find out more about BBC Wales and how they make programmes for radio and television and also digital online content.   Programme makers from BBC Wales’ English and Welsh language radio stations and BBC News journalists will also offer advice about the best way to contact them and what sort of stories they are looking for.   The dates are: \n\nCardiff\, Thursday 14th January 8.00am to 10.00am BBC Cymru Wales\, Broadcasting House\, Llandaff\, CF5 2YQ.  \nBangor\, Friday 15th January 8.00am to 10.00am BBC Cymru Wales\, Bryn Meirion\, Bangor\, LL57 2BY\n\n  To book your free place please contact eventsadmin@wcva.org.uk. Please note spaces are restricted to one per organisation due to limited availability.
URL:https://c3sc.org.uk/event-single/introducing-the-bbc-a-breakfast-event-for-wcva-members/
CATEGORIES:Event
END:VEVENT
BEGIN:VEVENT
DTSTART;TZID=Europe/London:20160114T100000
DTEND;TZID=Europe/London:20160114T160000
DTSTAMP:20260425T030549
CREATED:20150325T152047Z
LAST-MODIFIED:20200701T064909Z
UID:47453-1452765600-1452787200@c3sc.org.uk
SUMMARY:C3SC Training: Making Assets Work
DESCRIPTION:We regret that this course has been cancelled. Please visit www.c3sc.org.uk/training-events/c3sc-training for details of our other training courses. \n\nUnderstand the advantages and disadvantages of asset-based development\nDecide if asset-based development is an option\nAppreciate the skills required to develop\, manage and ensure the long-term sustainability of such ventures\nExplore sources of funding and finance for assets\n\nBook online
URL:https://c3sc.org.uk/event-single/c3sc-training-making-assets-work/
LOCATION:C3SC’s offices\, Brunel House\, 2 Fitzalan Road\, Cardiff CF24 0EB\, C3SC's offices\, Brunel House\, 2 Fitzalan Road\, Cardiff CF24 0EB
CATEGORIES:Training
END:VEVENT
BEGIN:VEVENT
DTSTART;TZID=Europe/London:20160114T100000
DTEND;TZID=Europe/London:20160114T160000
DTSTAMP:20260425T030549
CREATED:20151028T160039Z
LAST-MODIFIED:20151028T160039Z
UID:47937-1452765600-1452787200@c3sc.org.uk
SUMMARY:RNIB Cymru Sight Loss Awareness Training
DESCRIPTION:There are currently 106\,000 people in Wales living with sight loss but that number is set to double over the next 25 years. \nThis RNIB Cymru workshop will equip you with the skills\, knowledge and confidence to ensure you can meet the challenges of this growing population. \nThis workshop will: \n\nGive you a greater understanding of the issues and challenges faced by people with sight loss\nGive you an overview of common sight loss conditions\nHelp you to provide appropriate support for people with sight loss\nHelp you to communicate appropriately with people sight loss\nHelp you to promote the independence\, safety and wellbeing of people with sight loss\nExplore what support is available to people with sight loss\nExplain your legal obligations under the Equality Act 2010.\n\nCost: £95+VAT \nFor more information about course availability\, email david.watkins@rnib.org.uk or telephone 01792 325309.
URL:https://c3sc.org.uk/event-single/rnib-cymru-sight-loss-awareness-training-2/
LOCATION:RNIB Cymru\, Jones Court\, Womanby Street\, Cardiff CF10 1BR\, RNIB Cymru\, Jones Court\, Womanby Street\, Cardiff CF10 1BR
CATEGORIES:Training
END:VEVENT
END:VCALENDAR