BEGIN:VCALENDAR
VERSION:2.0
PRODID:-//C3SC - Cardiff Third Sector Council - ECPv6.15.17//NONSGML v1.0//EN
CALSCALE:GREGORIAN
METHOD:PUBLISH
X-WR-CALNAME:C3SC - Cardiff Third Sector Council
X-ORIGINAL-URL:https://c3sc.org.uk
X-WR-CALDESC:Events for C3SC - Cardiff Third Sector Council
REFRESH-INTERVAL;VALUE=DURATION:PT1H
X-Robots-Tag:noindex
X-PUBLISHED-TTL:PT1H
BEGIN:VTIMEZONE
TZID:Europe/London
BEGIN:DAYLIGHT
TZOFFSETFROM:+0000
TZOFFSETTO:+0100
TZNAME:BST
DTSTART:20140330T010000
END:DAYLIGHT
BEGIN:STANDARD
TZOFFSETFROM:+0100
TZOFFSETTO:+0000
TZNAME:GMT
DTSTART:20141026T010000
END:STANDARD
BEGIN:DAYLIGHT
TZOFFSETFROM:+0000
TZOFFSETTO:+0100
TZNAME:BST
DTSTART:20150329T010000
END:DAYLIGHT
BEGIN:STANDARD
TZOFFSETFROM:+0100
TZOFFSETTO:+0000
TZNAME:GMT
DTSTART:20151025T010000
END:STANDARD
BEGIN:DAYLIGHT
TZOFFSETFROM:+0000
TZOFFSETTO:+0100
TZNAME:BST
DTSTART:20160327T010000
END:DAYLIGHT
BEGIN:STANDARD
TZOFFSETFROM:+0100
TZOFFSETTO:+0000
TZNAME:GMT
DTSTART:20161030T010000
END:STANDARD
END:VTIMEZONE
BEGIN:VEVENT
DTSTART;TZID=Europe/London:20151221T013000
DTEND;TZID=Europe/London:20151221T150000
DTSTAMP:20260425T043428
CREATED:20151218T083529Z
LAST-MODIFIED:20151218T083529Z
UID:48058-1450661400-1450710000@c3sc.org.uk
SUMMARY:Life story sessions for people living with dementia
DESCRIPTION:Life Story sessions are aimed at people living with dementia working together with their partner\, friend or family member to create their ‘life story.’ During the Alzheimer’s Society session\, the person with dementia will have the opportunity to explore their life and record their memories in whatever format they choose. \nThere is a group fortnightly on a Monday afternoon in Cardiff. There is no cost associated with this group\, however it is up to individuals to provide their own resources e.g. books\, albums\, boxes\, etc. \nMany people have told us that ‘Life Stories’ sounds interesting but have admitted that they are not exactly sure what to expect from the group. Therefore two members of the current life stories group have very kindly agreed to answer some questions about their experience and share their thoughts with us. Their interview can be found in the newsletter. \nIf you would like to find out more about the group and are unable to go along on December 21st\, please contact Karen Edwards at the Alzheimer’s Society on (029) 2043 4964 or email Karen.edwards@alzheimers.org.uk
URL:https://c3sc.org.uk/event-single/life-story-sessions-for-people-living-with-dementia/
LOCATION:RNIB\, Jones Court\, Womanby Street\, Cardiff CF10 1BR\, RNIB\, Jones Court\, Womanby Street\, Cardiff CF10 1BR
CATEGORIES:Event
END:VEVENT
END:VCALENDAR