BEGIN:VCALENDAR
VERSION:2.0
PRODID:-//C3SC - Cardiff Third Sector Council - ECPv6.15.17//NONSGML v1.0//EN
CALSCALE:GREGORIAN
METHOD:PUBLISH
X-ORIGINAL-URL:https://c3sc.org.uk
X-WR-CALDESC:Events for C3SC - Cardiff Third Sector Council
REFRESH-INTERVAL;VALUE=DURATION:PT1H
X-Robots-Tag:noindex
X-PUBLISHED-TTL:PT1H
BEGIN:VTIMEZONE
TZID:Europe/London
BEGIN:DAYLIGHT
TZOFFSETFROM:+0000
TZOFFSETTO:+0100
TZNAME:BST
DTSTART:20140330T010000
END:DAYLIGHT
BEGIN:STANDARD
TZOFFSETFROM:+0100
TZOFFSETTO:+0000
TZNAME:GMT
DTSTART:20141026T010000
END:STANDARD
BEGIN:DAYLIGHT
TZOFFSETFROM:+0000
TZOFFSETTO:+0100
TZNAME:BST
DTSTART:20150329T010000
END:DAYLIGHT
BEGIN:STANDARD
TZOFFSETFROM:+0100
TZOFFSETTO:+0000
TZNAME:GMT
DTSTART:20151025T010000
END:STANDARD
BEGIN:DAYLIGHT
TZOFFSETFROM:+0000
TZOFFSETTO:+0100
TZNAME:BST
DTSTART:20160327T010000
END:DAYLIGHT
BEGIN:STANDARD
TZOFFSETFROM:+0100
TZOFFSETTO:+0000
TZNAME:GMT
DTSTART:20161030T010000
END:STANDARD
END:VTIMEZONE
BEGIN:VEVENT
DTSTART;TZID=Europe/London:20151215T083000
DTEND;TZID=Europe/London:20151215T093000
DTSTAMP:20260425T042706
CREATED:20151203T153803Z
LAST-MODIFIED:20151203T153803Z
UID:48031-1450168200-1450171800@c3sc.org.uk
SUMMARY:Breakfast Seminar: “The Draft Wales Bill - what does it mean for you?”
DESCRIPTION:Organised by the Wales Governance Centre at Cardiff University and Public Affairs Cymru\nAn event sponsored by David Melding AM\nThis seminar will provide a summary of the main points included in the Draft Wales Bill\, as well as give an overview of the important issues and concerns that have been raised during pre-legislative scrutiny. \nConfirmed speakers include devolution legal experts Professor Rick Rawlings (University College London) and Professor Thomas Watkin\, with others to be confirmed. \nThere will also be an opportunity for questions and answers. \nBreakfast will be provided. \nBook online
URL:https://c3sc.org.uk/event-single/breakfast-seminar-the-draft-wales-bill-what-does-it-mean-for-you/
LOCATION:Pierhead Building\, Cardiff Bay CF10 4PZ\, Pierhead Building\, Cardiff Bay CF10 4PZ 
CATEGORIES:Event
END:VEVENT
BEGIN:VEVENT
DTSTART;TZID=Europe/London:20151215T100000
DTEND;TZID=Europe/London:20151215T160000
DTSTAMP:20260425T042706
CREATED:20150407T101654Z
LAST-MODIFIED:20150407T101654Z
UID:47488-1450173600-1450195200@c3sc.org.uk
SUMMARY:C3SC training: Demystifying Commissioning
DESCRIPTION:We regret that this training course has been postponed. New date to be announced soon. \nBy attending this course you will be able to: \n\nUnderstand the commissioning process for social care services\nAssess the areas where third sector providers can be involved\nUnderstand tendering\, and how it fits within the commissioning cycle\n\nBook online
URL:https://c3sc.org.uk/event-single/c3sc-training-demystifying-commissioning-2/
LOCATION:C3SC’s offices\, Brunel House\, 2 Fitzalan Road\, Cardiff CF24 0EB\, C3SC's offices\, Brunel House\, 2 Fitzalan Road\, Cardiff CF24 0EB
CATEGORIES:Training
END:VEVENT
END:VCALENDAR