BEGIN:VCALENDAR
VERSION:2.0
PRODID:-//C3SC - Cardiff Third Sector Council - ECPv6.15.17//NONSGML v1.0//EN
CALSCALE:GREGORIAN
METHOD:PUBLISH
X-ORIGINAL-URL:https://c3sc.org.uk
X-WR-CALDESC:Events for C3SC - Cardiff Third Sector Council
REFRESH-INTERVAL;VALUE=DURATION:PT1H
X-Robots-Tag:noindex
X-PUBLISHED-TTL:PT1H
BEGIN:VTIMEZONE
TZID:Europe/London
BEGIN:DAYLIGHT
TZOFFSETFROM:+0000
TZOFFSETTO:+0100
TZNAME:BST
DTSTART:20140330T010000
END:DAYLIGHT
BEGIN:STANDARD
TZOFFSETFROM:+0100
TZOFFSETTO:+0000
TZNAME:GMT
DTSTART:20141026T010000
END:STANDARD
BEGIN:DAYLIGHT
TZOFFSETFROM:+0000
TZOFFSETTO:+0100
TZNAME:BST
DTSTART:20150329T010000
END:DAYLIGHT
BEGIN:STANDARD
TZOFFSETFROM:+0100
TZOFFSETTO:+0000
TZNAME:GMT
DTSTART:20151025T010000
END:STANDARD
BEGIN:DAYLIGHT
TZOFFSETFROM:+0000
TZOFFSETTO:+0100
TZNAME:BST
DTSTART:20160327T010000
END:DAYLIGHT
BEGIN:STANDARD
TZOFFSETFROM:+0100
TZOFFSETTO:+0000
TZNAME:GMT
DTSTART:20161030T010000
END:STANDARD
END:VTIMEZONE
BEGIN:VEVENT
DTSTART;VALUE=DATE:20151211
DTEND;VALUE=DATE:20151212
DTSTAMP:20260425T042749
CREATED:20150824T133222Z
LAST-MODIFIED:20150824T133222Z
UID:47776-1449792000-1449878399@c3sc.org.uk
SUMMARY:'Where are we now?' Learning Disability Wales Conference
DESCRIPTION:This Learning Disability Wales Conference will take stock of developments in the law and practice in Wales concerning the rights of disabled people and their families\, with particular focus on \n\nsocial care\nhealth\ncarers\nspecial education rights\nhow to remedy failures by public bodies.\n\nThe conference brings together many leading disability law and policy practitioners and commentators\, whose work has shaped the law and practice in this field. \nFind out more and book via the Learning Disability Wales website.
URL:https://c3sc.org.uk/event-single/where-are-we-now-learning-disability-wales-conference/
LOCATION:Cardiff Bay\, Cardiff Bay
CATEGORIES:Training
END:VEVENT
END:VCALENDAR