BEGIN:VCALENDAR
VERSION:2.0
PRODID:-//C3SC - Cardiff Third Sector Council - ECPv6.15.17//NONSGML v1.0//EN
CALSCALE:GREGORIAN
METHOD:PUBLISH
X-WR-CALNAME:C3SC - Cardiff Third Sector Council
X-ORIGINAL-URL:https://c3sc.org.uk
X-WR-CALDESC:Events for C3SC - Cardiff Third Sector Council
REFRESH-INTERVAL;VALUE=DURATION:PT1H
X-Robots-Tag:noindex
X-PUBLISHED-TTL:PT1H
BEGIN:VTIMEZONE
TZID:Europe/London
BEGIN:DAYLIGHT
TZOFFSETFROM:+0000
TZOFFSETTO:+0100
TZNAME:BST
DTSTART:20140330T010000
END:DAYLIGHT
BEGIN:STANDARD
TZOFFSETFROM:+0100
TZOFFSETTO:+0000
TZNAME:GMT
DTSTART:20141026T010000
END:STANDARD
BEGIN:DAYLIGHT
TZOFFSETFROM:+0000
TZOFFSETTO:+0100
TZNAME:BST
DTSTART:20150329T010000
END:DAYLIGHT
BEGIN:STANDARD
TZOFFSETFROM:+0100
TZOFFSETTO:+0000
TZNAME:GMT
DTSTART:20151025T010000
END:STANDARD
BEGIN:DAYLIGHT
TZOFFSETFROM:+0000
TZOFFSETTO:+0100
TZNAME:BST
DTSTART:20160327T010000
END:DAYLIGHT
BEGIN:STANDARD
TZOFFSETFROM:+0100
TZOFFSETTO:+0000
TZNAME:GMT
DTSTART:20161030T010000
END:STANDARD
END:VTIMEZONE
BEGIN:VEVENT
DTSTART;VALUE=DATE:20151210
DTEND;VALUE=DATE:20151211
DTSTAMP:20260425T043335
CREATED:20150730T135045Z
LAST-MODIFIED:20150730T135045Z
UID:47708-1449705600-1449791999@c3sc.org.uk
SUMMARY:The future for regulation and inspection of social services in Wales - implementation and the impact of legislation
DESCRIPTION:Policy Forum for Wales Keynote Seminar\nGerry Evans\, Director of Regulation and Professional Standards\, Care Council for Wales; David Francis\, Assistant Chief Inspector\, CSSIW and Professor Sally Holland\, Children’s Commissioner for Wales \nand \nNick Andrews\, Swansea University; Julie Burton\, Julie Burton Law and Law Society; Bernard Dacey\, Partnership and Integrated Practice Centre (PIPC) and University of South Wales; Ruth Marks\, Wales Council for Voluntary Action; Robin Moulster\, BASW Cymru; Rosemarie Pardington\, Leonard Cheshire Disability; Yvonne Rogers\, Barnardo’s Cymru and Anne Thomas\, Linc Cymru \nChaired by: \nJulie Morgan AM\, Chair\, Cross Party Group on Children\, National Assembly for Wales \nThis event is CPD certified \nFind out more on the Policy Forum for Wales
URL:https://c3sc.org.uk/event-single/the-future-for-regulation-and-inspection-of-social-services-in-wales-implementation-and-the-impact-of-legislation/
LOCATION:Central Cardiff\, Central Cardiff
CATEGORIES:Training
END:VEVENT
END:VCALENDAR