BEGIN:VCALENDAR
VERSION:2.0
PRODID:-//C3SC - Cardiff Third Sector Council - ECPv6.15.17//NONSGML v1.0//EN
CALSCALE:GREGORIAN
METHOD:PUBLISH
X-ORIGINAL-URL:https://c3sc.org.uk
X-WR-CALDESC:Events for C3SC - Cardiff Third Sector Council
REFRESH-INTERVAL;VALUE=DURATION:PT1H
X-Robots-Tag:noindex
X-PUBLISHED-TTL:PT1H
BEGIN:VTIMEZONE
TZID:Europe/London
BEGIN:DAYLIGHT
TZOFFSETFROM:+0000
TZOFFSETTO:+0100
TZNAME:BST
DTSTART:20140330T010000
END:DAYLIGHT
BEGIN:STANDARD
TZOFFSETFROM:+0100
TZOFFSETTO:+0000
TZNAME:GMT
DTSTART:20141026T010000
END:STANDARD
BEGIN:DAYLIGHT
TZOFFSETFROM:+0000
TZOFFSETTO:+0100
TZNAME:BST
DTSTART:20150329T010000
END:DAYLIGHT
BEGIN:STANDARD
TZOFFSETFROM:+0100
TZOFFSETTO:+0000
TZNAME:GMT
DTSTART:20151025T010000
END:STANDARD
BEGIN:DAYLIGHT
TZOFFSETFROM:+0000
TZOFFSETTO:+0100
TZNAME:BST
DTSTART:20160327T010000
END:DAYLIGHT
BEGIN:STANDARD
TZOFFSETFROM:+0100
TZOFFSETTO:+0000
TZNAME:GMT
DTSTART:20161030T010000
END:STANDARD
END:VTIMEZONE
BEGIN:VEVENT
DTSTART;VALUE=DATE:20151207
DTEND;VALUE=DATE:20151209
DTSTAMP:20260425T043538
CREATED:20151109T163909Z
LAST-MODIFIED:20151109T163909Z
UID:47982-1449446400-1449619199@c3sc.org.uk
SUMMARY:'Keeping our Children Safe' - Designated Person Child Protection
DESCRIPTION:  \nA two-day Children in Wales course \nAll children have the right to live lives free from abuse and neglect but recent events highlight\, yet again\, how difficult it can be for so many adults to recognise\, and act on concerns about the safety or welfare of a child. The UN Convention on the Rights of the Child states that all organisations concerned with children should work towards what’s best for each child. The Designated Person for Child Protection has a vital role within organisations helping to ensure that adequate safeguards are in place and that necessary action is taken when concerns about a child are raised. This course is aimed at people acting in the ‘Designated Person’ role working in a variety of organisations including schools\, children’s daycare and residential settings\, also services providing support to children and families in the voluntary and private sector. \nThis two day training course will consider: \n\nThe role of the Designated Person and how this can be incorporated into your organisation\nLegislation and guidance on safeguarding children and young people\, particularly within the Welsh context\nEssential safeguarding measures that need to be in place\nThe ‘abuse of trust’ and how to remain alert to potential sexual offences within the organisation\nAssessing concerns about a child and making a referral to social services if necessary\nThe statutory child protection system and what may be expected of you\nConfidentiality and good record keeping\nDiversity and the additional vulnerabilities for some children\n\nBook via the Children in Wales website.
URL:https://c3sc.org.uk/event-single/keeping-our-children-safe-designated-person-child-protection/
LOCATION:Cardiff\, Cardiff
CATEGORIES:Training
END:VEVENT
BEGIN:VEVENT
DTSTART;TZID=Europe/London:20151208T100000
DTEND;TZID=Europe/London:20151208T123000
DTSTAMP:20260425T043538
CREATED:20151028T143533Z
LAST-MODIFIED:20151028T143533Z
UID:47929-1449568800-1449577800@c3sc.org.uk
SUMMARY:Workshop: Setting up a network
DESCRIPTION:Aims: this workshop explores how to establish a successful network\, with practical ideas\, tips and participatory methods for setting up a new network\, and for refreshing and re-focusing an existing network. \nContent: They say that the whole is greater than the sum of its parts… we know things should work better when we work together. The seminar will be practical and participative. Participants are invited to bring along a project they are working on at the moment\, or ideas for future projects\, so that they can apply their learning to a practical piece of work. \nThere will be tips for successful partnership working\, agreeing your shared purpose\, aims and objectives and writing terms of reference. \nWho this course is for? Practitioners within the third and public sectors who have a responsibility for engaging with the stakeholders\, service users and the public. \nBook via the Participation Cymru website.
URL:https://c3sc.org.uk/event-single/workshop-setting-up-a-network/
LOCATION:Interlink RCT\, 6 Melin Corrwg\, Cardiff Rd\, Pontypridd CF37 5BE\, Interlink RCT\, 6 Melin Corrwg\, Cardiff Rd\, Pontypridd CF37 5BE
CATEGORIES:Training
END:VEVENT
END:VCALENDAR