BEGIN:VCALENDAR
VERSION:2.0
PRODID:-//C3SC - Cardiff Third Sector Council - ECPv6.15.17//NONSGML v1.0//EN
CALSCALE:GREGORIAN
METHOD:PUBLISH
X-ORIGINAL-URL:https://c3sc.org.uk
X-WR-CALDESC:Events for C3SC - Cardiff Third Sector Council
REFRESH-INTERVAL;VALUE=DURATION:PT1H
X-Robots-Tag:noindex
X-PUBLISHED-TTL:PT1H
BEGIN:VTIMEZONE
TZID:Europe/London
BEGIN:DAYLIGHT
TZOFFSETFROM:+0000
TZOFFSETTO:+0100
TZNAME:BST
DTSTART:20130331T010000
END:DAYLIGHT
BEGIN:STANDARD
TZOFFSETFROM:+0100
TZOFFSETTO:+0000
TZNAME:GMT
DTSTART:20131027T010000
END:STANDARD
BEGIN:DAYLIGHT
TZOFFSETFROM:+0000
TZOFFSETTO:+0100
TZNAME:BST
DTSTART:20140330T010000
END:DAYLIGHT
BEGIN:STANDARD
TZOFFSETFROM:+0100
TZOFFSETTO:+0000
TZNAME:GMT
DTSTART:20141026T010000
END:STANDARD
BEGIN:DAYLIGHT
TZOFFSETFROM:+0000
TZOFFSETTO:+0100
TZNAME:BST
DTSTART:20150329T010000
END:DAYLIGHT
BEGIN:STANDARD
TZOFFSETFROM:+0100
TZOFFSETTO:+0000
TZNAME:GMT
DTSTART:20151025T010000
END:STANDARD
END:VTIMEZONE
BEGIN:VEVENT
DTSTART;VALUE=DATE:20140130
DTEND;VALUE=DATE:20140131
DTSTAMP:20260424T072201
CREATED:20140130T000000Z
LAST-MODIFIED:20140130T000000Z
UID:46330-1391040000-1391126399@c3sc.org.uk
SUMMARY:International Treatment Effectiveness Project Training
DESCRIPTION:International Treatment Effectiveness Project (ITEP) is a mechanism by which quality of drug treatment can be developed and measured in order to improve delivery of treatment services. It uses mind maps as a visual cognitive tool to help clients organise their thoughts and goals easily\, by focusing on images and association. \nThis NewLink Wales training course focuses on the two approaches that are designed to be delivered by key workers as part of their client work sessions. This model of psychosocial interventions provides evidence based and easily evaluated tools for use by key workers across the drug treatment system and throughout the health and social care sector.  \nVoluntary Sector Workers £125.00 Statutory Sector Workers – £135.00 \n This includes facilitation\, handouts\, refreshments and a buffet lunch \nBy the end of the course  you will have: \n – Identify what International Treatment Effectiveness Project (ITEP) is and what it involves. – Explain the use of free mapping and structured mapping for personal use\, service user work and supervision settings. – Examine the use of mind maps\, ways of thinking and cycles in motivation\, bringing about change and the development of care plans. – Select the appropriate maps to practice use to maximise confidence and adapt to current and future working roles.
URL:https://c3sc.org.uk/event-single/international-treatment-effectiveness-project-training-2/
LOCATION:NewLink Wales\, Meridian Court\, North Road\, Cardiff CF14 3BE\, NewLink Wales\, Meridian Court\, North Road\, Cardiff CF14 3BE
CATEGORIES:Training
END:VEVENT
BEGIN:VEVENT
DTSTART;TZID=Europe/London:20140130T093000
DTEND;TZID=Europe/London:20140130T123000
DTSTAMP:20260424T072201
CREATED:20140130T093000Z
LAST-MODIFIED:20140130T093000Z
UID:46331-1391074200-1391085000@c3sc.org.uk
SUMMARY:Mental Health Awareness
DESCRIPTION:A Diverse Cymru half-day course \nAims \n – To provide a basic introduction to mental health and distress – To improve understanding and knowledge of mental health and distress – To reduce stigma and discrimination Learning outcomes By the end the session participants will have increased understanding of: – The basics of mental distress\, common signs and symptoms and causes – Good mental health and what supports mental health – The impact of stigma and diagnosis – What helps people with recovery (including treatments) \nCost: £55 per person     \nFind out more at http://www.diversecymrutraining.org.uk/mental-health-awareness/
URL:https://c3sc.org.uk/event-single/mental-health-awareness-3/
LOCATION:Lysaght Institute\, Orb Drive off Corporation Road\, Newport NP19 0RA\, Lysaght Institute\, Orb Drive off Corporation Road\, Newport NP19 0RA
CATEGORIES:Training
END:VEVENT
BEGIN:VEVENT
DTSTART;TZID=Europe/London:20140130T100000
DTEND;TZID=Europe/London:20140130T140000
DTSTAMP:20260424T072201
CREATED:20140130T100000Z
LAST-MODIFIED:20140130T100000Z
UID:46334-1391076000-1391090400@c3sc.org.uk
SUMMARY:Cardiff Volunteer Co-ordinators' Network event
DESCRIPTION:This Cardiff Volunteer Co-ordinators’ Network event will discuss Cardiff’s bid to become a City of Sanctuary. More information on the movement can be found at www.cityofsanctuary.org  C3SC will also run a training session which discusses the recent changes to the Disclosure and Barring Service. The event starts at 10am and will conclude with a networking light lunch provided by the volunteers from Oasis Cardiff. \nYou can download the agenda here.
URL:https://c3sc.org.uk/event-single/cardiff-volunteer-co-ordinators-network-event-2/
LOCATION:Oasis Cardiff\, Splott Methodist Church\, Splott\, Cardiff CF24 2JX\, Oasis Cardiff\, Splott Methodist Church\, Splott\, Cardiff CF24 2JX
CATEGORIES:Event
END:VEVENT
BEGIN:VEVENT
DTSTART;TZID=Europe/London:20140130T100000
DTEND;TZID=Europe/London:20140130T160000
DTSTAMP:20260424T072201
CREATED:20140130T100000Z
LAST-MODIFIED:20140130T100000Z
UID:46335-1391076000-1391097600@c3sc.org.uk
SUMMARY:C3SC training: Running a Community Building
DESCRIPTION:This course looks at the essentials of running a community building. Exploring the responsibilities and legal requirements needed for the safe and profitable use of the building\, it also considers how best to bring in your local community to make the optimum use of the building. \nBy the end of the session you will: \n•        Have an understanding of the key tasks involved in running a successful community building \n•        Know the legal responsibilities of running a building\, including insurance\, and health and safety \n•        Understand the essential costs involved in running a building and how they might be met \n•        Gain an understanding of how to manage tenants and users\, and avoid conflict \nIdeal for: those agencies who run or are considering running a community building. \nRegistration: 9.45am
URL:https://c3sc.org.uk/event-single/c3sc-training-running-a-community-building/
LOCATION:C3SC Offices\, Brunel House\, Cardiff\, C3SC Offices\, Brunel House\, Cardiff
CATEGORIES:Training
END:VEVENT
END:VCALENDAR