BEGIN:VCALENDAR
VERSION:2.0
PRODID:-//C3SC - Cardiff Third Sector Council - ECPv6.15.17//NONSGML v1.0//EN
CALSCALE:GREGORIAN
METHOD:PUBLISH
X-ORIGINAL-URL:https://c3sc.org.uk
X-WR-CALDESC:Events for C3SC - Cardiff Third Sector Council
REFRESH-INTERVAL;VALUE=DURATION:PT1H
X-Robots-Tag:noindex
X-PUBLISHED-TTL:PT1H
BEGIN:VTIMEZONE
TZID:Europe/London
BEGIN:DAYLIGHT
TZOFFSETFROM:+0000
TZOFFSETTO:+0100
TZNAME:BST
DTSTART:20130331T010000
END:DAYLIGHT
BEGIN:STANDARD
TZOFFSETFROM:+0100
TZOFFSETTO:+0000
TZNAME:GMT
DTSTART:20131027T010000
END:STANDARD
BEGIN:DAYLIGHT
TZOFFSETFROM:+0000
TZOFFSETTO:+0100
TZNAME:BST
DTSTART:20140330T010000
END:DAYLIGHT
BEGIN:STANDARD
TZOFFSETFROM:+0100
TZOFFSETTO:+0000
TZNAME:GMT
DTSTART:20141026T010000
END:STANDARD
BEGIN:DAYLIGHT
TZOFFSETFROM:+0000
TZOFFSETTO:+0100
TZNAME:BST
DTSTART:20150329T010000
END:DAYLIGHT
BEGIN:STANDARD
TZOFFSETFROM:+0100
TZOFFSETTO:+0000
TZNAME:GMT
DTSTART:20151025T010000
END:STANDARD
END:VTIMEZONE
BEGIN:VEVENT
DTSTART;VALUE=DATE:20140129
DTEND;VALUE=DATE:20140130
DTSTAMP:20260424T084324
CREATED:20140129T000000Z
LAST-MODIFIED:20140129T000000Z
UID:46323-1390953600-1391039999@c3sc.org.uk
SUMMARY:Positive Ways of Changing Behaviour
DESCRIPTION:A one-day Learning Disability Wales course to help you understand the reasons for what is seen as difficult or challenging behaviours of people with an Autism Spectrum Disorder and how you can work in a positive way to help change these behaviours. \n  \nThis course will help better understand ‘difficult’ or ‘challenging behaviour’ in people with an Autism Spectrum Disorder and positive ways to help change these behaviours. \n  \nPlease click on the links below for flier and booking form. \n  \nFLIER \nBOOKING FORM
URL:https://c3sc.org.uk/event-single/positive-ways-of-changing-behaviour/
LOCATION:Cardiff\, Cardiff
CATEGORIES:Training
END:VEVENT
BEGIN:VEVENT
DTSTART;TZID=Europe/London:20140129T093000
DTEND;TZID=Europe/London:20140129T123000
DTSTAMP:20260424T084325
CREATED:20140129T093000Z
LAST-MODIFIED:20140129T093000Z
UID:46325-1390987800-1390998600@c3sc.org.uk
SUMMARY:Transgender Awareness
DESCRIPTION:A Diverse Cymru half-day workshop \nThe aim of this workshop is to increase awareness of issues faced by Transgender people and reduce any fear or concerns when engaging with a person who is going through or has gone through transition to their correct gender. \nCost: £55 per person  \nFind out more at http://www.diversecymrutraining.org.uk/transgender-awareness/
URL:https://c3sc.org.uk/event-single/transgender-awareness-2/
LOCATION:Lysaght Institute\, Orb Drive off Corporation Road\, Newport NP19 0RA\, Lysaght Institute\, Orb Drive off Corporation Road\, Newport NP19 0RA
CATEGORIES:Training
END:VEVENT
BEGIN:VEVENT
DTSTART;TZID=Europe/London:20140129T093000
DTEND;TZID=Europe/London:20140129T160000
DTSTAMP:20260424T084325
CREATED:20140129T093000Z
LAST-MODIFIED:20140129T093000Z
UID:46326-1390987800-1391011200@c3sc.org.uk
SUMMARY:C3SC Training: Emergency First Aid at Work
DESCRIPTION:Fully booked \nThe course will cover: \n – The role of the first aider – Communicating with a casualty – Contents of first aid kits (and avoid cross infection) – Recording of incidents and accidents – Assessing situations and circumstances in order to act safely\, promptly and effectively in an emergency – Administer first aid to a casualty who: \n– is unconscious \n– requires cardio pulmonary resuscitation (CPR) \n– is choking \n– is wounded or bleeding \n– is in shock \n– has head injuries \n– has broken bones \n– suffering with anaphylactic shock and use of epi-pen \n– has minor conditions – to include: minor cuts\, grazes and bruises\, minor burns & scalds\, small splinters \n  \nThis course is for candidates who require an Appointed Persons First Aid or an accredited Emergency First Aid at Work (EFAW) certificate to comply with HSE requirements. \nQualification: EFAW/ APFA certificate\, valid for 3 years along with course handouts on successful completion and assessment of the course. \nRegistration from 9.15am
URL:https://c3sc.org.uk/event-single/c3sc-training-emergency-first-aid-at-work/
LOCATION:C3SC Offices\, Brunel House\, Cardiff\, C3SC Offices\, Brunel House\, Cardiff
CATEGORIES:Training
END:VEVENT
BEGIN:VEVENT
DTSTART;TZID=Europe/London:20140129T093000
DTEND;TZID=Europe/London:20140129T161500
DTSTAMP:20260424T084325
CREATED:20140129T093000Z
LAST-MODIFIED:20140129T093000Z
UID:46328-1390987800-1391012100@c3sc.org.uk
SUMMARY:Reducing Stress and Increasing Emotional Resilience
DESCRIPTION:A Diverse Cymru one-day course \nBy the end the session participants will: \n – Understand the basics of mindfulness – Experience a range of mindfulness practices – Understand the stress reaction cycle and its potential harmful effects – Identify common stress reaction patterns – Develop practical skills to cope more effectively with stressful situations \nCost: £85 per person    \nFind out more at http://www.diversecymrutraining.org.uk/reducing-stress-increasing-emo/
URL:https://c3sc.org.uk/event-single/reducing-stress-and-increasing-emotional-resilience-4/
LOCATION:Glamorgan Archives\, Clos Parc Morgannwg\, Leckwith\, Cardiff CF11 8AW\, Glamorgan Archives\, Clos Parc Morgannwg\, Leckwith\, Cardiff CF11 8AW
CATEGORIES:Training
END:VEVENT
END:VCALENDAR