BEGIN:VCALENDAR
VERSION:2.0
PRODID:-//C3SC - Cardiff Third Sector Council - ECPv6.15.17//NONSGML v1.0//EN
CALSCALE:GREGORIAN
METHOD:PUBLISH
X-ORIGINAL-URL:https://c3sc.org.uk
X-WR-CALDESC:Events for C3SC - Cardiff Third Sector Council
REFRESH-INTERVAL;VALUE=DURATION:PT1H
X-Robots-Tag:noindex
X-PUBLISHED-TTL:PT1H
BEGIN:VTIMEZONE
TZID:Europe/London
BEGIN:DAYLIGHT
TZOFFSETFROM:+0000
TZOFFSETTO:+0100
TZNAME:BST
DTSTART:20130331T010000
END:DAYLIGHT
BEGIN:STANDARD
TZOFFSETFROM:+0100
TZOFFSETTO:+0000
TZNAME:GMT
DTSTART:20131027T010000
END:STANDARD
BEGIN:DAYLIGHT
TZOFFSETFROM:+0000
TZOFFSETTO:+0100
TZNAME:BST
DTSTART:20140330T010000
END:DAYLIGHT
BEGIN:STANDARD
TZOFFSETFROM:+0100
TZOFFSETTO:+0000
TZNAME:GMT
DTSTART:20141026T010000
END:STANDARD
BEGIN:DAYLIGHT
TZOFFSETFROM:+0000
TZOFFSETTO:+0100
TZNAME:BST
DTSTART:20150329T010000
END:DAYLIGHT
BEGIN:STANDARD
TZOFFSETFROM:+0100
TZOFFSETTO:+0000
TZNAME:GMT
DTSTART:20151025T010000
END:STANDARD
END:VTIMEZONE
BEGIN:VEVENT
DTSTART;VALUE=DATE:20140106
DTEND;VALUE=DATE:20140109
DTSTAMP:20260424T072138
CREATED:20140106T000000Z
LAST-MODIFIED:20140106T000000Z
UID:46268-1388966400-1389225599@c3sc.org.uk
SUMMARY:Theatre Versus Oppression course: Body Language
DESCRIPTION:Ideal for: Nurses\, lawyers\, managers\, group leaders\, accountants\, actors\, directors\, social workers\, teachers\, police\, Prison guards and wardens\, volunteers and youth workers.  This is one of Theatre Versus Oppression’s most popular courses and is applicable for those working in a wide range of industries and businesses. Group Bookings – If you want to book a group of more than 5 people on this course they can offer a discount. Please let contact theatreversusoppression@gmail.com On the course you will learn how to read body language\, non-verbal communication\, signs and gestures which can be applied for work\, social\, and all kinds of relationships. \nFee £150 / Half Price for unemployed and student. Book by 1 December to receive a 20% discount.  \nTime: 6-9pm
URL:https://c3sc.org.uk/event-single/theatre-versus-oppression-course-body-language/
LOCATION:Theatre Versus Oppression\, Butetown History and Arts Centre\, Bute Street\, Cardiff Bay CF10 5AG\, Theatre Versus Oppression\, Butetown History and Arts Centre\, Bute Street\, Cardiff Bay CF10 5AG
CATEGORIES:Training
END:VEVENT
END:VCALENDAR