BEGIN:VCALENDAR
VERSION:2.0
PRODID:-//C3SC - Cardiff Third Sector Council - ECPv6.15.17//NONSGML v1.0//EN
CALSCALE:GREGORIAN
METHOD:PUBLISH
X-ORIGINAL-URL:https://c3sc.org.uk
X-WR-CALDESC:Events for C3SC - Cardiff Third Sector Council
REFRESH-INTERVAL;VALUE=DURATION:PT1H
X-Robots-Tag:noindex
X-PUBLISHED-TTL:PT1H
BEGIN:VTIMEZONE
TZID:Europe/London
BEGIN:DAYLIGHT
TZOFFSETFROM:+0000
TZOFFSETTO:+0100
TZNAME:BST
DTSTART:20100328T010000
END:DAYLIGHT
BEGIN:STANDARD
TZOFFSETFROM:+0100
TZOFFSETTO:+0000
TZNAME:GMT
DTSTART:20101031T010000
END:STANDARD
BEGIN:DAYLIGHT
TZOFFSETFROM:+0000
TZOFFSETTO:+0100
TZNAME:BST
DTSTART:20110327T010000
END:DAYLIGHT
BEGIN:STANDARD
TZOFFSETFROM:+0100
TZOFFSETTO:+0000
TZNAME:GMT
DTSTART:20111030T010000
END:STANDARD
BEGIN:DAYLIGHT
TZOFFSETFROM:+0000
TZOFFSETTO:+0100
TZNAME:BST
DTSTART:20120325T010000
END:DAYLIGHT
BEGIN:STANDARD
TZOFFSETFROM:+0100
TZOFFSETTO:+0000
TZNAME:GMT
DTSTART:20121028T010000
END:STANDARD
END:VTIMEZONE
BEGIN:VEVENT
DTSTART;VALUE=DATE:20110730
DTEND;VALUE=DATE:20110731
DTSTAMP:20260421T015136
CREATED:20110729T230000Z
LAST-MODIFIED:20110729T230000Z
UID:43958-1311984000-1312070399@c3sc.org.uk
SUMMARY:22nd Annual Cardiff MAS Carnival
DESCRIPTION:Cardiff MAS Carnival is a spectacular glitzy parade that brings Cardiff City Centre alive with hundreds of flamboyant costumes and carnival creations. \nAs well as beautifully detailed costumes\, in the Carnival you will see masks and headpieces\, giant puppets on backpacks and mobile sculptures – all dancing dynamically through the streets of Cardiff with a finale presentation at The Big Weekend on City Hall Lawn. \nThis year’s theme will be “MAGICK”. Young people aged over 12 years may take part unaccompanied\, providing registration forms are completed by their parent/guardian and children of all ages can take part if accompanied by an adult.
URL:https://c3sc.org.uk/event-single/22nd-annual-cardiff-mas-carnival/
LOCATION:Cardiff\, Cardiff
CATEGORIES:Event
END:VEVENT
END:VCALENDAR