BEGIN:VCALENDAR
VERSION:2.0
PRODID:-//C3SC - Cardiff Third Sector Council - ECPv6.15.17//NONSGML v1.0//EN
CALSCALE:GREGORIAN
METHOD:PUBLISH
X-WR-CALNAME:C3SC - Cardiff Third Sector Council
X-ORIGINAL-URL:https://c3sc.org.uk
X-WR-CALDESC:Events for C3SC - Cardiff Third Sector Council
REFRESH-INTERVAL;VALUE=DURATION:PT1H
X-Robots-Tag:noindex
X-PUBLISHED-TTL:PT1H
BEGIN:VTIMEZONE
TZID:Europe/London
BEGIN:DAYLIGHT
TZOFFSETFROM:+0000
TZOFFSETTO:+0100
TZNAME:BST
DTSTART:20190331T010000
END:DAYLIGHT
BEGIN:STANDARD
TZOFFSETFROM:+0100
TZOFFSETTO:+0000
TZNAME:GMT
DTSTART:20191027T010000
END:STANDARD
BEGIN:DAYLIGHT
TZOFFSETFROM:+0000
TZOFFSETTO:+0100
TZNAME:BST
DTSTART:20200329T010000
END:DAYLIGHT
BEGIN:STANDARD
TZOFFSETFROM:+0100
TZOFFSETTO:+0000
TZNAME:GMT
DTSTART:20201025T010000
END:STANDARD
BEGIN:DAYLIGHT
TZOFFSETFROM:+0000
TZOFFSETTO:+0100
TZNAME:BST
DTSTART:20210328T010000
END:DAYLIGHT
BEGIN:STANDARD
TZOFFSETFROM:+0100
TZOFFSETTO:+0000
TZNAME:GMT
DTSTART:20211031T010000
END:STANDARD
END:VTIMEZONE
BEGIN:VEVENT
DTSTART;TZID=Europe/London:20200130T100000
DTEND;TZID=Europe/London:20200130T130000
DTSTAMP:20260425T125517
CREATED:20200108T162305Z
LAST-MODIFIED:20200108T162305Z
UID:50372-1580378400-1580389200@c3sc.org.uk
SUMMARY:Your Money\, Your Council
DESCRIPTION:Join Diverse Cymru and C3SC to discuss your thoughts and views of what Cardiff Council should spend their money on. \nCardiff Council has to make savings and reduce how much it spends. \nThis have your say event is your chance to say what your priorities are.  \nWe will talk about: \n\nwhat should be cut\nwhat should not be cut\nhow services can be designed and delivered differently\, and \nCardiff Council’s budget ideas in their consultation for 2020-2021.\n\nThis event is for diverse individuals and community groups and third sector organisations in Cardiff  \nFree event. Tea\, coffee and biscuits provided.
URL:https://c3sc.org.uk/event-single/your-money-your-council/
LOCATION:The First Space Room\, Chapter Arts Centre\, Market Road\, Canton\, Cardiff\, CF5 1QE\, The First Space Room\, Chapter Arts Centre\, Market Road\, Canton\, Cardiff\, CF5 1QE
CATEGORIES:Event
END:VEVENT
END:VCALENDAR