BEGIN:VCALENDAR
VERSION:2.0
PRODID:-//C3SC - Cardiff Third Sector Council - ECPv6.15.17//NONSGML v1.0//EN
CALSCALE:GREGORIAN
METHOD:PUBLISH
X-WR-CALNAME:C3SC - Cardiff Third Sector Council
X-ORIGINAL-URL:https://c3sc.org.uk
X-WR-CALDESC:Events for C3SC - Cardiff Third Sector Council
REFRESH-INTERVAL;VALUE=DURATION:PT1H
X-Robots-Tag:noindex
X-PUBLISHED-TTL:PT1H
BEGIN:VTIMEZONE
TZID:Europe/London
BEGIN:DAYLIGHT
TZOFFSETFROM:+0000
TZOFFSETTO:+0100
TZNAME:BST
DTSTART:20180325T010000
END:DAYLIGHT
BEGIN:STANDARD
TZOFFSETFROM:+0100
TZOFFSETTO:+0000
TZNAME:GMT
DTSTART:20181028T010000
END:STANDARD
BEGIN:DAYLIGHT
TZOFFSETFROM:+0000
TZOFFSETTO:+0100
TZNAME:BST
DTSTART:20190331T010000
END:DAYLIGHT
BEGIN:STANDARD
TZOFFSETFROM:+0100
TZOFFSETTO:+0000
TZNAME:GMT
DTSTART:20191027T010000
END:STANDARD
BEGIN:DAYLIGHT
TZOFFSETFROM:+0000
TZOFFSETTO:+0100
TZNAME:BST
DTSTART:20200329T010000
END:DAYLIGHT
BEGIN:STANDARD
TZOFFSETFROM:+0100
TZOFFSETTO:+0000
TZNAME:GMT
DTSTART:20201025T010000
END:STANDARD
END:VTIMEZONE
BEGIN:VEVENT
DTSTART;TZID=Europe/London:20191205T180000
DTEND;TZID=Europe/London:20191205T200000
DTSTAMP:20260424T061531
CREATED:20191128T103822Z
LAST-MODIFIED:20191128T103822Z
UID:50345-1575568800-1575576000@c3sc.org.uk
SUMMARY:You are Cordially Invited to Race Council Cymru’s Signing of the Covenant
DESCRIPTION:(Via Race Council Wales)  \nDear Black History Friends and Family\,  \nThis event is sponsored by First Minister\, head of Armed forces and Chair of Race Council Cymru Judge Ray Singh CBE- food is provided please let Adele@racecouncilcymru.org.uk  know if you are attending.  \nMaximum attendees 200 pls register as once the event is full they will close off the list.  \nTransport will be provided from Swansea\, Port Talbot and Newport so let us know if you require transport. Event is at the Senedd on the 5th of December at 6pm.  \nAll welcome to attend!
URL:https://c3sc.org.uk/event-single/you-are-cordially-invited-to-race-council-cymrus-signing-of-the-covenant/
CATEGORIES:Event
ATTACH;FMTTYPE=image/jpeg:https://c3sc.org.uk/wp-content/uploads/signing_of_the_armed_forces_covenant.jpg
END:VEVENT
END:VCALENDAR