BEGIN:VCALENDAR
VERSION:2.0
PRODID:-//C3SC - Cardiff Third Sector Council - ECPv6.15.17//NONSGML v1.0//EN
CALSCALE:GREGORIAN
METHOD:PUBLISH
X-WR-CALNAME:C3SC - Cardiff Third Sector Council
X-ORIGINAL-URL:https://c3sc.org.uk
X-WR-CALDESC:Events for C3SC - Cardiff Third Sector Council
REFRESH-INTERVAL;VALUE=DURATION:PT1H
X-Robots-Tag:noindex
X-PUBLISHED-TTL:PT1H
BEGIN:VTIMEZONE
TZID:Europe/London
BEGIN:DAYLIGHT
TZOFFSETFROM:+0000
TZOFFSETTO:+0100
TZNAME:BST
DTSTART:20210328T010000
END:DAYLIGHT
BEGIN:STANDARD
TZOFFSETFROM:+0100
TZOFFSETTO:+0000
TZNAME:GMT
DTSTART:20211031T010000
END:STANDARD
BEGIN:DAYLIGHT
TZOFFSETFROM:+0000
TZOFFSETTO:+0100
TZNAME:BST
DTSTART:20220327T010000
END:DAYLIGHT
BEGIN:STANDARD
TZOFFSETFROM:+0100
TZOFFSETTO:+0000
TZNAME:GMT
DTSTART:20221030T010000
END:STANDARD
BEGIN:DAYLIGHT
TZOFFSETFROM:+0000
TZOFFSETTO:+0100
TZNAME:BST
DTSTART:20230326T010000
END:DAYLIGHT
BEGIN:STANDARD
TZOFFSETFROM:+0100
TZOFFSETTO:+0000
TZNAME:GMT
DTSTART:20231029T010000
END:STANDARD
END:VTIMEZONE
BEGIN:VEVENT
DTSTART;TZID=Europe/London:20220429T100000
DTEND;TZID=Europe/London:20220429T121500
DTSTAMP:20260420T062827
CREATED:20220325T135235Z
LAST-MODIFIED:20220325T135235Z
UID:64032-1651226400-1651234500@c3sc.org.uk
SUMMARY:Writing Successful Funding Bids
DESCRIPTION:Writing Successful Funding Bids: online training for Charities and non profit organisations in Cardiff. \nWriting Successful Funding Bids: online training session \nHosted by Cardiff Third Sector Council \nC3SC hosts a training event which aims to support Third Sector organisations in Cardiff to wrote better funding bids. \nThe course objectives are for participants to have an improved knowledge of \n\nThe tools and techniques you need to plan\, write and present winning bids\nHow to Understand and meet the expectations of funders\n\nThe event will be taking place on Teams or Zoom and the link will be sent through 24 hours prior to the event taking place. \nFor more information please contact C3SC on 07973725335 or enquiries@c3sc.org.uk
URL:https://c3sc.org.uk/event-single/writing-successful-funding-bids-2/
ATTACH;FMTTYPE=image/png:https://c3sc.org.uk/wp-content/uploads/C3SC-Eventbrite-Main-Event-Image-2.png
END:VEVENT
END:VCALENDAR