BEGIN:VCALENDAR
VERSION:2.0
PRODID:-//C3SC - Cardiff Third Sector Council - ECPv6.15.17//NONSGML v1.0//EN
CALSCALE:GREGORIAN
METHOD:PUBLISH
X-WR-CALNAME:C3SC - Cardiff Third Sector Council
X-ORIGINAL-URL:https://c3sc.org.uk
X-WR-CALDESC:Events for C3SC - Cardiff Third Sector Council
REFRESH-INTERVAL;VALUE=DURATION:PT1H
X-Robots-Tag:noindex
X-PUBLISHED-TTL:PT1H
BEGIN:VTIMEZONE
TZID:Europe/London
BEGIN:DAYLIGHT
TZOFFSETFROM:+0000
TZOFFSETTO:+0100
TZNAME:BST
DTSTART:20110327T010000
END:DAYLIGHT
BEGIN:STANDARD
TZOFFSETFROM:+0100
TZOFFSETTO:+0000
TZNAME:GMT
DTSTART:20111030T010000
END:STANDARD
BEGIN:DAYLIGHT
TZOFFSETFROM:+0000
TZOFFSETTO:+0100
TZNAME:BST
DTSTART:20120325T010000
END:DAYLIGHT
BEGIN:STANDARD
TZOFFSETFROM:+0100
TZOFFSETTO:+0000
TZNAME:GMT
DTSTART:20121028T010000
END:STANDARD
BEGIN:DAYLIGHT
TZOFFSETFROM:+0000
TZOFFSETTO:+0100
TZNAME:BST
DTSTART:20130331T010000
END:DAYLIGHT
BEGIN:STANDARD
TZOFFSETFROM:+0100
TZOFFSETTO:+0000
TZNAME:GMT
DTSTART:20131027T010000
END:STANDARD
END:VTIMEZONE
BEGIN:VEVENT
DTSTART;TZID=Europe/London:20120629T140000
DTEND;TZID=Europe/London:20120629T163000
DTSTAMP:20260426T033036
CREATED:20120629T130000Z
LAST-MODIFIED:20120629T130000Z
UID:44662-1340978400-1340987400@c3sc.org.uk
SUMMARY:Working towards a Code of Conduct for the Community Development Workforce in Wales
DESCRIPTION:As part of CDC’s work to support the Community Development Workforce in Wales\, a consultation event is to be held in Cardiff on Friday 29 June. \nThis workshop is an opportunity for you to engage in a dialogue and debate regarding the potential development of a Code of Conduct for the Community Development field. Your responses will then be included in the final report.
URL:https://c3sc.org.uk/event-single/working-towards-a-code-of-conduct-for-the-community-development-workforce-in-wales/
LOCATION:Equality and Human Rights Commission Building\, 3rd Floor\, Callaghan Square\, Cardiff CF10 5BT\, Equality and Human Rights Commission Building\, 3rd Floor\, Callaghan Square\, Cardiff CF10 5BT
CATEGORIES:Event
END:VEVENT
END:VCALENDAR