BEGIN:VCALENDAR
VERSION:2.0
PRODID:-//C3SC - Cardiff Third Sector Council - ECPv6.15.17//NONSGML v1.0//EN
CALSCALE:GREGORIAN
METHOD:PUBLISH
X-WR-CALNAME:C3SC - Cardiff Third Sector Council
X-ORIGINAL-URL:https://c3sc.org.uk
X-WR-CALDESC:Events for C3SC - Cardiff Third Sector Council
REFRESH-INTERVAL;VALUE=DURATION:PT1H
X-Robots-Tag:noindex
X-PUBLISHED-TTL:PT1H
BEGIN:VTIMEZONE
TZID:Europe/London
BEGIN:DAYLIGHT
TZOFFSETFROM:+0000
TZOFFSETTO:+0100
TZNAME:BST
DTSTART:20160327T010000
END:DAYLIGHT
BEGIN:STANDARD
TZOFFSETFROM:+0100
TZOFFSETTO:+0000
TZNAME:GMT
DTSTART:20161030T010000
END:STANDARD
BEGIN:DAYLIGHT
TZOFFSETFROM:+0000
TZOFFSETTO:+0100
TZNAME:BST
DTSTART:20170326T010000
END:DAYLIGHT
BEGIN:STANDARD
TZOFFSETFROM:+0100
TZOFFSETTO:+0000
TZNAME:GMT
DTSTART:20171029T010000
END:STANDARD
BEGIN:DAYLIGHT
TZOFFSETFROM:+0000
TZOFFSETTO:+0100
TZNAME:BST
DTSTART:20180325T010000
END:DAYLIGHT
BEGIN:STANDARD
TZOFFSETFROM:+0100
TZOFFSETTO:+0000
TZNAME:GMT
DTSTART:20181028T010000
END:STANDARD
END:VTIMEZONE
BEGIN:VEVENT
DTSTART;VALUE=DATE:20170912
DTEND;VALUE=DATE:20170913
DTSTAMP:20260425T165234
CREATED:20170818T102150Z
LAST-MODIFIED:20170818T102150Z
UID:49376-1505174400-1505260799@c3sc.org.uk
SUMMARY:Webinar: Project closure in the medium of Welsh
DESCRIPTION:This webinar will be delivered in Welsh. \n Aim To help organisations consider all the requirements of a structured project closure. \n Content A project by its definition is finite and always has a start\, middle and an end. Closing down a project is a key process in the overall lifecycle of a project but is frequently overlooked. This interactive webinar will help you to close down your project in a structured\, logical manner.  \n By the end of the course participants will: \n\nUnderstand the key components of project closure and their importance\nBe alert to problems that may need to be resolved in the closure stage\nBe able to start planning an effective closure\n\nBook online via the WCVA website
URL:https://c3sc.org.uk/event-single/webinar-project-closure-in-the-medium-of-welsh/
CATEGORIES:Training
END:VEVENT
END:VCALENDAR